BEGIN:VCALENDAR
VERSION:2.0
PRODID:-//Bham Now - ECPv6.15.20//NONSGML v1.0//EN
CALSCALE:GREGORIAN
METHOD:PUBLISH
X-ORIGINAL-URL:https://bhamnow.com
X-WR-CALDESC:Events for Bham Now
REFRESH-INTERVAL;VALUE=DURATION:PT1H
X-Robots-Tag:noindex
X-PUBLISHED-TTL:PT1H
BEGIN:VTIMEZONE
TZID:America/Chicago
BEGIN:DAYLIGHT
TZOFFSETFROM:-0600
TZOFFSETTO:-0500
TZNAME:CDT
DTSTART:20240310T080000
END:DAYLIGHT
BEGIN:STANDARD
TZOFFSETFROM:-0500
TZOFFSETTO:-0600
TZNAME:CST
DTSTART:20241103T070000
END:STANDARD
BEGIN:DAYLIGHT
TZOFFSETFROM:-0600
TZOFFSETTO:-0500
TZNAME:CDT
DTSTART:20250309T080000
END:DAYLIGHT
BEGIN:STANDARD
TZOFFSETFROM:-0500
TZOFFSETTO:-0600
TZNAME:CST
DTSTART:20251102T070000
END:STANDARD
BEGIN:DAYLIGHT
TZOFFSETFROM:-0600
TZOFFSETTO:-0500
TZNAME:CDT
DTSTART:20260308T080000
END:DAYLIGHT
BEGIN:STANDARD
TZOFFSETFROM:-0500
TZOFFSETTO:-0600
TZNAME:CST
DTSTART:20261101T070000
END:STANDARD
BEGIN:DAYLIGHT
TZOFFSETFROM:-0600
TZOFFSETTO:-0500
TZNAME:CDT
DTSTART:20270314T080000
END:DAYLIGHT
BEGIN:STANDARD
TZOFFSETFROM:-0500
TZOFFSETTO:-0600
TZNAME:CST
DTSTART:20271107T070000
END:STANDARD
END:VTIMEZONE
BEGIN:VEVENT
DTSTART;TZID=America/Chicago:20260220T190000
DTEND;TZID=America/Chicago:20260220T203000
DTSTAMP:20260420T171710
CREATED:20260204T162927Z
LAST-MODIFIED:20260204T162927Z
UID:10091712-1771614000-1771619400@bhamnow.com
SUMMARY:Calvin Sexton Presents: Winds of Change\, The Music of Jothan Callins
DESCRIPTION:The Carver Theater of Performing Arts\, South Arts\, and Alabama Jazz Hall of Fame present a special concert celebrating the music and legacy of Jothan Callins — educator\, mentor\, and pillar of Birmingham’s jazz history. \n📅 Friday\, February 20\n🕖 7:00 PM\n📍 Carver Theatre for the Performing Arts\n🏛️ Alabama Jazz Hall of Fame \nThis performance is part of my work as a grantee of the Jazz Roads Artist Residency Program\, allowing me to return to Birmingham and honor a legacy that shaped generations of musicians. \nExpect powerful music\, deep history\, and a night rooted in community\, excellence\, and forward motion. \n🎟️ Tickets available now https://brushfire.com/alabamajazzhalloffameinc/CalvSex/622880/tickets?fbclid=PAZnRzaAPtyJFleHRuA2FlbQIxMQBzcnRjBmFwcF9pZA8xMjQwMjQ1NzQyODc0MTQAAafBOzgX4sbnQBtcABjwU-N14ntTT5peiuLY1w0sUX7s2KmX8p8Dbv_dHVFzuA_aem_15mdyA5oTKeFTMEqFjloDg —\ndon’t wait.\nBring your people. Bring your love for jazz.\nLet’s fill the room.
URL:https://bhamnow.com/bhamn-event/calvin-sexton-presents-winds-of-change-the-music-of-jothan-callins/
LOCATION:Carver Theatre\, 1631 4th Avenue North\, Birmingham\, AL\, 35203\, United States
CATEGORIES:Jazz at the Carver,Jazz Night,Music
ATTACH;FMTTYPE=image/png:https://bhamnow.com/wp-content/uploads/2026/02/IMG_0779.png
END:VEVENT
BEGIN:VEVENT
DTSTART;TZID=America/Chicago:20251123T170000
DTEND;TZID=America/Chicago:20251123T180000
DTSTAMP:20260420T171710
CREATED:20250825T080520Z
LAST-MODIFIED:20251123T193621Z
UID:10084033-1763917200-1763920800@bhamnow.com
SUMMARY:Jazz on 4th: Dee Lucas
DESCRIPTION:  \nDate: November 23rd\, 2025 \nTime: 5:00 PM – 6:00 PM (Doors open at 4:30 PM) \nJoin the Alabama Jazz Hall of Fame at the Carver Theatre for our Sunday series\, Jazz on 4th! We’re thrilled to welcome Dee Lucas for a captivating live jazz performance. \nNational recording artist and saxophonist Dee Lucas has been noted as the most consistent and hardest-working indie artist in the entire music industry while steadily growing his brand and fan base\, beginning with Remembrance in 2004. This captivating artist is a 3-time Billboard smooth jazz artist with four #1 hits across various smooth jazz charts. \n  \nWe look forward to seeing you for an incredible night of live jazz! \n  \nPURCHASE YOUR TICKETS HERE!
URL:https://bhamnow.com/bhamn-event/jazz-on-4th-dee-lucas/
LOCATION:Carver Theatre\, 1631 4th Avenue North\, Birmingham\, AL\, 35203\, United States
CATEGORIES:Fun,Jazz at the Carver
ATTACH;FMTTYPE=image/jpeg:https://bhamnow.com/bhamn-event/jazz-on-4th-dee-lucas/image/gif;base64,R0lGODlhAQABAIAAAAAAAP/yH5BAEAAAAALAAAAAABAAEAAAIBRAA7
END:VEVENT
END:VCALENDAR