BEGIN:VCALENDAR
VERSION:2.0
PRODID:-//Bham Now - ECPv6.15.20//NONSGML v1.0//EN
CALSCALE:GREGORIAN
METHOD:PUBLISH
X-ORIGINAL-URL:https://bhamnow.com
X-WR-CALDESC:Events for Bham Now
REFRESH-INTERVAL;VALUE=DURATION:PT1H
X-Robots-Tag:noindex
X-PUBLISHED-TTL:PT1H
BEGIN:VTIMEZONE
TZID:America/Chicago
BEGIN:DAYLIGHT
TZOFFSETFROM:-0600
TZOFFSETTO:-0500
TZNAME:CDT
DTSTART:20250309T080000
END:DAYLIGHT
BEGIN:STANDARD
TZOFFSETFROM:-0500
TZOFFSETTO:-0600
TZNAME:CST
DTSTART:20251102T070000
END:STANDARD
BEGIN:DAYLIGHT
TZOFFSETFROM:-0600
TZOFFSETTO:-0500
TZNAME:CDT
DTSTART:20260308T080000
END:DAYLIGHT
BEGIN:STANDARD
TZOFFSETFROM:-0500
TZOFFSETTO:-0600
TZNAME:CST
DTSTART:20261101T070000
END:STANDARD
BEGIN:DAYLIGHT
TZOFFSETFROM:-0600
TZOFFSETTO:-0500
TZNAME:CDT
DTSTART:20270314T080000
END:DAYLIGHT
BEGIN:STANDARD
TZOFFSETFROM:-0500
TZOFFSETTO:-0600
TZNAME:CST
DTSTART:20271107T070000
END:STANDARD
END:VTIMEZONE
BEGIN:VEVENT
DTSTART;TZID=America/Chicago:20260213T190000
DTEND;TZID=America/Chicago:20260213T210000
DTSTAMP:20260423T194953
CREATED:20251206T155418Z
LAST-MODIFIED:20260213T003312Z
UID:10088385-1771009200-1771016400@bhamnow.com
SUMMARY:Jazz in a Glass: Love Notes Edition
DESCRIPTION:Grab your girls or plan a perfect date night—Jazz in a Glass is back at the historic Carver Theatre! \nThe Alabama Jazz Hall of Fame\, in partnership with Pour Crazy\, invites you to Jazz in a Glass: Love Notes Edition—an immersive cocktail-making experience where mixology meets the magic of jazz. \nAbout the Event \nJazz in a Glass is an interactive cocktail class that blends craft\, creativity\, and culture. Led by a professional mixologist\, guests will create three signature cocktails inspired by the bold\, smooth character of jazz icons. \nWhether you’re a cocktail lover\, a jazz fan\, or just looking for a unique night out\, this experience delivers an unforgettable mix of flavor\, music\, and fun—perfect for couples\, friends\, or solo guests. \nWhat to Expect \n\nHands-on instruction from expert mixologists\nThree jazz-inspired cocktail recipes featuring vodka\, gin\, and bourbon\nCurated jazz selections to set the perfect mood\nA relaxed\, social atmosphere ideal for mingling and making memories\nAll ingredients\, tools\, and glassware provided\n\nWhether you’re brand new to cocktail crafting or looking to elevate your skills\, this immersive 2-hour class will leave you with new techniques—and new favorite drinks—to enjoy long after the night ends. \nMust be 21+ with a valid ID to attend this event. \n  \nPURCHASE YOUR TICKETS HERE
URL:https://bhamnow.com/bhamn-event/jazz-in-a-glass-love-notes-edition/
LOCATION:Carver Theatre\, 1631 4th Avenue North\, Birmingham\, AL\, 35203\, United States
CATEGORIES:Fun,Jazz at the Carver,Special Events
ATTACH;FMTTYPE=image/png:https://bhamnow.com/wp-content/uploads/2025/12/thumbnail-jazz-in-a-glass-2-e1764961358246-GSHWak.png
END:VEVENT
END:VCALENDAR