BEGIN:VCALENDAR
VERSION:2.0
PRODID:-//Bham Now - ECPv6.15.20//NONSGML v1.0//EN
CALSCALE:GREGORIAN
METHOD:PUBLISH
X-WR-CALNAME:Bham Now
X-ORIGINAL-URL:https://bhamnow.com
X-WR-CALDESC:Events for Bham Now
REFRESH-INTERVAL;VALUE=DURATION:PT1H
X-Robots-Tag:noindex
X-PUBLISHED-TTL:PT1H
BEGIN:VTIMEZONE
TZID:America/Chicago
BEGIN:DAYLIGHT
TZOFFSETFROM:-0600
TZOFFSETTO:-0500
TZNAME:CDT
DTSTART:20250309T080000
END:DAYLIGHT
BEGIN:STANDARD
TZOFFSETFROM:-0500
TZOFFSETTO:-0600
TZNAME:CST
DTSTART:20251102T070000
END:STANDARD
BEGIN:DAYLIGHT
TZOFFSETFROM:-0600
TZOFFSETTO:-0500
TZNAME:CDT
DTSTART:20260308T080000
END:DAYLIGHT
BEGIN:STANDARD
TZOFFSETFROM:-0500
TZOFFSETTO:-0600
TZNAME:CST
DTSTART:20261101T070000
END:STANDARD
BEGIN:DAYLIGHT
TZOFFSETFROM:-0600
TZOFFSETTO:-0500
TZNAME:CDT
DTSTART:20270314T080000
END:DAYLIGHT
BEGIN:STANDARD
TZOFFSETFROM:-0500
TZOFFSETTO:-0600
TZNAME:CST
DTSTART:20271107T070000
END:STANDARD
END:VTIMEZONE
BEGIN:VEVENT
DTSTART;TZID=America/Chicago:20260430T170000
DTEND;TZID=America/Chicago:20260430T190000
DTSTAMP:20260420T155715
CREATED:20260403T031915Z
LAST-MODIFIED:20260420T093310Z
UID:10097733-1777568400-1777575600@bhamnow.com
SUMMARY:Jazz Happy Hour 4/30
DESCRIPTION:Mark your calendar for April 30! The Alabama Jazz Hall of Fame is thrilled to welcome Byron Thomas for this week’s Jazz Happy Hour. Bring a friend\, grab a drink\, and join us at the Carver Theatre for a smooth evening of live jazz and great vibes.
URL:https://bhamnow.com/bhamn-event/jazz-happy-hour-4-30/
LOCATION:Carver Theatre\, 1631 4th Avenue North\, Birmingham\, AL\, 35203\, United States
CATEGORIES:Fun,Jazz at the Carver
ATTACH;FMTTYPE=image/jpeg:https://bhamnow.com/wp-content/uploads/2026/04/byron-thomas-photo-LaoBfS.jpg
END:VEVENT
END:VCALENDAR