BEGIN:VCALENDAR
VERSION:2.0
PRODID:-//Bham Now - ECPv6.15.20//NONSGML v1.0//EN
CALSCALE:GREGORIAN
METHOD:PUBLISH
X-ORIGINAL-URL:https://bhamnow.com
X-WR-CALDESC:Events for Bham Now
REFRESH-INTERVAL;VALUE=DURATION:PT1H
X-Robots-Tag:noindex
X-PUBLISHED-TTL:PT1H
BEGIN:VTIMEZONE
TZID:America/Chicago
BEGIN:DAYLIGHT
TZOFFSETFROM:-0600
TZOFFSETTO:-0500
TZNAME:CDT
DTSTART:20240310T080000
END:DAYLIGHT
BEGIN:STANDARD
TZOFFSETFROM:-0500
TZOFFSETTO:-0600
TZNAME:CST
DTSTART:20241103T070000
END:STANDARD
BEGIN:DAYLIGHT
TZOFFSETFROM:-0600
TZOFFSETTO:-0500
TZNAME:CDT
DTSTART:20250309T080000
END:DAYLIGHT
BEGIN:STANDARD
TZOFFSETFROM:-0500
TZOFFSETTO:-0600
TZNAME:CST
DTSTART:20251102T070000
END:STANDARD
BEGIN:DAYLIGHT
TZOFFSETFROM:-0600
TZOFFSETTO:-0500
TZNAME:CDT
DTSTART:20260308T080000
END:DAYLIGHT
BEGIN:STANDARD
TZOFFSETFROM:-0500
TZOFFSETTO:-0600
TZNAME:CST
DTSTART:20261101T070000
END:STANDARD
BEGIN:DAYLIGHT
TZOFFSETFROM:-0600
TZOFFSETTO:-0500
TZNAME:CDT
DTSTART:20270314T080000
END:DAYLIGHT
BEGIN:STANDARD
TZOFFSETFROM:-0500
TZOFFSETTO:-0600
TZNAME:CST
DTSTART:20271107T070000
END:STANDARD
END:VTIMEZONE
BEGIN:VEVENT
DTSTART;TZID=America/Chicago:20260416T170000
DTEND;TZID=America/Chicago:20260416T190000
DTSTAMP:20260420T172303
CREATED:20260403T031913Z
LAST-MODIFIED:20260416T091808Z
UID:10097732-1776358800-1776366000@bhamnow.com
SUMMARY:Jazz Happy Hour 4/16
DESCRIPTION:Get ready for an exciting lineup this Thursday! The Alabama Jazz Hall of Fame is proud to welcome Halo Wheeler and her band for this week’s Jazz Happy Hour. Grab a drink\, bring a friend\, and head down to the Carver Theatre for an evening of unforgettable live jazz.
URL:https://bhamnow.com/bhamn-event/jazz-happy-hour-4-16/
LOCATION:Carver Theatre\, 1631 4th Avenue North\, Birmingham\, AL\, 35203\, United States
CATEGORIES:Fun,Jazz at the Carver
ATTACH;FMTTYPE=image/jpeg:https://bhamnow.com/wp-content/uploads/2026/04/halo-wheeler-photo-pkQsf8.jpg
END:VEVENT
BEGIN:VEVENT
DTSTART;TZID=America/Chicago:20260409T170000
DTEND;TZID=America/Chicago:20260409T190000
DTSTAMP:20260420T172303
CREATED:20260403T031910Z
LAST-MODIFIED:20260409T090425Z
UID:10097731-1775754000-1775761200@bhamnow.com
SUMMARY:Jazz Happy Hour 4/9
DESCRIPTION:Join us on April 9 for another great night of live jazz! The Alabama Jazz Hall of Fame is excited to feature the UAB Jazz Ensemble at this week’s Jazz Happy Hour. Bring a friend\, grab your favorite drink\, and make your way to the Carver Theatre for an evening filled with incredible music and energy.
URL:https://bhamnow.com/bhamn-event/jazz-happy-hour-4-9/
LOCATION:Carver Theatre\, 1631 4th Avenue North\, Birmingham\, AL\, 35203\, United States
CATEGORIES:Fun,Jazz at the Carver
ATTACH;FMTTYPE=image/jpeg:https://bhamnow.com/wp-content/uploads/2026/04/uab-jazz-ensemble-ODjuEX.jpg
END:VEVENT
BEGIN:VEVENT
DTSTART;TZID=America/Chicago:20260402T170000
DTEND;TZID=America/Chicago:20260402T190000
DTSTAMP:20260420T172303
CREATED:20260327T030313Z
LAST-MODIFIED:20260402T032022Z
UID:10096979-1775149200-1775156400@bhamnow.com
SUMMARY:Happy Hour Takeover: First Round at Carver Theatre
DESCRIPTION:On Thursday\, April 2nd\, from 5 to 7 PM at Carver Theatre\, join us for our premier networking event\, First Round! Enjoy a complimentary cocktail in Birmingham’s Historic Business District and two hours of networking with professionals from our region across all industries. Throughout the evening\, you’ll hear from local musician Jose Carr and have an opportunity to tour the Alabama Jazz Hall of Fame. This event is sponsored by Dex Imaging and hosted in partnership with Urban Impact. \nTickets are FREE for BBA investors and $25 for non-investors. \nStreet parking available along 4th Ave N and 17th St N\, paid parking lot on the corner of 3rd and 17th  \n  \n 
URL:https://bhamnow.com/bhamn-event/happy-hour-takeover-first-round-at-carver-theatre/
LOCATION:Carver Theatre\, 1631 4th Avenue North\, Birmingham\, AL\, 35203\, United States
CATEGORIES:Fun,Jazz at the Carver
ATTACH;FMTTYPE=image/webp:https://bhamnow.com/wp-content/uploads/2026/03/first-round-social-media-template-lqL4Po.webp
ORGANIZER;CN="Birmingham Business Alliance":MAILTO:info@birminghambusinessalliance.com
END:VEVENT
BEGIN:VEVENT
DTSTART;TZID=America/Chicago:20250828T170000
DTEND;TZID=America/Chicago:20250828T190000
DTSTAMP:20260420T172303
CREATED:20250814T070519Z
LAST-MODIFIED:20250828T080512Z
UID:10083916-1756400400-1756407600@bhamnow.com
SUMMARY:Jazz Happy Hour 8/28
DESCRIPTION:Date: 08/28 \nTime: 5:00 pm – 7:00 pm \nAdmission: FREE \nAttention\, Jazz lovers! Join us every Thursday at the Carver Theatre for Jazz Happy Hour. Sip on delicious cocktails while enjoying the sounds of live jazz music from Jose Carr. \n$1 off beer \n$5 pours \n$8 Margaritas \nWhether you’re vibin’ after work or just love good music and a great deal\, this is the best place to be
URL:https://bhamnow.com/bhamn-event/jazz-happy-hour-8-28/
LOCATION:Carver Theatre\, 1631 4th Avenue North\, Birmingham\, AL\, 35203\, United States
CATEGORIES:Fun,Jazz at the Carver
ATTACH;FMTTYPE=image/jpeg:https://jazzhall.com/wp-content/uploads/2025/04/jazz-happy-hour-official.png
END:VEVENT
BEGIN:VEVENT
DTSTART;TZID=America/Chicago:20250821T170000
DTEND;TZID=America/Chicago:20250821T190000
DTSTAMP:20260420T172303
CREATED:20250814T070518Z
LAST-MODIFIED:20250821T080514Z
UID:10083915-1755795600-1755802800@bhamnow.com
SUMMARY:Jazz Happy Hour 8/21
DESCRIPTION:Date: 08/21 \nTime: 5:00 pm – 7:00 pm \nAdmission: FREE \nAttention\, Jazz lovers! Join us every Thursday at the Carver Theatre for Jazz Happy Hour. Sip on delicious cocktails while enjoying the sounds of live jazz music from Jose Carr. \n$1 off beer \n$5 pours \n$8 Margaritas \nWhether you’re vibin’ after work or just love good music and a great deal\, this is the best place to be
URL:https://bhamnow.com/bhamn-event/jazz-happy-hour-8-21/
LOCATION:Carver Theatre\, 1631 4th Avenue North\, Birmingham\, AL\, 35203\, United States
CATEGORIES:Fun,Jazz at the Carver
ATTACH;FMTTYPE=image/jpeg:https://jazzhall.com/wp-content/uploads/2025/04/jazz-happy-hour-official.png
END:VEVENT
BEGIN:VEVENT
DTSTART;TZID=America/Chicago:20250814T170000
DTEND;TZID=America/Chicago:20250814T190000
DTSTAMP:20260420T172303
CREATED:20250814T070517Z
LAST-MODIFIED:20250814T070517Z
UID:10083914-1755190800-1755198000@bhamnow.com
SUMMARY:Jazz Happy Hour 8/14
DESCRIPTION:Date: 08/14 \nTime: 5:00 pm – 7:00 pm \nAdmission: FREE \nAttention\, Jazz lovers! Join us every Thursday at the Carver Theatre for Jazz Happy Hour. Sip on delicious cocktails while enjoying the sounds of live jazz music from Jose Carr. \n$1 off beer \n$5 pours \n$8 Margaritas \nWhether you’re vibin’ after work or just love good music and a great deal\, this is the best place to be.
URL:https://bhamnow.com/bhamn-event/jazz-happy-hour-8-14/
LOCATION:Carver Theatre\, 1631 4th Avenue North\, Birmingham\, AL\, 35203\, United States
CATEGORIES:Fun,Jazz at the Carver
ATTACH;FMTTYPE=image/jpeg:https://jazzhall.com/wp-content/uploads/2025/04/jazz-happy-hour-official.png
END:VEVENT
BEGIN:VEVENT
DTSTART;TZID=America/Chicago:20250731T170000
DTEND;TZID=America/Chicago:20250731T190000
DTSTAMP:20260420T172303
CREATED:20250619T202048Z
LAST-MODIFIED:20250731T032030Z
UID:10082540-1753981200-1753988400@bhamnow.com
SUMMARY:Jazz Happy Hour 7/31
DESCRIPTION:Date: 07/31 \nTime: 5:00 pm – 7:00 pm \nAdmission: FREE \nAttention\, Jazz lovers! Join us every Thursday at the Carver Theatre for Jazz Happy Hour. Sip on delicious cocktails while enjoying the sounds of live jazz music from Bo Berry’s Jazz Quartet. \n$1 off beer \n$5 pours \n$8 Margaritas \nWhether you’re vibin’ after work or just love good music and a great deal\, this is the best place to be.
URL:https://bhamnow.com/bhamn-event/jazz-happy-hour-7-31/
LOCATION:Carver Theatre\, 1631 4th Avenue North\, Birmingham\, AL\, 35203\, United States
CATEGORIES:Fun,Jazz at the Carver
ATTACH;FMTTYPE=image/jpeg:https://jazzhall.com/wp-content/uploads/2025/06/jazz-happy-hour-official-2.png
END:VEVENT
BEGIN:VEVENT
DTSTART;TZID=America/Chicago:20250724T170000
DTEND;TZID=America/Chicago:20250724T190000
DTSTAMP:20260420T172303
CREATED:20250619T202047Z
LAST-MODIFIED:20250724T021517Z
UID:10082539-1753376400-1753383600@bhamnow.com
SUMMARY:Jazz Happy Hour 7/24
DESCRIPTION:  \nDate: 07/24 \nTime: 5:00 pm – 7:00 pm \nAdmission: FREE (Happy Hour ONLY) \nJoin DJ Suaze and Rahdu on July 24th at the Carver Theatre for an unforgettable night! They are setting the mood with all-vinyl jazz selections in the lobby\, curated by the Shure Shot DJs! \n$1 off beer \n$5 pours \n$8 Margaritas \nWhether you’re sliding through after work or vibing with us early\, grab a drink\, catch the groove\, and stick around for a super dope headliner – the one and only Dear Silas. \nPULL UP. VIBE OUT. TELL A FRIEND.
URL:https://bhamnow.com/bhamn-event/jazz-happy-hour-7-24/
LOCATION:Carver Theatre\, 1631 4th Avenue North\, Birmingham\, AL\, 35203\, United States
CATEGORIES:Fun,Jazz at the Carver
ATTACH;FMTTYPE=image/jpeg:https://jazzhall.com/wp-content/uploads/2025/06/dj-happy-hour-official-1.png
END:VEVENT
BEGIN:VEVENT
DTSTART;TZID=America/Chicago:20250717T170000
DTEND;TZID=America/Chicago:20250717T190000
DTSTAMP:20260420T172303
CREATED:20250619T202046Z
LAST-MODIFIED:20250717T013515Z
UID:10082538-1752771600-1752778800@bhamnow.com
SUMMARY:Jazz Happy Hour 7/17
DESCRIPTION:Date: 07/17 \nTime: 5:00 pm – 7:00 pm \nAdmission: FREE \nAttention\, Jazz lovers! Join us every Thursday at the Carver Theatre for Jazz Happy Hour. Sip on delicious cocktails while enjoying the sounds of live jazz music from Jose Carr. \n$1 off beer \n$5 pours \n$8 Margaritas \nWhether you’re vibin’ after work or just love good music and a great deal\, this is the best place to be.
URL:https://bhamnow.com/bhamn-event/jazz-happy-hour-7-17/
LOCATION:Carver Theatre\, 1631 4th Avenue North\, Birmingham\, AL\, 35203\, United States
CATEGORIES:Fun,Jazz at the Carver
ATTACH;FMTTYPE=image/jpeg:https://jazzhall.com/wp-content/uploads/2025/04/jazz-happy-hour-official.png
END:VEVENT
BEGIN:VEVENT
DTSTART;TZID=America/Chicago:20250710T170000
DTEND;TZID=America/Chicago:20250710T190000
DTSTAMP:20260420T172303
CREATED:20250619T202045Z
LAST-MODIFIED:20250710T010514Z
UID:10082537-1752166800-1752174000@bhamnow.com
SUMMARY:Jazz Happy Hour 7/10
DESCRIPTION:Date: 07/10 \nTime: 5:00 pm – 7:00 pm \nAdmission: FREE \nAttention\, Jazz lovers! Join us every Thursday at the Carver Theatre for Jazz Happy Hour. Sip on delicious cocktails while enjoying the sounds of live jazz music from Jose Carr. \n$1 off beer \n$5 pours \n$8 Margaritas \nWhether you’re vibin’ after work or just love good music and a great deal\, this is the best place to be.
URL:https://bhamnow.com/bhamn-event/jazz-happy-hour-7-10/
LOCATION:Carver Theatre\, 1631 4th Avenue North\, Birmingham\, AL\, 35203\, United States
CATEGORIES:Fun,Jazz at the Carver
ATTACH;FMTTYPE=image/jpeg:https://jazzhall.com/wp-content/uploads/2025/04/jazz-happy-hour-official.png
END:VEVENT
BEGIN:VEVENT
DTSTART;TZID=America/Chicago:20250703T170000
DTEND;TZID=America/Chicago:20250703T190000
DTSTAMP:20260420T172303
CREATED:20250619T202044Z
LAST-MODIFIED:20250702T232018Z
UID:10082536-1751562000-1751569200@bhamnow.com
SUMMARY:Jazz Happy Hour 7/3
DESCRIPTION:Date: 07/03 \nTime: 5:00 pm – 7:00 pm \nAdmission: FREE \nAttention\, Jazz lovers! Join us every Thursday at the Carver Theatre for Jazz Happy Hour. Sip on delicious cocktails while enjoying the sounds of live jazz music from Jose Carr. \n$1 off beer \n$5 pours \n$8 Margaritas \nWhether you’re vibin’ after work or just love good music and a great deal\, this is the best place to be.
URL:https://bhamnow.com/bhamn-event/jazz-happy-hour-7-3/
LOCATION:Carver Theatre\, 1631 4th Avenue North\, Birmingham\, AL\, 35203\, United States
CATEGORIES:Fun,Jazz at the Carver
ATTACH;FMTTYPE=image/jpeg:https://jazzhall.com/wp-content/uploads/2025/04/jazz-happy-hour-official.png
END:VEVENT
BEGIN:VEVENT
DTSTART;TZID=America/Chicago:20250626T170000
DTEND;TZID=America/Chicago:20250626T190000
DTSTAMP:20260420T172303
CREATED:20250619T202041Z
LAST-MODIFIED:20250626T213514Z
UID:10082533-1750957200-1750964400@bhamnow.com
SUMMARY:Jazz Happy Hour 6/26
DESCRIPTION:  \n \nDate: 06/26 \nTime: 5:00 pm – 7:00 pm \nAdmission: FREE \nAttention\, Jazz lovers! Join us every Thursday at the Carver Theatre for Jazz Happy Hour. Sip on delicious cocktails while enjoying the sounds of live jazz music from Jose Carr. \n$1 off beer \n$5 pours \n$8 Margaritas \nWhether you’re vibin’ after work or just love good music and a great deal\, this is the best place to be.
URL:https://bhamnow.com/bhamn-event/jazz-happy-hour-6-26/
LOCATION:Carver Theatre\, 1631 4th Avenue North\, Birmingham\, AL\, 35203\, United States
CATEGORIES:Fun,Jazz at the Carver
ATTACH;FMTTYPE=image/jpeg:https://jazzhall.com/wp-content/uploads/2025/04/jazz-happy-hour-official.png
END:VEVENT
BEGIN:VEVENT
DTSTART;TZID=America/Chicago:20250619T170000
DTEND;TZID=America/Chicago:20250619T190000
DTSTAMP:20260420T172303
CREATED:20250619T202040Z
LAST-MODIFIED:20250619T213515Z
UID:10082532-1750352400-1750359600@bhamnow.com
SUMMARY:Jazz Happy Hour 6/19
DESCRIPTION:Date: 06/19 \nTime: 5:00 pm – 7:00 pm \nAdmission: FREE \nAttention\, Jazz lovers! Join us every Thursday at the Carver Theatre for Jazz Happy Hour. Sip on delicious cocktails while enjoying the sounds of live jazz music from Jose Carr. \n$1 off beer \n$5 pours \n$8 Margaritas \nWhether you’re vibin’ after work or just love good music and a great deal\, this is the best place to be. \n 
URL:https://bhamnow.com/bhamn-event/jazz-happy-hour-6-19/
LOCATION:Carver Theatre\, 1631 4th Avenue North\, Birmingham\, AL\, 35203\, United States
CATEGORIES:Fun,Jazz at the Carver
ATTACH;FMTTYPE=image/jpeg:https://jazzhall.com/wp-content/uploads/2025/04/jazz-happy-hour-official.png
END:VEVENT
BEGIN:VEVENT
DTSTART;TZID=America/Chicago:20250522T170000
DTEND;TZID=America/Chicago:20250522T190000
DTSTAMP:20260420T172303
CREATED:20250517T145013Z
LAST-MODIFIED:20250522T145017Z
UID:10081773-1747933200-1747940400@bhamnow.com
SUMMARY:SUN RA HAPPY HOUR
DESCRIPTION:Date: 05/22 \nTime: 5:00 pm – 7:00 pm \nAdmission: FREE \nAttention\, Jazz lovers! Join us for a special happy hour at the Carver Theatre for an unforgettable evening. Sip on delicious cocktails while enjoying the sounds of live jazz music from Jose Carr. This happy hour is in conjunction with the Sun Ra concert that begins at 8pm. Happy Hour is FREE to attend but you must have a ticket to attend the concert! \n$1 off beer \n$5 pours \n$8 Margaritas \nWe will be debuting our official Sun Ra inspired drink\, along with a special menu for this happy hour! Swing by the Carver and let the music take you on a ride – it’s going to be a jazzing good time!! \n  \nWant to attend the Sun Ra Arkestra Concert? Grab your tickets now: ticket link
URL:https://bhamnow.com/bhamn-event/sun-ra-happy-hour/
LOCATION:Carver Theatre\, 1631 4th Avenue North\, Birmingham\, AL\, 35203\, United States
CATEGORIES:Fun
ATTACH;FMTTYPE=image/jpeg:https://jazzhall.com/wp-content/uploads/2025/05/sun-ra-happy-hour-flyer.png
END:VEVENT
BEGIN:VEVENT
DTSTART;TZID=America/Chicago:20250515T170000
DTEND;TZID=America/Chicago:20250515T190000
DTSTAMP:20260420T172303
CREATED:20250513T143515Z
LAST-MODIFIED:20250515T143544Z
UID:10081681-1747328400-1747335600@bhamnow.com
SUMMARY:Jazz Happy Hour 05/15
DESCRIPTION:  \nDate: 05/15 (EVERY THURSDAY) \nTime: 5:00 pm – 7:00 pm \nAdmission: FREE \nAttention\, Jazz lovers! Join us back this Thursday at the iconic Carver Theatre for an unforgettable Jazz Happy Hour. Sip on delicious cocktails while enjoying the smooth sounds of live jazz music. Don’t miss out on the perfect blend of great vibes\, great drinks\, and even greater tunes. \n$1 off beer \n$5 pours \n$8 Margaritas \nSwing by the Carver and let the music take you on a ride – it’s going to be a jazzing good time!!
URL:https://bhamnow.com/bhamn-event/jazz-happy-hour-05-15/
LOCATION:Carver Theatre\, 1631 4th Avenue North\, Birmingham\, AL\, 35203\, United States
CATEGORIES:Fun
ATTACH;FMTTYPE=image/jpeg:https://jazzhall.com/wp-content/uploads/2025/04/jazz-happy-hour-official.png
END:VEVENT
BEGIN:VEVENT
DTSTART;TZID=America/Chicago:20250417T170000
DTEND;TZID=America/Chicago:20250417T190000
DTSTAMP:20260420T172303
CREATED:20250409T103514Z
LAST-MODIFIED:20250417T122016Z
UID:10080318-1744909200-1744916400@bhamnow.com
SUMMARY:Jazz Happy Hour ft. Jose Carr
DESCRIPTION:  \nDate: Starting 04/17 (EVERY THURSDAY) \nTime: 5:00 pm – 7:00 pm \nAdmission: FREE \nAttention\, Jazz lovers! Starting April 17th\, join us every Thursday at the iconic Carver Theatre for an unforgettable Jazz Happy Hour. Sip on delicious cocktails while enjoying the smooth sounds of live jazz music. Don’t miss out on the perfect blend of great vibes\, great drinks\, and even greater tunes. \nSwing by the Carver and let the music take you on a ride – it’s going to be a jazzing good time!!
URL:https://bhamnow.com/bhamn-event/jazz-happy-hour-ft-jose-carr/
LOCATION:Carver Theatre\, 1631 4th Avenue North\, Birmingham\, AL\, 35203\, United States
CATEGORIES:Fun,Jazz at the Carver
ATTACH;FMTTYPE=image/jpeg:https://jazzhall.com/wp-content/uploads/2025/04/jazz-happy-hour-official.png
END:VEVENT
END:VCALENDAR