BEGIN:VCALENDAR
VERSION:2.0
PRODID:-//Bham Now - ECPv6.15.20//NONSGML v1.0//EN
CALSCALE:GREGORIAN
METHOD:PUBLISH
X-ORIGINAL-URL:https://bhamnow.com
X-WR-CALDESC:Events for Bham Now
REFRESH-INTERVAL;VALUE=DURATION:PT1H
X-Robots-Tag:noindex
X-PUBLISHED-TTL:PT1H
BEGIN:VTIMEZONE
TZID:America/Chicago
BEGIN:DAYLIGHT
TZOFFSETFROM:-0600
TZOFFSETTO:-0500
TZNAME:CDT
DTSTART:20240310T080000
END:DAYLIGHT
BEGIN:STANDARD
TZOFFSETFROM:-0500
TZOFFSETTO:-0600
TZNAME:CST
DTSTART:20241103T070000
END:STANDARD
BEGIN:DAYLIGHT
TZOFFSETFROM:-0600
TZOFFSETTO:-0500
TZNAME:CDT
DTSTART:20250309T080000
END:DAYLIGHT
BEGIN:STANDARD
TZOFFSETFROM:-0500
TZOFFSETTO:-0600
TZNAME:CST
DTSTART:20251102T070000
END:STANDARD
BEGIN:DAYLIGHT
TZOFFSETFROM:-0600
TZOFFSETTO:-0500
TZNAME:CDT
DTSTART:20260308T080000
END:DAYLIGHT
BEGIN:STANDARD
TZOFFSETFROM:-0500
TZOFFSETTO:-0600
TZNAME:CST
DTSTART:20261101T070000
END:STANDARD
BEGIN:DAYLIGHT
TZOFFSETFROM:-0600
TZOFFSETTO:-0500
TZNAME:CDT
DTSTART:20270314T080000
END:DAYLIGHT
BEGIN:STANDARD
TZOFFSETFROM:-0500
TZOFFSETTO:-0600
TZNAME:CST
DTSTART:20271107T070000
END:STANDARD
END:VTIMEZONE
BEGIN:VEVENT
DTSTART;TZID=America/Chicago:20260221T080000
DTEND;TZID=America/Chicago:20260221T170000
DTSTAMP:20260419T163057
CREATED:20260116T155910Z
LAST-MODIFIED:20260116T155910Z
UID:10091508-1771660800-1771693200@bhamnow.com
SUMMARY:Rainbow Ventures Summit
DESCRIPTION:The Rainbow Ventures Summit is Alabama’s LGBTQ+ Entrepreneurship Conference. The conference is free and open to all\, but focused on connecting and supporting LGBTQ+ founders and CEOs of startups and small businesses. \nMeals will be provided for free\, to include: Coffee\, Lunch\, Snacks\, and Happy Hour Beverages (including non-alcoholic options). \nFriday\, February 20\, 2026\nNetworking and event kick off\n6:00 – 8:00 PM\nBirmingham Museum of Art (2000 Reverend Abraham Woods Jr Blvd\, Birmingham\, AL 35203) \nSaturday\, February 21\, 2026\nConference\, speakers\, vendor tables\, pitch competition\nAll day\nInnovation Depot (1500 1st Ave. N\, Birmingham\, AL 35203)
URL:https://bhamnow.com/bhamn-event/rainbow-ventures-summit-2/2026-02-21/
CATEGORIES:Business,Community,Conference
ATTACH;FMTTYPE=image/png:https://bhamnow.com/wp-content/uploads/2026/01/TE-RVS-stacked_transparent-1.png
END:VEVENT
BEGIN:VEVENT
DTSTART;TZID=America/Chicago:20251023T080000
DTEND;TZID=America/Chicago:20251023T160000
DTSTAMP:20260419T163057
CREATED:20250930T152628Z
LAST-MODIFIED:20250930T185853Z
UID:10085203-1761206400-1761235200@bhamnow.com
SUMMARY:PMI CENTRAL ALABAMA PROFESSIONAL DEVELOPMENT DAY
DESCRIPTION:This is the event for project professionals across Alabama! \nNot only will you walk away with actionable tools and insights\, but you’ll also earn over 6 PDUs.
URL:https://bhamnow.com/bhamn-event/pmi-central-alabama-professional-development-day-2/
LOCATION:Innovation Depot\, 1500 1st Ave N\, Birmingham\, Alabama\, 35203\, United States
CATEGORIES:Business,Downtown,Educational,Featured Events,Lunch & Learn,Meet & Greet,Panel,Panel Discussion,Special Event
ATTACH;FMTTYPE=image/png:https://bhamnow.com/wp-content/uploads/2025/09/PMICAC-FULL-LINEUP.png
GEO:33.5118393;-86.8125728
X-APPLE-STRUCTURED-LOCATION;VALUE=URI;X-ADDRESS=Innovation Depot 1500 1st Ave N Birmingham Alabama 35203 United States;X-APPLE-RADIUS=500;X-TITLE=1500 1st Ave N:geo:-86.8125728,33.5118393
END:VEVENT
END:VCALENDAR