BEGIN:VCALENDAR
VERSION:2.0
PRODID:-//Bham Now - ECPv6.15.20//NONSGML v1.0//EN
CALSCALE:GREGORIAN
METHOD:PUBLISH
X-ORIGINAL-URL:https://bhamnow.com
X-WR-CALDESC:Events for Bham Now
REFRESH-INTERVAL;VALUE=DURATION:PT1H
X-Robots-Tag:noindex
X-PUBLISHED-TTL:PT1H
BEGIN:VTIMEZONE
TZID:America/Chicago
BEGIN:DAYLIGHT
TZOFFSETFROM:-0600
TZOFFSETTO:-0500
TZNAME:CDT
DTSTART:20240310T080000
END:DAYLIGHT
BEGIN:STANDARD
TZOFFSETFROM:-0500
TZOFFSETTO:-0600
TZNAME:CST
DTSTART:20241103T070000
END:STANDARD
BEGIN:DAYLIGHT
TZOFFSETFROM:-0600
TZOFFSETTO:-0500
TZNAME:CDT
DTSTART:20250309T080000
END:DAYLIGHT
BEGIN:STANDARD
TZOFFSETFROM:-0500
TZOFFSETTO:-0600
TZNAME:CST
DTSTART:20251102T070000
END:STANDARD
BEGIN:DAYLIGHT
TZOFFSETFROM:-0600
TZOFFSETTO:-0500
TZNAME:CDT
DTSTART:20260308T080000
END:DAYLIGHT
BEGIN:STANDARD
TZOFFSETFROM:-0500
TZOFFSETTO:-0600
TZNAME:CST
DTSTART:20261101T070000
END:STANDARD
END:VTIMEZONE
BEGIN:VEVENT
DTSTART;TZID=America/Chicago:20251024T180000
DTEND;TZID=America/Chicago:20251024T210000
DTSTAMP:20260424T212004
CREATED:20251020T202903Z
LAST-MODIFIED:20251020T202903Z
UID:10086468-1761328800-1761339600@bhamnow.com
SUMMARY:Moonlight Movies feat. Hotel Transylvania
DESCRIPTION:Moonlight Movies is back at Lane Parke for some Halloween fun on Friday\, October 24th featuring\, Hotel Transylvania! In lieu of popcorn\, treat yourself to a to-go dinner or drink from one of our restaurants! Details on the best deals you can find coming soon! \nMovie will start at 6:15pm. Bring your lawn chair or blanket and we can’t wait to see you there! 🎬🌙
URL:https://bhamnow.com/bhamn-event/moonlight-movies-feat-hotel-transylvania/
LOCATION:Lane Parke\, 2683 Lane Parke Ct\, Mountain Brook\, AL\, 35223\, United States
CATEGORIES:Community,Events,Family Friendly Programs,Film Screening,Fun Outside,Movies
ATTACH;FMTTYPE=image/jpeg:https://bhamnow.com/wp-content/uploads/2025/10/HotelTransDigitalBuildout_1080x1080.jpg
GEO:33.4891056;-86.7743578
X-APPLE-STRUCTURED-LOCATION;VALUE=URI;X-ADDRESS=Lane Parke 2683 Lane Parke Ct Mountain Brook AL 35223 United States;X-APPLE-RADIUS=500;X-TITLE=2683 Lane Parke Ct:geo:-86.7743578,33.4891056
END:VEVENT
END:VCALENDAR