BEGIN:VCALENDAR
VERSION:2.0
PRODID:-//Bham Now - ECPv6.15.20//NONSGML v1.0//EN
CALSCALE:GREGORIAN
METHOD:PUBLISH
X-ORIGINAL-URL:https://bhamnow.com
X-WR-CALDESC:Events for Bham Now
REFRESH-INTERVAL;VALUE=DURATION:PT1H
X-Robots-Tag:noindex
X-PUBLISHED-TTL:PT1H
BEGIN:VTIMEZONE
TZID:America/Chicago
BEGIN:DAYLIGHT
TZOFFSETFROM:-0600
TZOFFSETTO:-0500
TZNAME:CDT
DTSTART:20250309T080000
END:DAYLIGHT
BEGIN:STANDARD
TZOFFSETFROM:-0500
TZOFFSETTO:-0600
TZNAME:CST
DTSTART:20251102T070000
END:STANDARD
BEGIN:DAYLIGHT
TZOFFSETFROM:-0600
TZOFFSETTO:-0500
TZNAME:CDT
DTSTART:20260308T080000
END:DAYLIGHT
BEGIN:STANDARD
TZOFFSETFROM:-0500
TZOFFSETTO:-0600
TZNAME:CST
DTSTART:20261101T070000
END:STANDARD
BEGIN:DAYLIGHT
TZOFFSETFROM:-0600
TZOFFSETTO:-0500
TZNAME:CDT
DTSTART:20270314T080000
END:DAYLIGHT
BEGIN:STANDARD
TZOFFSETFROM:-0500
TZOFFSETTO:-0600
TZNAME:CST
DTSTART:20271107T070000
END:STANDARD
END:VTIMEZONE
BEGIN:VEVENT
DTSTART;TZID=America/Chicago:20260423T190000
DTEND;TZID=America/Chicago:20260423T200000
DTSTAMP:20260422T021421
CREATED:20250721T174254Z
LAST-MODIFIED:20250721T174254Z
UID:10083133-1776970800-1776974400@bhamnow.com
SUMMARY:House Night - Long Form Improv
DESCRIPTION:Born and raised right here at Faraway Theater\, these new teams have been handpicked from our community and they’re guaranteed to make ya laugh. Enjoy our new weekly House Night at Faraway every Thursday!
URL:https://bhamnow.com/bhamn-event/house-night-long-form-improv/2026-04-23/
CATEGORIES:Comedy
ATTACH;FMTTYPE=image/png:https://bhamnow.com/wp-content/uploads/2025/07/25-win-HN-1.png
END:VEVENT
BEGIN:VEVENT
DTSTART;TZID=America/Chicago:20260425T110000
DTEND;TZID=America/Chicago:20260425T150000
DTSTAMP:20260422T021421
CREATED:20260317T193048Z
LAST-MODIFIED:20260317T193048Z
UID:10093005-1777114800-1777129200@bhamnow.com
SUMMARY:Celebrate Hoover Day 2026
DESCRIPTION:Hoover’s biggest community celebration is back — and everyone is invited!\nJoin thousands of families\, friends\, and visitors from across the Hoover area and beyond for Celebrate Hoover Day\, a free\, city-wide festival packed with fun\, food\, and entertainment for all ages. Every year thousands of people gather at beautiful Veterans Park for an unforgettable afternoon celebrating the spirit of Hoover.\nWhether you’re a longtime resident or visiting for the first time\, this is the perfect day to experience the energy\, hospitality\, and community that make Hoover such a special place.\nBring the kids\, invite your friends\, and spend the day enjoying everything from carnival rides to live entertainment — and don’t miss one of the most delicious traditions of the day…\n🥧 The Giant 10-Foot Apple Pie — served with ice cream!
URL:https://bhamnow.com/bhamn-event/celebrate-hoover-day-2026/
LOCATION:Veterans Park – 4800 Valleydale Road   Hoover AL 35216
ATTACH;FMTTYPE=image/jpeg:https://bhamnow.com/wp-content/uploads/2026/03/Copy-of-Copy-of-Black-and-White-Music-Festival-Facebook-Event-Cover.jpg
END:VEVENT
BEGIN:VEVENT
DTSTART;TZID=America/Chicago:20260428T180000
DTEND;TZID=America/Chicago:20260428T210000
DTSTAMP:20260422T021421
CREATED:20250625T173934Z
LAST-MODIFIED:20250625T173934Z
UID:10082676-1777399200-1777410000@bhamnow.com
SUMMARY:Spartan Pro Wrestling Presents: Academy Showcase
DESCRIPTION:Every Tuesday night at Gadsden Mall — enjoy the awesomeness of live pro wrestling. And the price of admission is FREE. \nSpartan Pro Wrestling presents Academy Showcase\, where rookies and newcomers from around the world perform for the Spartan Wrestling crowds.
URL:https://bhamnow.com/bhamn-event/spartan-pro-wrestling-presents-academy-showcase/2026-04-28/
ATTACH;FMTTYPE=image/jpeg:https://bhamnow.com/wp-content/uploads/2025/06/Spartan-Wrestling-Academy-Showcase.jpg
END:VEVENT
END:VCALENDAR