BEGIN:VCALENDAR
VERSION:2.0
PRODID:-//Bham Now - ECPv6.15.20//NONSGML v1.0//EN
CALSCALE:GREGORIAN
METHOD:PUBLISH
X-ORIGINAL-URL:https://bhamnow.com
X-WR-CALDESC:Events for Bham Now
REFRESH-INTERVAL;VALUE=DURATION:PT1H
X-Robots-Tag:noindex
X-PUBLISHED-TTL:PT1H
BEGIN:VTIMEZONE
TZID:America/Chicago
BEGIN:DAYLIGHT
TZOFFSETFROM:-0600
TZOFFSETTO:-0500
TZNAME:CDT
DTSTART:20240310T080000
END:DAYLIGHT
BEGIN:STANDARD
TZOFFSETFROM:-0500
TZOFFSETTO:-0600
TZNAME:CST
DTSTART:20241103T070000
END:STANDARD
BEGIN:DAYLIGHT
TZOFFSETFROM:-0600
TZOFFSETTO:-0500
TZNAME:CDT
DTSTART:20250309T080000
END:DAYLIGHT
BEGIN:STANDARD
TZOFFSETFROM:-0500
TZOFFSETTO:-0600
TZNAME:CST
DTSTART:20251102T070000
END:STANDARD
BEGIN:DAYLIGHT
TZOFFSETFROM:-0600
TZOFFSETTO:-0500
TZNAME:CDT
DTSTART:20260308T080000
END:DAYLIGHT
BEGIN:STANDARD
TZOFFSETFROM:-0500
TZOFFSETTO:-0600
TZNAME:CST
DTSTART:20261101T070000
END:STANDARD
BEGIN:DAYLIGHT
TZOFFSETFROM:-0600
TZOFFSETTO:-0500
TZNAME:CDT
DTSTART:20270314T080000
END:DAYLIGHT
BEGIN:STANDARD
TZOFFSETFROM:-0500
TZOFFSETTO:-0600
TZNAME:CST
DTSTART:20271107T070000
END:STANDARD
END:VTIMEZONE
BEGIN:VEVENT
DTSTART;TZID=America/Chicago:20260307T130000
DTEND;TZID=America/Chicago:20260307T160000
DTSTAMP:20260421T044646
CREATED:20260218T181045Z
LAST-MODIFIED:20260218T181045Z
UID:10092284-1772888400-1772899200@bhamnow.com
SUMMARY:4th Annual Mushroom Log Inoculation Workshop
DESCRIPTION:Earlybird Special: $10 off tickets purchased by February 21st!!\nGrow your own Shiitake and Oyster mushrooms! This workshop will equip you with the knowledge and skills to inoculate and care for your logs\, harvest your mushrooms\, learn cullinary uses\, medicinal benefits and more! \nThis is a hands on workshop\, with all materials provided. Each participant will drill\, inoculate and wax their own log to take home. \nAdditional Shiitake and Oyster logs may be purchased for a discounted cost of $15 per log at the workshop. With proper care\, mushroom logs should give you multiple flushes for a few years. \nWe may also have some plants and tree cuttings available for purchase the day of the event. Cash preferred\, Venmo and Cash App are accepted. \nAn email will be sent prior to the workshop to attendees with more detailed information about the workshop\, parking\, etc. \n***If you are unable to attend the workshop but would like to purchase a log\, a limited number of Shiitake and Oyster logs will be available for $20 each. DM us for more info. \nWorkshop is hosted by Birmingham Eastside EcoGardens
URL:https://bhamnow.com/bhamn-event/4th-annual-mushroom-log-inoculation-workshop/
LOCATION:Birmingham Eastside EcoGardens\, 601 West Blvd\, Birmingham\, AL\, 35206\, United States
CATEGORIES:Adult Classes,Community,Educational,EDUCATIONAL EVENT,Events,Fun Outside,Fundraiser,Garden,Gardening,Gardening Classes,Health,Health and Wellness,In-Person Events,Local Events,Nature,Special Event,Sustainability,Wellness,Workshop
ATTACH;FMTTYPE=image/jpeg:https://bhamnow.com/wp-content/uploads/2026/02/IMG_2340-scaled.jpg
END:VEVENT
BEGIN:VEVENT
DTSTART;TZID=America/Chicago:20251120T090000
DTEND;TZID=America/Chicago:20251120T170000
DTSTAMP:20260421T044646
CREATED:20251029T160315Z
LAST-MODIFIED:20251029T160315Z
UID:10087335-1763629200-1763658000@bhamnow.com
SUMMARY:The Neuro Spectrum: Interdisciplinary Approaches to Complex Disorders Symposium
DESCRIPTION:Join The Tanner Foundation for The Neuro Spectrum Symposium—bringing together providers\, caregivers\, and individuals to explore innovative research and collaborative advances in neurological care. On November 20\, 2025\, at the Vestavia Civic Center this full-day event brings together healthcare providers\, caregivers\, and individuals with lived experience to explore innovative research and collaborative care approaches in neurological health. Topics will include neuroplasticity\, immune system impacts\, and the latest updates in MS\, Parkinson’s Disease\, ALS\, and CIDP.\nThe morning session (free for individuals with lived experience) and afternoon session (for healthcare providers\, $50 with CEU credits provided) will feature leading experts from Alabama Neurology\, UAB\, and the Tanner Center for Neurological Diseases. A boxed lunch will be provided\, and the day will conclude with engaging flash talks showcasing new insights in neurological research. Register today at https://tannersymposium.swell.gives.
URL:https://bhamnow.com/bhamn-event/the-neuro-spectrum-interdisciplinary-approaches-to-complex-disorders-symposium/
LOCATION:Gold’s Gym\, 1090 Montgomery Hwy\, Vestavia Hills\, AL 35216\, USA\, 1542 Montgomery Hwy S\, Birmingham\, AL\, United States
CATEGORIES:Health,Health and Wellness
ATTACH;FMTTYPE=image/jpeg:https://bhamnow.com/wp-content/uploads/2025/10/pic-version-flyer-for-website.jpg
GEO:33.411552;-86.806424
X-APPLE-STRUCTURED-LOCATION;VALUE=URI;X-ADDRESS=Gold’s Gym 1090 Montgomery Hwy Vestavia Hills AL 35216 USA 1542 Montgomery Hwy S Birmingham AL United States;X-APPLE-RADIUS=500;X-TITLE=1542 Montgomery Hwy S:geo:-86.806424,33.411552
END:VEVENT
END:VCALENDAR