BEGIN:VCALENDAR
VERSION:2.0
PRODID:-//Bham Now - ECPv6.15.20//NONSGML v1.0//EN
CALSCALE:GREGORIAN
METHOD:PUBLISH
X-WR-CALNAME:Bham Now
X-ORIGINAL-URL:https://bhamnow.com
X-WR-CALDESC:Events for Bham Now
REFRESH-INTERVAL;VALUE=DURATION:PT1H
X-Robots-Tag:noindex
X-PUBLISHED-TTL:PT1H
BEGIN:VTIMEZONE
TZID:America/Chicago
BEGIN:DAYLIGHT
TZOFFSETFROM:-0600
TZOFFSETTO:-0500
TZNAME:CDT
DTSTART:20250309T080000
END:DAYLIGHT
BEGIN:STANDARD
TZOFFSETFROM:-0500
TZOFFSETTO:-0600
TZNAME:CST
DTSTART:20251102T070000
END:STANDARD
BEGIN:DAYLIGHT
TZOFFSETFROM:-0600
TZOFFSETTO:-0500
TZNAME:CDT
DTSTART:20260308T080000
END:DAYLIGHT
BEGIN:STANDARD
TZOFFSETFROM:-0500
TZOFFSETTO:-0600
TZNAME:CST
DTSTART:20261101T070000
END:STANDARD
BEGIN:DAYLIGHT
TZOFFSETFROM:-0600
TZOFFSETTO:-0500
TZNAME:CDT
DTSTART:20270314T080000
END:DAYLIGHT
BEGIN:STANDARD
TZOFFSETFROM:-0500
TZOFFSETTO:-0600
TZNAME:CST
DTSTART:20271107T070000
END:STANDARD
END:VTIMEZONE
BEGIN:VEVENT
DTSTART;TZID=America/Chicago:20260416T193000
DTEND;TZID=America/Chicago:20260503T213000
DTSTAMP:20260424T045242
CREATED:20260407T151530Z
LAST-MODIFIED:20260407T151530Z
UID:10097789-1776367800-1777843800@bhamnow.com
SUMMARY:The Events
DESCRIPTION:Claire\, an Anglican minister with a strong community agenda\, is grappling with unfathomable violence … triggering a spiritual crisis for Claire\, and igniting a quest for meaning. She needs to understand WHY? The Boy\, the perpetrator of the violence\, is an isolated\, troubled young man who also becomes every other character that Claire encounters and questions on her quest.
URL:https://bhamnow.com/bhamn-event/the-events-2/
LOCATION:Terrific New Theatre\, 2821 2nd Ave S Ste A\, Birmingham\, AL\, 35233\, United States
CATEGORIES:Downtown,Local Events
ATTACH;FMTTYPE=image/jpeg:https://bhamnow.com/wp-content/uploads/2026/04/05_Events-final-2.jpg
GEO:33.5160974;-86.7920443
X-APPLE-STRUCTURED-LOCATION;VALUE=URI;X-ADDRESS=Terrific New Theatre 2821 2nd Ave S Ste A Birmingham AL 35233 United States;X-APPLE-RADIUS=500;X-TITLE=2821 2nd Ave S Ste A:geo:-86.7920443,33.5160974
END:VEVENT
BEGIN:VEVENT
DTSTART;TZID=America/Chicago:20260419T143000
DTEND;TZID=America/Chicago:20260503T163000
DTSTAMP:20260424T045242
CREATED:20260407T151523Z
LAST-MODIFIED:20260407T151523Z
UID:10097791-1776609000-1777825800@bhamnow.com
SUMMARY:The Events
DESCRIPTION:David Grieg’s impactful play follows Claire\, an Anglican minister with a strong community agenda\, is grappling with unfathomable violence … triggering a spiritual crisis for Claire\, and igniting a quest for meaning. She needs to understand WHY? The Boy\, the perpetrator of the violence\, is an isolated\, troubled young man who also becomes every other character that Claire encounters and questions on her quest. \nEach night\, TNT hopes to have a different community choir performing on stage. The songs performed by the choir on stage chart Claire’s journey towards understanding. A
URL:https://bhamnow.com/bhamn-event/the-events/2026-04-19/2/
LOCATION:Terrific New Theatre\, 2821 2nd Ave S Ste A\, Birmingham\, AL\, 35233\, United States
CATEGORIES:Downtown,Local Events
ATTACH;FMTTYPE=image/jpeg:https://bhamnow.com/wp-content/uploads/2026/04/05_Events-final-2-1.jpg
GEO:33.5160974;-86.7920443
X-APPLE-STRUCTURED-LOCATION;VALUE=URI;X-ADDRESS=Terrific New Theatre 2821 2nd Ave S Ste A Birmingham AL 35233 United States;X-APPLE-RADIUS=500;X-TITLE=2821 2nd Ave S Ste A:geo:-86.7920443,33.5160974
END:VEVENT
BEGIN:VEVENT
DTSTART;TZID=America/Chicago:20260422T120000
DTEND;TZID=America/Chicago:20260424T120000
DTSTAMP:20260424T045242
CREATED:20260204T203117Z
LAST-MODIFIED:20260204T203117Z
UID:10092061-1776859200-1777032000@bhamnow.com
SUMMARY:APAC's 20th Annual Permanency Conference - A Legacy of Permanency: Celebrating 20 Years of Growth & Stability
DESCRIPTION:Trauma-Informed Adoption and Permanency Conference for Child Welfare Professionals and Caregivers Across Alabama\nHosted by Alabama Pre/Post Adoption Connections (APAC)\, a program of the Children’s Aid Society of Alabama\n💲 Registration: $275.00 for room and CEU certification\nFREE for all Alabama DHR staff in attendance \nFor 20 years\, the APAC Permanency Conference has served as Alabama’s premier adoption and child welfare training conference\, bringing together Alabama DHR staff\, clinicians\, social workers\, counselors\, child-serving professionals\, as well as foster and adoptive parents\, committed to permanency\, healing\, and healthy lifelong family connections. \nThis milestone year features nationally recognized keynote speaker Jamole Callahan\, a foster care alum and systems-change leader\, presenting “Rooted in Belonging.” His keynote reframes permanency as a lifelong promise built through relationships\, culture\, and community accountability. \nWhat to Expect: \n✔️ Trauma-informed\, adoption-competent workshops\n✔️ Practical tools for supporting foster and adopted children\n✔️ Strategies to strengthen permanency outcomes\n✔️ Content for professionals and caregivers across Alabama\n✔️ Opportunities for reflection\, renewal\, and connection \nWho Should Attend: \n– Alabama DHR staff\n– Social workers\, counselors\, and clinicians\n– Child welfare and youth-serving professionals\n– Foster & adoptive parents\n– Advocates supporting permanency and family stability \n🎓 Earn up to 13 CEU contact hours for social workers and counselors (including clinical\, ethics\, and supervision hours; details forthcoming). \nJoin us April 22nd – 24th at the Embassy Suites by Hilton\, Hoover and reconnect with your purpose\, strengthen your practice\, and recommit to ensuring every child experiences belonging\, stability\, and family. \nRegister today to secure your spot https://bit.ly/APACPermanency2026.
URL:https://bhamnow.com/bhamn-event/apacs-20th-annual-permanency-conference-a-legacy-of-permanency-celebrating-20-years-of-growth-stability/
CATEGORIES:Adult Classes,Agency Training,Conference
ATTACH;FMTTYPE=image/png:https://bhamnow.com/wp-content/uploads/2026/02/Perm.-Conf.-2026-Final-Compressed.png
END:VEVENT
BEGIN:VEVENT
DTSTART;TZID=America/Chicago:20260425T180000
DTEND;TZID=America/Chicago:20260425T210000
DTSTAMP:20260424T045242
CREATED:20260304T213719Z
LAST-MODIFIED:20260304T213719Z
UID:10092826-1777140000-1777150800@bhamnow.com
SUMMARY:Books-A-Million Presents: An Evening with with Dog Man and Captain Underpants Creator Dav Pilkey
DESCRIPTION:Books-A-Million Proudly Presents Dav Pilkey\, #1 Worldwide Bestselling Author and Illustrator of Dog Man\, Captain Underpants\, and Cat Kid Comic Club \nSaturday\, April 25 at 6:00 PM CT (Doors open at 5:00 PM) \nJemison Concert Hall at Alys Stephens Center\n1200 10th Avenue South\, Birmingham\, AL 35205 \nJoin us for an epic family fun event! \nTHE EVENT EXPERIENCE: \nThis in-person event will feature a visual presentation and live drawing session featuring author and illustrator Dav Pilkey! Plus trivia with special prizes! The program will run approximately 30 minutes long\, followed by a photo opportunity with Dav Pilkey. \nIn addition to the above\, there will be fun activities including a photo-opportunity with the Captain Underpants and Dog Man costume characters\, exclusive giveaways\, and more. \nAttendees are encouraged to power up and dress up as Captain Underpants\, Dog Man\, Cat Kid\, or your favorite Dav Pilkey book character! \nABOUT THE EVENT + TICKETS: \nEach ticket costs $25.00 (inclusive of all taxes and fees) and includes the event experience plus a pre-signed copy of Captain Underpants: The First Epic Manga\, written and adapted by Dav Pilkey\, with full color illustrations by Japanese manga artist Motojiro — plus a limited edition Captain Underpants hypno ring! \nYour pre-signed copy of Captain Underpants: The First Epic Manga with hypno ring will be available for pick-up as you enter the event. \nInspired by one of the themes in Dav Pilkey’s books about the importance of doing good\, if you wish to give away any of your extra signed books\, we are happy to donate it on your behalf to our literacy organization partner\, Better Basics. \nHELPFUL TIPS/GUIDELINES: \nFor guidelines\, please check with the bookstore/event host. Due to the number of people waiting in line for the photo opportunity with Dav Pilkey\, it is very much appreciated these guidelines are followed. \nParking—Street parking\, UAB Zone lots F1 and F3 (F3 is located behind AEIVA) – are available. Weekday parking varies based on the event. Accessible spaces are in Zone F-3\, and on 10th Avenue South and the lower circle. Patron drop-off areas are in upper and lower circles. The gated lot is for Arts Circle level and above members and corporate sponsors. \nZone F-1\n1091 10th Ave S Birmingham\, Alabama 35233 \nZone F-2 (Reserved for Members and Sponsors)\n1100 12th St S Birmingham\, Alabama 35233 \nZone F-3 (Best Option)\n1245 11th Ave S Birmingham\, Alabama 35233 \nAccessibility Parking // During performances and evening rentals\, the metered spaces between the Center and UAB’s Spencer Honors House will be restricted to those with disability access parking permits. The upper and lower circle driveways may be used as a drop-off for patrons with a disability. \nTo ensure Dav has the opportunity to meet all families in attendance\, he will not be signing or personalizing books during the photo line. \nIf you have any questions about the event\, please contact Books-A-Million at 205-661-9177. \nThank you and we look forward to seeing you at this supa epic event! \nAbout Captain Underpants\nOriginally created by Dav Pilkey when he was alone in his elementary school hallway in second grade\, the Captain Underpants series follows the adventures of fourth graders\, George Beard and Harold Hutchins\, who love to create comics and who hypnotize their school principal and turn him into their comic book creation\, Captain Underpants. Publishers Weekly praised Captain Underpants as “subversively hilarious.” Newsweek called Captain Underpants “a triumph of irreverence\,” Slate.com hailed the series “slyly intelligent…revolutionary\,” and Entertainment Weekly called it “irresistible.” Captain Underpants has won multiple state book awards\, many of which were voted on by children. USA Today called Dav Pilkey “the savior of the reluctant reader.” \nLaunched nearly 30 years ago\, the Captain Underpants series has more than 90 million copies in print to date and translations in 37 languages. DreamWorks Animation released Captain Underpants: The First Epic Movie in theaters worldwide. The film featured the voices of Kevin Hart (George Beard)\, Thomas Middleditch (Harold Hutchins)\, Ed Helms (Captain Underpants)\, Nick Kroll (Professor Poopypants)\, and Jordan Peele (Melvin). \nAbout Dav Pilkey\nDav Pilkey has created over 75 books for children and was awarded a Caldecott Honor for his picture book The Paperboy. When Dav Pilkey was in second grade\, he was diagnosed with dyslexia and what is now widely known as attention deficit hyperactivity disorder (ADHD). Because of his learning and behavioral issues in school\, he was often sent out in the hallway. It was in his elementary school hallway where he created comic books about superheroes that eventually became Captain Underpants and Dog Man. Pilkey’s blockbuster phenomenon Dog Man released in 2016 has more than 70 million copies in print to date\, translations in 50 languages\, and is one of the bestselling graphic novel series of all time. The hit movie adaptation of Dog Man was released by DreamWorks Animation and Universal Pictures featuring the voices of Pete Davidson\, Isla Fisher\, Lil Rel Howery\, and Ricky Gervais. Cat Kid Comic Club series\, a spin-off of Dog Man which highlights how lessons in creativity often reflect lessons in real life\, is also a #1 worldwide bestseller\, translated in 28 languages to date\, and has been adapted to a hit musical from TheaterworksUSA. Dav’s first graphic novel\, The Adventures of Super Diaper Baby\, was published 24 years ago and became an instant national bestseller. For more information about Dav Pilkey and his books\, visit the Mediaroom HERE.
URL:https://bhamnow.com/bhamn-event/books-a-million-presents-an-evening-with-with-dog-man-and-captain-underpants-creator-dav-pilkey/
LOCATION:Alys Stephens Center\, Jemison Concert Hall\, 1200 10th Avenue South\, Birmingham\, AL\, 35294\, United States
CATEGORIES:Downtown,Events,Family Friendly Programs,Local Events,Special Events,Special Speaker,Uab,Youth
ATTACH;FMTTYPE=image/png:https://bhamnow.com/wp-content/uploads/2026/03/DP-Tour_2026_CaptManga_indiv-events_EventBriteheader_BirminghamAL_v2_BAMlogo.png
GEO:33.4971186;-86.8078397
X-APPLE-STRUCTURED-LOCATION;VALUE=URI;X-ADDRESS=Alys Stephens Center Jemison Concert Hall 1200 10th Avenue South Birmingham AL 35294 United States;X-APPLE-RADIUS=500;X-TITLE=1200 10th Avenue South:geo:-86.8078397,33.4971186
END:VEVENT
BEGIN:VEVENT
DTSTART;TZID=America/Chicago:20260427T183000
DTEND;TZID=America/Chicago:20260427T230000
DTSTAMP:20260424T045242
CREATED:20251119T171706Z
LAST-MODIFIED:20251119T171706Z
UID:10088017-1777314600-1777330800@bhamnow.com
SUMMARY:Monologue Mondays
DESCRIPTION:🎭 Monologue Mondays are back—now at Birmingham Festival Theatre! Join us tonight for a one-of-a-kind open mic night where performers take center stage to share their favorite monologues\, scenes\, or original pieces. Whether you’re stepping into the spotlight or cheering from the audience\, you’re guaranteed a fun\, inspiring evening filled with creativity and connection. Sign up in advance at www.bftonline.org\nor just come on down—walk-ups are always welcome!
URL:https://bhamnow.com/bhamn-event/monologue-mondays/2026-04-27/
LOCATION:Birmingham Festival Theatre\, 1901 1/2 11TH AVENUE SOUTH\, Birmingham\, Alabama\, 35205\, United States
CATEGORIES:Downtown,Events,Poetry
ATTACH;FMTTYPE=image/jpeg:https://bhamnow.com/wp-content/uploads/2025/11/580799381_18435578527103170_6397056730450234802_n.jpg
GEO:33.4998589;-86.7973021
X-APPLE-STRUCTURED-LOCATION;VALUE=URI;X-ADDRESS=Birmingham Festival Theatre 1901 1/2 11TH AVENUE SOUTH Birmingham Alabama 35205 United States;X-APPLE-RADIUS=500;X-TITLE=1901 1/2 11TH AVENUE SOUTH:geo:-86.7973021,33.4998589
END:VEVENT
BEGIN:VEVENT
DTSTART;TZID=America/Chicago:20260430T190000
DTEND;TZID=America/Chicago:20260430T200000
DTSTAMP:20260424T045242
CREATED:20250721T174254Z
LAST-MODIFIED:20250721T174254Z
UID:10083134-1777575600-1777579200@bhamnow.com
SUMMARY:House Night - Long Form Improv
DESCRIPTION:Born and raised right here at Faraway Theater\, these new teams have been handpicked from our community and they’re guaranteed to make ya laugh. Enjoy our new weekly House Night at Faraway every Thursday!
URL:https://bhamnow.com/bhamn-event/house-night-long-form-improv/2026-04-30/
CATEGORIES:Comedy
ATTACH;FMTTYPE=image/png:https://bhamnow.com/wp-content/uploads/2025/07/25-win-HN-1.png
END:VEVENT
END:VCALENDAR