BEGIN:VCALENDAR
VERSION:2.0
PRODID:-//Bham Now - ECPv6.15.20//NONSGML v1.0//EN
CALSCALE:GREGORIAN
METHOD:PUBLISH
X-ORIGINAL-URL:https://bhamnow.com
X-WR-CALDESC:Events for Bham Now
REFRESH-INTERVAL;VALUE=DURATION:PT1H
X-Robots-Tag:noindex
X-PUBLISHED-TTL:PT1H
BEGIN:VTIMEZONE
TZID:America/Chicago
BEGIN:DAYLIGHT
TZOFFSETFROM:-0600
TZOFFSETTO:-0500
TZNAME:CDT
DTSTART:20240310T080000
END:DAYLIGHT
BEGIN:STANDARD
TZOFFSETFROM:-0500
TZOFFSETTO:-0600
TZNAME:CST
DTSTART:20241103T070000
END:STANDARD
BEGIN:DAYLIGHT
TZOFFSETFROM:-0600
TZOFFSETTO:-0500
TZNAME:CDT
DTSTART:20250309T080000
END:DAYLIGHT
BEGIN:STANDARD
TZOFFSETFROM:-0500
TZOFFSETTO:-0600
TZNAME:CST
DTSTART:20251102T070000
END:STANDARD
BEGIN:DAYLIGHT
TZOFFSETFROM:-0600
TZOFFSETTO:-0500
TZNAME:CDT
DTSTART:20260308T080000
END:DAYLIGHT
BEGIN:STANDARD
TZOFFSETFROM:-0500
TZOFFSETTO:-0600
TZNAME:CST
DTSTART:20261101T070000
END:STANDARD
BEGIN:DAYLIGHT
TZOFFSETFROM:-0600
TZOFFSETTO:-0500
TZNAME:CDT
DTSTART:20270314T080000
END:DAYLIGHT
BEGIN:STANDARD
TZOFFSETFROM:-0500
TZOFFSETTO:-0600
TZNAME:CST
DTSTART:20271107T070000
END:STANDARD
END:VTIMEZONE
BEGIN:VEVENT
DTSTART;TZID=America/Chicago:20260220T120000
DTEND;TZID=America/Chicago:20260220T143000
DTSTAMP:20260424T011532
CREATED:20260219T194012Z
LAST-MODIFIED:20260219T194012Z
UID:10092316-1771588800-1771597800@bhamnow.com
SUMMARY:YouthSpeak
DESCRIPTION:Councilor Crystal Smitherman will host the fifth annual YouthSpeak event\, a community-centered Black History Month showcase\, this Friday\, February 20\, beginning at 12 p.m. at Red Mountain Theatre. Presented in partnership with Red Mountain Theatre\, YouthSpeak will showcase the talents of students from Birmingham City Schools through performances celebrating Black history and culture. This event is FREE to the public and will feature dance and choir presentations\, as well as a student poetry competition. \nCommunity members who are unable to attend in person can watch the event via livestream on the Birmingham City Council’s Facebook page.
URL:https://bhamnow.com/bhamn-event/youthspeak/
LOCATION:Red Mountain Theatre\, 1600 3rd Avenue South\, Birmingham\, AL\, 35233\, United States
CATEGORIES:Arts,Community,Events,Featured Event,In-Person Events,Local Events,Music,Special Event,Youth,Youth Education,Youth Support
ATTACH;FMTTYPE=image/png:https://bhamnow.com/wp-content/uploads/2026/02/Youthspeak2026-1-scaled.png
GEO:33.5132286;-86.7851857
X-APPLE-STRUCTURED-LOCATION;VALUE=URI;X-ADDRESS=Red Mountain Theatre 1600 3rd Avenue South Birmingham AL 35233 United States;X-APPLE-RADIUS=500;X-TITLE=1600 3rd Avenue South:geo:-86.7851857,33.5132286
END:VEVENT
BEGIN:VEVENT
DTSTART;TZID=America/Chicago:20250928T140000
DTEND;TZID=America/Chicago:20250928T190000
DTSTAMP:20260424T011532
CREATED:20250818T201035Z
LAST-MODIFIED:20250818T201035Z
UID:10083919-1759068000-1759086000@bhamnow.com
SUMMARY:Blues at the Ball Park
DESCRIPTION:Join District 8 and Councilor Carol Clarke for the Blues at the Ballpark event on Sunday\, September 28th\, from 2:00 PM to 7:00 PM. Enjoy an afternoon filled with live blues entertainment featuring MC-MZ Aretta\, Hurricane Elaine\, the Garry Burnside Band\, Mz. Lowe\, and Bobby Rush. There will also be delicious food available from various food trucks! So grab your lawn chairs\, bring your friends\, and join us for this FREE event. Get ready to groove!
URL:https://bhamnow.com/bhamn-event/blues-at-the-ball-park-2/
LOCATION:Rickwood Field\, 1137 2nd Ave W\, Birmingham\, AL\, 35204\, us
CATEGORIES:Community,Concert,Events,Food Trucks,Fun Outside,Music
ATTACH;FMTTYPE=image/png:https://bhamnow.com/wp-content/uploads/2025/08/D8-BluesPoster-1-scaled.png
GEO:33.5026938;-86.8556882
X-APPLE-STRUCTURED-LOCATION;VALUE=URI;X-ADDRESS=Rickwood Field 1137 2nd Ave W Birmingham AL 35204 us;X-APPLE-RADIUS=500;X-TITLE=1137 2nd Ave W:geo:-86.8556882,33.5026938
END:VEVENT
BEGIN:VEVENT
DTSTART;TZID=America/Chicago:20250928T140000
DTEND;TZID=America/Chicago:20250928T190000
DTSTAMP:20260424T011532
CREATED:20250811T161631Z
LAST-MODIFIED:20250811T161631Z
UID:10083898-1759068000-1759086000@bhamnow.com
SUMMARY:Blues at the Ball Park
DESCRIPTION:Join District 8 and Councilor Carol Clarke for the Blues at the Ball Park event on Sunday\, September 28th\, from 2:00 PM to 7:00 PM. Enjoy an afternoon filled with live blues entertainment featuring MC-MZ Aretta\, Hurricane Elaine\, the Garry Burnside Band\, Mz. Lowe\, and Bobby Rush. There will also be delicious food available from various food trucks! So grab your lawn chairs\, bring your friends\, and join us for this FREE event. Get ready to groove!
URL:https://bhamnow.com/bhamn-event/blues-at-the-ball-park/
LOCATION:Rickwood Field\, 1137 2nd Ave W\, Birmingham\, AL\, 35204\, us
CATEGORIES:In-Person Events,Music,Special Events
ATTACH;FMTTYPE=image/png:https://bhamnow.com/wp-content/uploads/2025/08/D8-BluesPoster-scaled.png
GEO:33.5026938;-86.8556882
X-APPLE-STRUCTURED-LOCATION;VALUE=URI;X-ADDRESS=Rickwood Field 1137 2nd Ave W Birmingham AL 35204 us;X-APPLE-RADIUS=500;X-TITLE=1137 2nd Ave W:geo:-86.8556882,33.5026938
END:VEVENT
BEGIN:VEVENT
DTSTART;TZID=America/Chicago:20250419T083000
DTEND;TZID=America/Chicago:20250419T133000
DTSTAMP:20260424T011532
CREATED:20250402T191035Z
LAST-MODIFIED:20250402T191035Z
UID:10079605-1745051400-1745069400@bhamnow.com
SUMMARY:Be Neighborly: District 9 Community Improvement Day
DESCRIPTION:Councilor LaTonya Tate and District 9 have partnered with HouseProud Atlanta to provide essential home repairs for residents of the Sherman Heights neighborhood on Saturday\, April 19th. Volunteers will help residents with critical home repairs\, beautification projects\, and community revitalization efforts. \nHouseProud will provide volunteers with breakfast\, lunch\, entertainment\, and all the tools and supplies needed. \nRegister to volunteer!
URL:https://bhamnow.com/bhamn-event/be-neighborly-district-9-community-improvement-day/
LOCATION:AL
CATEGORIES:Community,Volunteer Opportunities,Volunteer Opportunity
ATTACH;FMTTYPE=image/jpeg:https://bhamnow.com/wp-content/uploads/2025/04/District9Flyer_beneighborly.jpg
END:VEVENT
BEGIN:VEVENT
DTSTART;TZID=America/Chicago:20250412T083000
DTEND;TZID=America/Chicago:20250412T133000
DTSTAMP:20260424T011532
CREATED:20250331T172730Z
LAST-MODIFIED:20250331T172730Z
UID:10079498-1744446600-1744464600@bhamnow.com
SUMMARY:Be Neighborly: District 5 Community Improvement Day
DESCRIPTION:Council President Darrell O’Quinn and District 5 have partnered with HouseProud to provide much-needed cosmetic home repairs for seniors in the Smithfield neighborhood Saturday\, April 12. Show up\, get involved\, and make a visible impact in the community. \nBreakfast and lunch will be provided! \nAttendees will be assisting senior residents with painting\, landscaping\, pressure washing\, and other home beautification efforts to help improve their quality of life and foster a strong sense of pride in their neighborhood. \nRegister to volunteer! \nBring your teams\, spread the word\, and let’s make a difference together!
URL:https://bhamnow.com/bhamn-event/be-neighborly-district-5-community-improvement-day-2/
LOCATION:AL
CATEGORIES:Community,Local Events,Volunteer Opportunities,Volunteer Opportunity
END:VEVENT
BEGIN:VEVENT
DTSTART;TZID=America/Chicago:20250412T083000
DTEND;TZID=America/Chicago:20250412T133000
DTSTAMP:20260424T011532
CREATED:20250331T172727Z
LAST-MODIFIED:20250331T172727Z
UID:10079499-1744446600-1744464600@bhamnow.com
SUMMARY:Be Neighborly: District 5 Community Improvement Day
DESCRIPTION:Council President Darrell O’Quinn and District 5 have partnered with House Proud to provide much-needed cosmetic home repairs for seniors in the Smithfield neighborhood Saturday\, April 12. Show up\, get involved\, and make a visible impact in the community. \nBreakfast and lunch will be provided! \nAttendees will be assisting senior residents with painting\, landscaping\, pressure washing\, and other home beautification efforts to help improve their quality of life and foster a strong sense of pride in their neighborhood. \nRegister to volunteer!\nBring your teams\, spread the word\, and let’s make a difference together!
URL:https://bhamnow.com/bhamn-event/be-neighborly-district-5-community-improvement-day/
LOCATION:AL
CATEGORIES:Community,Local Events,Volunteer Opportunities,Volunteer Opportunity
ATTACH;FMTTYPE=image/png:https://bhamnow.com/wp-content/uploads/2025/03/Be-Neighborly-Flier.png
END:VEVENT
END:VCALENDAR