BEGIN:VCALENDAR
VERSION:2.0
PRODID:-//Bham Now - ECPv6.15.20//NONSGML v1.0//EN
CALSCALE:GREGORIAN
METHOD:PUBLISH
X-ORIGINAL-URL:https://bhamnow.com
X-WR-CALDESC:Events for Bham Now
REFRESH-INTERVAL;VALUE=DURATION:PT1H
X-Robots-Tag:noindex
X-PUBLISHED-TTL:PT1H
BEGIN:VTIMEZONE
TZID:America/Chicago
BEGIN:DAYLIGHT
TZOFFSETFROM:-0600
TZOFFSETTO:-0500
TZNAME:CDT
DTSTART:20250309T080000
END:DAYLIGHT
BEGIN:STANDARD
TZOFFSETFROM:-0500
TZOFFSETTO:-0600
TZNAME:CST
DTSTART:20251102T070000
END:STANDARD
BEGIN:DAYLIGHT
TZOFFSETFROM:-0600
TZOFFSETTO:-0500
TZNAME:CDT
DTSTART:20260308T080000
END:DAYLIGHT
BEGIN:STANDARD
TZOFFSETFROM:-0500
TZOFFSETTO:-0600
TZNAME:CST
DTSTART:20261101T070000
END:STANDARD
BEGIN:DAYLIGHT
TZOFFSETFROM:-0600
TZOFFSETTO:-0500
TZNAME:CDT
DTSTART:20270314T080000
END:DAYLIGHT
BEGIN:STANDARD
TZOFFSETFROM:-0500
TZOFFSETTO:-0600
TZNAME:CST
DTSTART:20271107T070000
END:STANDARD
END:VTIMEZONE
BEGIN:VEVENT
DTSTART;TZID=America/Chicago:20260418T113000
DTEND;TZID=America/Chicago:20260418T140000
DTSTAMP:20260421T105257
CREATED:20260415T161006Z
LAST-MODIFIED:20260415T161006Z
UID:10098034-1776511800-1776520800@bhamnow.com
SUMMARY:New Book about Rickwood Field Author Event with Tim Whitt at Impact Book Festival\, Fultondale
DESCRIPTION:Local baseball historian Tim Whitt\, co-author of “Rickwood: How America’s Oldest Ballpark Forged Baseball’s Legends\,” will be signing books at the Impact Book Festival at Fultondale Event Center. The festival is open to the public and free admission. This festival is hosted by the Impact Arts Council\, is a family-friendly event now in its 2nd year. It features over 60 authors\, panel discussions\, and guest speakers.
URL:https://bhamnow.com/bhamn-event/new-book-about-rickwood-field-author-event-with-tim-whitt-at-impact-book-festival-fultondale/
LOCATION:AL
CATEGORIES:In-Person Events,Local Events,Sports
ATTACH;FMTTYPE=image/jpeg:https://bhamnow.com/wp-content/uploads/2026/04/Medium-Banner-US-Landscape-1-scaled.jpg
END:VEVENT
BEGIN:VEVENT
DTSTART;TZID=America/Chicago:20260418T090000
DTEND;TZID=America/Chicago:20260418T160000
DTSTAMP:20260421T105257
CREATED:20260415T161012Z
LAST-MODIFIED:20260415T161012Z
UID:10098033-1776502800-1776528000@bhamnow.com
SUMMARY:New Rickwood Book Signing with Tim Whitt at Rickwood Sports Card Show
DESCRIPTION:Local baseball historian Tim Whitt\, co-author of “Rickwood: How America’s Oldest Ballpark Forged Baseball’s Legends\,” will be signing books at the Rickwood Sports Card Show at historic Rickwood Field. The show is open to the public and free admission.
URL:https://bhamnow.com/bhamn-event/new-rickwood-book-signing-with-tim-whitt-at-rickwood-sports-card-show/
LOCATION:Rickwood Field\, 1137 2nd Ave W\, Birmingham\, AL\, 35204\, us
CATEGORIES:In-Person Events,Local Events,Sports
ATTACH;FMTTYPE=image/jpeg:https://bhamnow.com/wp-content/uploads/2026/04/Medium-Banner-US-Landscape-scaled.jpg
GEO:33.5026938;-86.8556882
X-APPLE-STRUCTURED-LOCATION;VALUE=URI;X-ADDRESS=Rickwood Field 1137 2nd Ave W Birmingham AL 35204 us;X-APPLE-RADIUS=500;X-TITLE=1137 2nd Ave W:geo:-86.8556882,33.5026938
END:VEVENT
END:VCALENDAR