BEGIN:VCALENDAR
VERSION:2.0
PRODID:-//Bham Now - ECPv6.15.20//NONSGML v1.0//EN
CALSCALE:GREGORIAN
METHOD:PUBLISH
X-ORIGINAL-URL:https://bhamnow.com
X-WR-CALDESC:Events for Bham Now
REFRESH-INTERVAL;VALUE=DURATION:PT1H
X-Robots-Tag:noindex
X-PUBLISHED-TTL:PT1H
BEGIN:VTIMEZONE
TZID:America/Chicago
BEGIN:DAYLIGHT
TZOFFSETFROM:-0600
TZOFFSETTO:-0500
TZNAME:CDT
DTSTART:20250309T080000
END:DAYLIGHT
BEGIN:STANDARD
TZOFFSETFROM:-0500
TZOFFSETTO:-0600
TZNAME:CST
DTSTART:20251102T070000
END:STANDARD
BEGIN:DAYLIGHT
TZOFFSETFROM:-0600
TZOFFSETTO:-0500
TZNAME:CDT
DTSTART:20260308T080000
END:DAYLIGHT
BEGIN:STANDARD
TZOFFSETFROM:-0500
TZOFFSETTO:-0600
TZNAME:CST
DTSTART:20261101T070000
END:STANDARD
BEGIN:DAYLIGHT
TZOFFSETFROM:-0600
TZOFFSETTO:-0500
TZNAME:CDT
DTSTART:20270314T080000
END:DAYLIGHT
BEGIN:STANDARD
TZOFFSETFROM:-0500
TZOFFSETTO:-0600
TZNAME:CST
DTSTART:20271107T070000
END:STANDARD
END:VTIMEZONE
BEGIN:VEVENT
DTSTART;TZID=America/Chicago:20260422T170000
DTEND;TZID=America/Chicago:20260422T190000
DTSTAMP:20260419T144426
CREATED:20260407T151610Z
LAST-MODIFIED:20260407T151610Z
UID:10097786-1776877200-1776884400@bhamnow.com
SUMMARY:Opportunity Built Here: An Evening with Birmingham Corps
DESCRIPTION:You are invited as Birmingham Corps deepens its commitment to building the bridges that connect this city’s talent to its future — and invites Birmingham’s employers\, partners\, and civic leaders to grow with us. \nThis evening is a chance to meet Tiffani Saxton\, Birmingham Corps’ new Executive Director\, hear how we’re building career pathways that move Birmingham forward\, and explore together how we can expand our impact across the city. \nBirmingham Corps has spent three years rooting residents in careers and connecting employers to hard-to-find talent. We’re ready to go further. And we need Birmingham’s businesses and community leaders in the room to do it. \nWe hope you’ll join us. \nDetails to follow. Speakers to be announced. Follow us on Instagram @BirminghamCorps
URL:https://bhamnow.com/bhamn-event/opportunity-built-here-an-evening-with-birmingham-corps/
LOCATION:Innovation Depot\, Inc.\, 1500 1st Ave N\, Birmingham\, AL\, 35203\, United States
CATEGORIES:Business,Community,Downtown,Educational,Special Events,Workshop,Youth Support
ATTACH;FMTTYPE=image/jpeg:https://bhamnow.com/wp-content/uploads/2026/04/Workforce-Forward-Event-Flyer-6.jpg
GEO:33.5118393;-86.8125728
X-APPLE-STRUCTURED-LOCATION;VALUE=URI;X-ADDRESS=Innovation Depot Inc. 1500 1st Ave N Birmingham AL 35203 United States;X-APPLE-RADIUS=500;X-TITLE=1500 1st Ave N:geo:-86.8125728,33.5118393
END:VEVENT
BEGIN:VEVENT
DTSTART;TZID=America/Chicago:20260502T090000
DTEND;TZID=America/Chicago:20260502T140000
DTSTAMP:20260419T144426
CREATED:20260414T172736Z
LAST-MODIFIED:20260414T172736Z
UID:10098012-1777712400-1777730400@bhamnow.com
SUMMARY:Art in the Lot
DESCRIPTION:Come check out one our most popular events known as Art in the Lot\, which takes place twice a year. This free event serves as a platform to celebrate the exceptional gifts and talents of local artists and vendors. Presented by the Trinity Studio\, Art in the Lot welcomes over 80 artisans who passionately display their God-given abilities across a diverse range of mediums\, including painting\, woodworking\, ceramics\, jewelry\, fiber works\, and much more. Come explore and support these incredible local artisans!
URL:https://bhamnow.com/bhamn-event/art-in-the-lot-2/2026-05-02/2/
LOCATION:Trinity United Methodist Church\, 1400 Oxmoor Rd\, Birmingham\, AL\, 35209\, United States
ATTACH;FMTTYPE=image/png:https://bhamnow.com/wp-content/uploads/2026/04/Ad-Image.png
END:VEVENT
BEGIN:VEVENT
DTSTART;TZID=America/Chicago:20260503T110000
DTEND;TZID=America/Chicago:20260503T170000
DTSTAMP:20260419T144426
CREATED:20260317T192917Z
LAST-MODIFIED:20260317T192917Z
UID:10093028-1777806000-1777827600@bhamnow.com
SUMMARY:Birmingham Vegan Fest Spring 2026
DESCRIPTION:Join us for Birmingham Vegan Fest Spring 2026. Our festival is the largest vegan fest in Alabama. This FREE event is open to everyone\, 11am-5pm\, Sunday\, May 3rd\, at Cahaba Brewing Co. \nWe will showcase the booming local vegan scene\, so there will be a heavy emphasis on local food trucks\, popups\, and other vegan-friendly vendors. Also\, there will be plenty of traveling vendors with some great booths and food trucks. \nWe will also have DJ BRX on the beats\, face painting\, and more!. There will be multiple vegan door prizes\, worth hundreds of dollars\, given away each hour\, so stop by the Birmingham Vegan booth at the main entrance of Cahaba Brewing Co. to sign up for a chance to win! \nHere are some of the awesome folks you’ll see at the Birmingham Vegan Fest:\nSometimeatarian\nConscious Living LLC\nSolcial Veg\nFevers Plant Based Foods\nOh My Cod Vegan Seafood\nNew China Town\nImagine Vegan Cafe\nFresh 22 ATL\nAfya Bites\nSlutty Vegan Birmingham\nVujee Vegan\nHappi Pappi Beignets\nUncle G’s Pizza\nDivine Plant-Based Cuisine\nSuperior Vegan\nGageZ Cafe\nGOAP / The Creamy Spot\nSweet Rain Vegan Bakeshop\nJamies Cookie Dough\nVelvet Kake\, LLC\nTasteNCTreats\nAdored Sweets\nAromas from Home\, LLC\nTarez Kitchen\nNaughty But Nice Kettle Corn Co.\nShaejaes Wellness\nEden’s Farmacy\nAquality Farms\nHeyDay Greens\nShe is Candles\, LLC\nKhemistry Kandle\nSOC7ETY Artisan Candle Co.\nKing’s Olive Oil Company\nCantey Foundation Specialist\nBubble Nuggets\nAlexsandra Rose Skin &Wellness\nKissed By The Gods LLC\nYolaine’s Enhancing Skincare Products\nBrianna’s Natural Infusions\nNature’s Butterfly Kisses\nSoulSistah3.0\nThe Veggie Taste\nGuaranteed Comfort\nSheaReneProducts&Gourmettreats\nCurry’s Corner\nStory Time Ink\nGood Karma Eco Shop\nCentral Alabama Pride\nFull Circle Farm Sanctuary\nHappy Cow and Friends Hangout\nGraybloom Farm Sanctuary \nEvent Location: Cahaba Brewing Company \nAlso\, our host Cahaba Brewing Co. is very supportive of the vegan community\, and almost all their beers are vegan (exceptions are any milk stouts or honey beers). All of their cocktails\, mocktails\, non-alcoholic beers\, and THC drinks are vegan\, too! \nBirmingham Vegans started over a decade ago as a group to connect and grow the vegan community and build the vegan movement here and beyond. We have over 4\,800 Facebook followers\, over 1\,500 Meetup members\, and over 2\,900 Instagram followers. Birmingham is a special city with so much energy for progress\, and it has been exciting to see veganism grow alongside all the amazing things happening here. \nBirmingham Vegans has hosted hundreds of gatherings highlighting vegan entrepreneurs\, leaders\, educators\, and creators. We’ve put on festivals (in person and online)\, held regular meetups at restaurants\, invited the public into our homes for potlucks\, organized hiking and kayaking adventures\, held picnics\, conducted canned food drives\, and featured chef demonstrations\, vegan-themed films\, supported local sanctuaries by volunteering and donations\, and talks from authors.\nMessage us on social media if you are interested in volunteer\, vendor\, or sponsorship opportunities with the Birmingham Vegan Fest. \nEveryone is invited to attend—vegan\, veg-curious\, omnivore\, or whatever—so bring your friends who will be amazed at how delicious vegan food can be! This is a kid-friendly event\, and you can bring your animal companions\, too! Veganism is booming in Birmingham\, so come on out and see on May 3rd!\nPlease sign up here and/ or on the Meetup app to let us and our vendors know that you will be there!
URL:https://bhamnow.com/bhamn-event/birmingham-vegan-fest-spring-2026/
LOCATION:Cahaba Brewing Co.\, 4500 5th Ave South\, Birmingham\, AL\, 35222\, United States
CATEGORIES:Arts,Beer,Community,Events,Festival,Festivals,Food Trucks,Health and Wellness,In-Person Events,Local Events,Music,Natural Heritage Event,sip & shop,Sustainability,Volunteer Opportunities,Walk,Wellness
ATTACH;FMTTYPE=image/jpeg:https://bhamnow.com/wp-content/uploads/2026/03/IMG_5653.jpeg
GEO:33.5267234;-86.7648818
X-APPLE-STRUCTURED-LOCATION;VALUE=URI;X-ADDRESS=Cahaba Brewing Co. 4500 5th Ave South Birmingham AL 35222 United States;X-APPLE-RADIUS=500;X-TITLE=4500 5th Ave South:geo:-86.7648818,33.5267234
END:VEVENT
END:VCALENDAR