BEGIN:VCALENDAR
VERSION:2.0
PRODID:-//Bham Now - ECPv6.15.20//NONSGML v1.0//EN
CALSCALE:GREGORIAN
METHOD:PUBLISH
X-WR-CALNAME:Bham Now
X-ORIGINAL-URL:https://bhamnow.com
X-WR-CALDESC:Events for Bham Now
REFRESH-INTERVAL;VALUE=DURATION:PT1H
X-Robots-Tag:noindex
X-PUBLISHED-TTL:PT1H
BEGIN:VTIMEZONE
TZID:America/Chicago
BEGIN:DAYLIGHT
TZOFFSETFROM:-0600
TZOFFSETTO:-0500
TZNAME:CDT
DTSTART:20250309T080000
END:DAYLIGHT
BEGIN:STANDARD
TZOFFSETFROM:-0500
TZOFFSETTO:-0600
TZNAME:CST
DTSTART:20251102T070000
END:STANDARD
BEGIN:DAYLIGHT
TZOFFSETFROM:-0600
TZOFFSETTO:-0500
TZNAME:CDT
DTSTART:20260308T080000
END:DAYLIGHT
BEGIN:STANDARD
TZOFFSETFROM:-0500
TZOFFSETTO:-0600
TZNAME:CST
DTSTART:20261101T070000
END:STANDARD
BEGIN:DAYLIGHT
TZOFFSETFROM:-0600
TZOFFSETTO:-0500
TZNAME:CDT
DTSTART:20270314T080000
END:DAYLIGHT
BEGIN:STANDARD
TZOFFSETFROM:-0500
TZOFFSETTO:-0600
TZNAME:CST
DTSTART:20271107T070000
END:STANDARD
END:VTIMEZONE
BEGIN:VEVENT
DTSTART;TZID=America/Chicago:20260429T190000
DTEND;TZID=America/Chicago:20260429T210000
DTSTAMP:20260424T004710
CREATED:20260402T173756Z
LAST-MODIFIED:20260402T173756Z
UID:10097462-1777489200-1777496400@bhamnow.com
SUMMARY:Trivia at Birmingham District Brewing Co
DESCRIPTION:Join us for live trivia\, hosted by North Alabama Trivia (@northalabamatrivia)\, starting at 7pm. They bring the best trivia in town to the District\, every Wednesday\, so make sure to tell your friends and family and join in on all the fun
URL:https://bhamnow.com/bhamn-event/trivia-at-birmingham-district-brewing-co/2026-04-29/
LOCATION:2201 2nd Ave S
ATTACH;FMTTYPE=image/png:https://bhamnow.com/wp-content/uploads/2026/04/G0ybXEpw.png
END:VEVENT
BEGIN:VEVENT
DTSTART;TZID=America/Chicago:20260506T190000
DTEND;TZID=America/Chicago:20260506T210000
DTSTAMP:20260424T004710
CREATED:20260402T173756Z
LAST-MODIFIED:20260402T173756Z
UID:10097463-1778094000-1778101200@bhamnow.com
SUMMARY:Trivia at Birmingham District Brewing Co
DESCRIPTION:Join us for live trivia\, hosted by North Alabama Trivia (@northalabamatrivia)\, starting at 7pm. They bring the best trivia in town to the District\, every Wednesday\, so make sure to tell your friends and family and join in on all the fun
URL:https://bhamnow.com/bhamn-event/trivia-at-birmingham-district-brewing-co/2026-05-06/
LOCATION:2201 2nd Ave S
ATTACH;FMTTYPE=image/png:https://bhamnow.com/wp-content/uploads/2026/04/G0ybXEpw.png
END:VEVENT
BEGIN:VEVENT
DTSTART;TZID=America/Chicago:20260513T190000
DTEND;TZID=America/Chicago:20260513T210000
DTSTAMP:20260424T004710
CREATED:20260402T173756Z
LAST-MODIFIED:20260402T173756Z
UID:10097464-1778698800-1778706000@bhamnow.com
SUMMARY:Trivia at Birmingham District Brewing Co
DESCRIPTION:Join us for live trivia\, hosted by North Alabama Trivia (@northalabamatrivia)\, starting at 7pm. They bring the best trivia in town to the District\, every Wednesday\, so make sure to tell your friends and family and join in on all the fun
URL:https://bhamnow.com/bhamn-event/trivia-at-birmingham-district-brewing-co/2026-05-13/
LOCATION:2201 2nd Ave S
ATTACH;FMTTYPE=image/png:https://bhamnow.com/wp-content/uploads/2026/04/G0ybXEpw.png
END:VEVENT
BEGIN:VEVENT
DTSTART;TZID=America/Chicago:20260520T190000
DTEND;TZID=America/Chicago:20260520T210000
DTSTAMP:20260424T004710
CREATED:20260402T173756Z
LAST-MODIFIED:20260402T173756Z
UID:10097465-1779303600-1779310800@bhamnow.com
SUMMARY:Trivia at Birmingham District Brewing Co
DESCRIPTION:Join us for live trivia\, hosted by North Alabama Trivia (@northalabamatrivia)\, starting at 7pm. They bring the best trivia in town to the District\, every Wednesday\, so make sure to tell your friends and family and join in on all the fun
URL:https://bhamnow.com/bhamn-event/trivia-at-birmingham-district-brewing-co/2026-05-20/
LOCATION:2201 2nd Ave S
ATTACH;FMTTYPE=image/png:https://bhamnow.com/wp-content/uploads/2026/04/G0ybXEpw.png
END:VEVENT
BEGIN:VEVENT
DTSTART;TZID=America/Chicago:20260527T190000
DTEND;TZID=America/Chicago:20260527T210000
DTSTAMP:20260424T004710
CREATED:20260402T173756Z
LAST-MODIFIED:20260402T173756Z
UID:10097466-1779908400-1779915600@bhamnow.com
SUMMARY:Trivia at Birmingham District Brewing Co
DESCRIPTION:Join us for live trivia\, hosted by North Alabama Trivia (@northalabamatrivia)\, starting at 7pm. They bring the best trivia in town to the District\, every Wednesday\, so make sure to tell your friends and family and join in on all the fun
URL:https://bhamnow.com/bhamn-event/trivia-at-birmingham-district-brewing-co/2026-05-27/
LOCATION:2201 2nd Ave S
ATTACH;FMTTYPE=image/png:https://bhamnow.com/wp-content/uploads/2026/04/G0ybXEpw.png
END:VEVENT
BEGIN:VEVENT
DTSTART;TZID=America/Chicago:20260603T190000
DTEND;TZID=America/Chicago:20260603T210000
DTSTAMP:20260424T004710
CREATED:20260402T173756Z
LAST-MODIFIED:20260402T173756Z
UID:10097467-1780513200-1780520400@bhamnow.com
SUMMARY:Trivia at Birmingham District Brewing Co
DESCRIPTION:Join us for live trivia\, hosted by North Alabama Trivia (@northalabamatrivia)\, starting at 7pm. They bring the best trivia in town to the District\, every Wednesday\, so make sure to tell your friends and family and join in on all the fun
URL:https://bhamnow.com/bhamn-event/trivia-at-birmingham-district-brewing-co/2026-06-03/
LOCATION:2201 2nd Ave S
ATTACH;FMTTYPE=image/png:https://bhamnow.com/wp-content/uploads/2026/04/G0ybXEpw.png
END:VEVENT
BEGIN:VEVENT
DTSTART;TZID=America/Chicago:20260610T190000
DTEND;TZID=America/Chicago:20260610T210000
DTSTAMP:20260424T004710
CREATED:20260402T173756Z
LAST-MODIFIED:20260402T173756Z
UID:10097468-1781118000-1781125200@bhamnow.com
SUMMARY:Trivia at Birmingham District Brewing Co
DESCRIPTION:Join us for live trivia\, hosted by North Alabama Trivia (@northalabamatrivia)\, starting at 7pm. They bring the best trivia in town to the District\, every Wednesday\, so make sure to tell your friends and family and join in on all the fun
URL:https://bhamnow.com/bhamn-event/trivia-at-birmingham-district-brewing-co/2026-06-10/
LOCATION:2201 2nd Ave S
ATTACH;FMTTYPE=image/png:https://bhamnow.com/wp-content/uploads/2026/04/G0ybXEpw.png
END:VEVENT
BEGIN:VEVENT
DTSTART;TZID=America/Chicago:20260617T190000
DTEND;TZID=America/Chicago:20260617T210000
DTSTAMP:20260424T004710
CREATED:20260402T173756Z
LAST-MODIFIED:20260402T173756Z
UID:10097469-1781722800-1781730000@bhamnow.com
SUMMARY:Trivia at Birmingham District Brewing Co
DESCRIPTION:Join us for live trivia\, hosted by North Alabama Trivia (@northalabamatrivia)\, starting at 7pm. They bring the best trivia in town to the District\, every Wednesday\, so make sure to tell your friends and family and join in on all the fun
URL:https://bhamnow.com/bhamn-event/trivia-at-birmingham-district-brewing-co/2026-06-17/
LOCATION:2201 2nd Ave S
ATTACH;FMTTYPE=image/png:https://bhamnow.com/wp-content/uploads/2026/04/G0ybXEpw.png
END:VEVENT
BEGIN:VEVENT
DTSTART;TZID=America/Chicago:20260624T190000
DTEND;TZID=America/Chicago:20260624T210000
DTSTAMP:20260424T004710
CREATED:20260402T173756Z
LAST-MODIFIED:20260402T173756Z
UID:10097470-1782327600-1782334800@bhamnow.com
SUMMARY:Trivia at Birmingham District Brewing Co
DESCRIPTION:Join us for live trivia\, hosted by North Alabama Trivia (@northalabamatrivia)\, starting at 7pm. They bring the best trivia in town to the District\, every Wednesday\, so make sure to tell your friends and family and join in on all the fun
URL:https://bhamnow.com/bhamn-event/trivia-at-birmingham-district-brewing-co/2026-06-24/
LOCATION:2201 2nd Ave S
ATTACH;FMTTYPE=image/png:https://bhamnow.com/wp-content/uploads/2026/04/G0ybXEpw.png
END:VEVENT
BEGIN:VEVENT
DTSTART;TZID=America/Chicago:20260701T190000
DTEND;TZID=America/Chicago:20260701T210000
DTSTAMP:20260424T004710
CREATED:20260402T173756Z
LAST-MODIFIED:20260402T173756Z
UID:10097471-1782932400-1782939600@bhamnow.com
SUMMARY:Trivia at Birmingham District Brewing Co
DESCRIPTION:Join us for live trivia\, hosted by North Alabama Trivia (@northalabamatrivia)\, starting at 7pm. They bring the best trivia in town to the District\, every Wednesday\, so make sure to tell your friends and family and join in on all the fun
URL:https://bhamnow.com/bhamn-event/trivia-at-birmingham-district-brewing-co/2026-07-01/
LOCATION:2201 2nd Ave S
ATTACH;FMTTYPE=image/png:https://bhamnow.com/wp-content/uploads/2026/04/G0ybXEpw.png
END:VEVENT
BEGIN:VEVENT
DTSTART;TZID=America/Chicago:20260708T190000
DTEND;TZID=America/Chicago:20260708T210000
DTSTAMP:20260424T004710
CREATED:20260402T173756Z
LAST-MODIFIED:20260402T173756Z
UID:10097472-1783537200-1783544400@bhamnow.com
SUMMARY:Trivia at Birmingham District Brewing Co
DESCRIPTION:Join us for live trivia\, hosted by North Alabama Trivia (@northalabamatrivia)\, starting at 7pm. They bring the best trivia in town to the District\, every Wednesday\, so make sure to tell your friends and family and join in on all the fun
URL:https://bhamnow.com/bhamn-event/trivia-at-birmingham-district-brewing-co/2026-07-08/
LOCATION:2201 2nd Ave S
ATTACH;FMTTYPE=image/png:https://bhamnow.com/wp-content/uploads/2026/04/G0ybXEpw.png
END:VEVENT
BEGIN:VEVENT
DTSTART;TZID=America/Chicago:20260715T190000
DTEND;TZID=America/Chicago:20260715T210000
DTSTAMP:20260424T004710
CREATED:20260402T173756Z
LAST-MODIFIED:20260402T173756Z
UID:10097473-1784142000-1784149200@bhamnow.com
SUMMARY:Trivia at Birmingham District Brewing Co
DESCRIPTION:Join us for live trivia\, hosted by North Alabama Trivia (@northalabamatrivia)\, starting at 7pm. They bring the best trivia in town to the District\, every Wednesday\, so make sure to tell your friends and family and join in on all the fun
URL:https://bhamnow.com/bhamn-event/trivia-at-birmingham-district-brewing-co/2026-07-15/
LOCATION:2201 2nd Ave S
ATTACH;FMTTYPE=image/png:https://bhamnow.com/wp-content/uploads/2026/04/G0ybXEpw.png
END:VEVENT
BEGIN:VEVENT
DTSTART;TZID=America/Chicago:20260722T190000
DTEND;TZID=America/Chicago:20260722T210000
DTSTAMP:20260424T004710
CREATED:20260402T173756Z
LAST-MODIFIED:20260402T173756Z
UID:10097474-1784746800-1784754000@bhamnow.com
SUMMARY:Trivia at Birmingham District Brewing Co
DESCRIPTION:Join us for live trivia\, hosted by North Alabama Trivia (@northalabamatrivia)\, starting at 7pm. They bring the best trivia in town to the District\, every Wednesday\, so make sure to tell your friends and family and join in on all the fun
URL:https://bhamnow.com/bhamn-event/trivia-at-birmingham-district-brewing-co/2026-07-22/
LOCATION:2201 2nd Ave S
ATTACH;FMTTYPE=image/png:https://bhamnow.com/wp-content/uploads/2026/04/G0ybXEpw.png
END:VEVENT
BEGIN:VEVENT
DTSTART;TZID=America/Chicago:20260729T190000
DTEND;TZID=America/Chicago:20260729T210000
DTSTAMP:20260424T004710
CREATED:20260402T173756Z
LAST-MODIFIED:20260402T173756Z
UID:10097475-1785351600-1785358800@bhamnow.com
SUMMARY:Trivia at Birmingham District Brewing Co
DESCRIPTION:Join us for live trivia\, hosted by North Alabama Trivia (@northalabamatrivia)\, starting at 7pm. They bring the best trivia in town to the District\, every Wednesday\, so make sure to tell your friends and family and join in on all the fun
URL:https://bhamnow.com/bhamn-event/trivia-at-birmingham-district-brewing-co/2026-07-29/
LOCATION:2201 2nd Ave S
ATTACH;FMTTYPE=image/png:https://bhamnow.com/wp-content/uploads/2026/04/G0ybXEpw.png
END:VEVENT
BEGIN:VEVENT
DTSTART;TZID=America/Chicago:20260805T190000
DTEND;TZID=America/Chicago:20260805T210000
DTSTAMP:20260424T004710
CREATED:20260402T173756Z
LAST-MODIFIED:20260402T173756Z
UID:10097476-1785956400-1785963600@bhamnow.com
SUMMARY:Trivia at Birmingham District Brewing Co
DESCRIPTION:Join us for live trivia\, hosted by North Alabama Trivia (@northalabamatrivia)\, starting at 7pm. They bring the best trivia in town to the District\, every Wednesday\, so make sure to tell your friends and family and join in on all the fun
URL:https://bhamnow.com/bhamn-event/trivia-at-birmingham-district-brewing-co/2026-08-05/
LOCATION:2201 2nd Ave S
ATTACH;FMTTYPE=image/png:https://bhamnow.com/wp-content/uploads/2026/04/G0ybXEpw.png
END:VEVENT
BEGIN:VEVENT
DTSTART;TZID=America/Chicago:20260812T190000
DTEND;TZID=America/Chicago:20260812T210000
DTSTAMP:20260424T004710
CREATED:20260402T173756Z
LAST-MODIFIED:20260402T173756Z
UID:10097477-1786561200-1786568400@bhamnow.com
SUMMARY:Trivia at Birmingham District Brewing Co
DESCRIPTION:Join us for live trivia\, hosted by North Alabama Trivia (@northalabamatrivia)\, starting at 7pm. They bring the best trivia in town to the District\, every Wednesday\, so make sure to tell your friends and family and join in on all the fun
URL:https://bhamnow.com/bhamn-event/trivia-at-birmingham-district-brewing-co/2026-08-12/
LOCATION:2201 2nd Ave S
ATTACH;FMTTYPE=image/png:https://bhamnow.com/wp-content/uploads/2026/04/G0ybXEpw.png
END:VEVENT
BEGIN:VEVENT
DTSTART;TZID=America/Chicago:20260819T190000
DTEND;TZID=America/Chicago:20260819T210000
DTSTAMP:20260424T004710
CREATED:20260402T173756Z
LAST-MODIFIED:20260402T173756Z
UID:10097478-1787166000-1787173200@bhamnow.com
SUMMARY:Trivia at Birmingham District Brewing Co
DESCRIPTION:Join us for live trivia\, hosted by North Alabama Trivia (@northalabamatrivia)\, starting at 7pm. They bring the best trivia in town to the District\, every Wednesday\, so make sure to tell your friends and family and join in on all the fun
URL:https://bhamnow.com/bhamn-event/trivia-at-birmingham-district-brewing-co/2026-08-19/
LOCATION:2201 2nd Ave S
ATTACH;FMTTYPE=image/png:https://bhamnow.com/wp-content/uploads/2026/04/G0ybXEpw.png
END:VEVENT
BEGIN:VEVENT
DTSTART;TZID=America/Chicago:20260826T190000
DTEND;TZID=America/Chicago:20260826T210000
DTSTAMP:20260424T004710
CREATED:20260402T173756Z
LAST-MODIFIED:20260402T173756Z
UID:10097479-1787770800-1787778000@bhamnow.com
SUMMARY:Trivia at Birmingham District Brewing Co
DESCRIPTION:Join us for live trivia\, hosted by North Alabama Trivia (@northalabamatrivia)\, starting at 7pm. They bring the best trivia in town to the District\, every Wednesday\, so make sure to tell your friends and family and join in on all the fun
URL:https://bhamnow.com/bhamn-event/trivia-at-birmingham-district-brewing-co/2026-08-26/
LOCATION:2201 2nd Ave S
ATTACH;FMTTYPE=image/png:https://bhamnow.com/wp-content/uploads/2026/04/G0ybXEpw.png
END:VEVENT
BEGIN:VEVENT
DTSTART;TZID=America/Chicago:20260902T190000
DTEND;TZID=America/Chicago:20260902T210000
DTSTAMP:20260424T004710
CREATED:20260402T173756Z
LAST-MODIFIED:20260402T173756Z
UID:10097480-1788375600-1788382800@bhamnow.com
SUMMARY:Trivia at Birmingham District Brewing Co
DESCRIPTION:Join us for live trivia\, hosted by North Alabama Trivia (@northalabamatrivia)\, starting at 7pm. They bring the best trivia in town to the District\, every Wednesday\, so make sure to tell your friends and family and join in on all the fun
URL:https://bhamnow.com/bhamn-event/trivia-at-birmingham-district-brewing-co/2026-09-02/
LOCATION:2201 2nd Ave S
ATTACH;FMTTYPE=image/png:https://bhamnow.com/wp-content/uploads/2026/04/G0ybXEpw.png
END:VEVENT
BEGIN:VEVENT
DTSTART;TZID=America/Chicago:20260909T190000
DTEND;TZID=America/Chicago:20260909T210000
DTSTAMP:20260424T004710
CREATED:20260402T173756Z
LAST-MODIFIED:20260402T173756Z
UID:10097481-1788980400-1788987600@bhamnow.com
SUMMARY:Trivia at Birmingham District Brewing Co
DESCRIPTION:Join us for live trivia\, hosted by North Alabama Trivia (@northalabamatrivia)\, starting at 7pm. They bring the best trivia in town to the District\, every Wednesday\, so make sure to tell your friends and family and join in on all the fun
URL:https://bhamnow.com/bhamn-event/trivia-at-birmingham-district-brewing-co/2026-09-09/
LOCATION:2201 2nd Ave S
ATTACH;FMTTYPE=image/png:https://bhamnow.com/wp-content/uploads/2026/04/G0ybXEpw.png
END:VEVENT
BEGIN:VEVENT
DTSTART;TZID=America/Chicago:20260916T190000
DTEND;TZID=America/Chicago:20260916T210000
DTSTAMP:20260424T004710
CREATED:20260402T173756Z
LAST-MODIFIED:20260402T173756Z
UID:10097482-1789585200-1789592400@bhamnow.com
SUMMARY:Trivia at Birmingham District Brewing Co
DESCRIPTION:Join us for live trivia\, hosted by North Alabama Trivia (@northalabamatrivia)\, starting at 7pm. They bring the best trivia in town to the District\, every Wednesday\, so make sure to tell your friends and family and join in on all the fun
URL:https://bhamnow.com/bhamn-event/trivia-at-birmingham-district-brewing-co/2026-09-16/
LOCATION:2201 2nd Ave S
ATTACH;FMTTYPE=image/png:https://bhamnow.com/wp-content/uploads/2026/04/G0ybXEpw.png
END:VEVENT
BEGIN:VEVENT
DTSTART;TZID=America/Chicago:20260923T190000
DTEND;TZID=America/Chicago:20260923T210000
DTSTAMP:20260424T004710
CREATED:20260402T173756Z
LAST-MODIFIED:20260402T173756Z
UID:10097483-1790190000-1790197200@bhamnow.com
SUMMARY:Trivia at Birmingham District Brewing Co
DESCRIPTION:Join us for live trivia\, hosted by North Alabama Trivia (@northalabamatrivia)\, starting at 7pm. They bring the best trivia in town to the District\, every Wednesday\, so make sure to tell your friends and family and join in on all the fun
URL:https://bhamnow.com/bhamn-event/trivia-at-birmingham-district-brewing-co/2026-09-23/
LOCATION:2201 2nd Ave S
ATTACH;FMTTYPE=image/png:https://bhamnow.com/wp-content/uploads/2026/04/G0ybXEpw.png
END:VEVENT
BEGIN:VEVENT
DTSTART;TZID=America/Chicago:20260930T190000
DTEND;TZID=America/Chicago:20260930T210000
DTSTAMP:20260424T004710
CREATED:20260402T173756Z
LAST-MODIFIED:20260402T173756Z
UID:10097484-1790794800-1790802000@bhamnow.com
SUMMARY:Trivia at Birmingham District Brewing Co
DESCRIPTION:Join us for live trivia\, hosted by North Alabama Trivia (@northalabamatrivia)\, starting at 7pm. They bring the best trivia in town to the District\, every Wednesday\, so make sure to tell your friends and family and join in on all the fun
URL:https://bhamnow.com/bhamn-event/trivia-at-birmingham-district-brewing-co/2026-09-30/
LOCATION:2201 2nd Ave S
ATTACH;FMTTYPE=image/png:https://bhamnow.com/wp-content/uploads/2026/04/G0ybXEpw.png
END:VEVENT
BEGIN:VEVENT
DTSTART;TZID=America/Chicago:20261007T190000
DTEND;TZID=America/Chicago:20261007T210000
DTSTAMP:20260424T004710
CREATED:20260402T173756Z
LAST-MODIFIED:20260402T173756Z
UID:10097485-1791399600-1791406800@bhamnow.com
SUMMARY:Trivia at Birmingham District Brewing Co
DESCRIPTION:Join us for live trivia\, hosted by North Alabama Trivia (@northalabamatrivia)\, starting at 7pm. They bring the best trivia in town to the District\, every Wednesday\, so make sure to tell your friends and family and join in on all the fun
URL:https://bhamnow.com/bhamn-event/trivia-at-birmingham-district-brewing-co/2026-10-07/
LOCATION:2201 2nd Ave S
ATTACH;FMTTYPE=image/png:https://bhamnow.com/wp-content/uploads/2026/04/G0ybXEpw.png
END:VEVENT
BEGIN:VEVENT
DTSTART;TZID=America/Chicago:20261014T190000
DTEND;TZID=America/Chicago:20261014T210000
DTSTAMP:20260424T004710
CREATED:20260402T173756Z
LAST-MODIFIED:20260402T173756Z
UID:10097486-1792004400-1792011600@bhamnow.com
SUMMARY:Trivia at Birmingham District Brewing Co
DESCRIPTION:Join us for live trivia\, hosted by North Alabama Trivia (@northalabamatrivia)\, starting at 7pm. They bring the best trivia in town to the District\, every Wednesday\, so make sure to tell your friends and family and join in on all the fun
URL:https://bhamnow.com/bhamn-event/trivia-at-birmingham-district-brewing-co/2026-10-14/
LOCATION:2201 2nd Ave S
ATTACH;FMTTYPE=image/png:https://bhamnow.com/wp-content/uploads/2026/04/G0ybXEpw.png
END:VEVENT
BEGIN:VEVENT
DTSTART;TZID=America/Chicago:20261021T190000
DTEND;TZID=America/Chicago:20261021T210000
DTSTAMP:20260424T004710
CREATED:20260402T173756Z
LAST-MODIFIED:20260402T173756Z
UID:10097487-1792609200-1792616400@bhamnow.com
SUMMARY:Trivia at Birmingham District Brewing Co
DESCRIPTION:Join us for live trivia\, hosted by North Alabama Trivia (@northalabamatrivia)\, starting at 7pm. They bring the best trivia in town to the District\, every Wednesday\, so make sure to tell your friends and family and join in on all the fun
URL:https://bhamnow.com/bhamn-event/trivia-at-birmingham-district-brewing-co/2026-10-21/
LOCATION:2201 2nd Ave S
ATTACH;FMTTYPE=image/png:https://bhamnow.com/wp-content/uploads/2026/04/G0ybXEpw.png
END:VEVENT
BEGIN:VEVENT
DTSTART;TZID=America/Chicago:20261028T190000
DTEND;TZID=America/Chicago:20261028T210000
DTSTAMP:20260424T004710
CREATED:20260402T173756Z
LAST-MODIFIED:20260402T173756Z
UID:10097488-1793214000-1793221200@bhamnow.com
SUMMARY:Trivia at Birmingham District Brewing Co
DESCRIPTION:Join us for live trivia\, hosted by North Alabama Trivia (@northalabamatrivia)\, starting at 7pm. They bring the best trivia in town to the District\, every Wednesday\, so make sure to tell your friends and family and join in on all the fun
URL:https://bhamnow.com/bhamn-event/trivia-at-birmingham-district-brewing-co/2026-10-28/
LOCATION:2201 2nd Ave S
ATTACH;FMTTYPE=image/png:https://bhamnow.com/wp-content/uploads/2026/04/G0ybXEpw.png
END:VEVENT
BEGIN:VEVENT
DTSTART;TZID=America/Chicago:20261104T190000
DTEND;TZID=America/Chicago:20261104T210000
DTSTAMP:20260424T004710
CREATED:20260402T173756Z
LAST-MODIFIED:20260402T173756Z
UID:10097489-1793818800-1793826000@bhamnow.com
SUMMARY:Trivia at Birmingham District Brewing Co
DESCRIPTION:Join us for live trivia\, hosted by North Alabama Trivia (@northalabamatrivia)\, starting at 7pm. They bring the best trivia in town to the District\, every Wednesday\, so make sure to tell your friends and family and join in on all the fun
URL:https://bhamnow.com/bhamn-event/trivia-at-birmingham-district-brewing-co/2026-11-04/
LOCATION:2201 2nd Ave S
ATTACH;FMTTYPE=image/png:https://bhamnow.com/wp-content/uploads/2026/04/G0ybXEpw.png
END:VEVENT
BEGIN:VEVENT
DTSTART;TZID=America/Chicago:20261111T190000
DTEND;TZID=America/Chicago:20261111T210000
DTSTAMP:20260424T004710
CREATED:20260402T173756Z
LAST-MODIFIED:20260402T173756Z
UID:10097490-1794423600-1794430800@bhamnow.com
SUMMARY:Trivia at Birmingham District Brewing Co
DESCRIPTION:Join us for live trivia\, hosted by North Alabama Trivia (@northalabamatrivia)\, starting at 7pm. They bring the best trivia in town to the District\, every Wednesday\, so make sure to tell your friends and family and join in on all the fun
URL:https://bhamnow.com/bhamn-event/trivia-at-birmingham-district-brewing-co/2026-11-11/
LOCATION:2201 2nd Ave S
ATTACH;FMTTYPE=image/png:https://bhamnow.com/wp-content/uploads/2026/04/G0ybXEpw.png
END:VEVENT
BEGIN:VEVENT
DTSTART;TZID=America/Chicago:20261118T190000
DTEND;TZID=America/Chicago:20261118T210000
DTSTAMP:20260424T004710
CREATED:20260402T173756Z
LAST-MODIFIED:20260402T173756Z
UID:10097491-1795028400-1795035600@bhamnow.com
SUMMARY:Trivia at Birmingham District Brewing Co
DESCRIPTION:Join us for live trivia\, hosted by North Alabama Trivia (@northalabamatrivia)\, starting at 7pm. They bring the best trivia in town to the District\, every Wednesday\, so make sure to tell your friends and family and join in on all the fun
URL:https://bhamnow.com/bhamn-event/trivia-at-birmingham-district-brewing-co/2026-11-18/
LOCATION:2201 2nd Ave S
ATTACH;FMTTYPE=image/png:https://bhamnow.com/wp-content/uploads/2026/04/G0ybXEpw.png
END:VEVENT
END:VCALENDAR