BEGIN:VCALENDAR
VERSION:2.0
PRODID:-//Bham Now - ECPv6.15.20//NONSGML v1.0//EN
CALSCALE:GREGORIAN
METHOD:PUBLISH
X-ORIGINAL-URL:https://bhamnow.com
X-WR-CALDESC:Events for Bham Now
REFRESH-INTERVAL;VALUE=DURATION:PT1H
X-Robots-Tag:noindex
X-PUBLISHED-TTL:PT1H
BEGIN:VTIMEZONE
TZID:America/Chicago
BEGIN:DAYLIGHT
TZOFFSETFROM:-0600
TZOFFSETTO:-0500
TZNAME:CDT
DTSTART:20240310T080000
END:DAYLIGHT
BEGIN:STANDARD
TZOFFSETFROM:-0500
TZOFFSETTO:-0600
TZNAME:CST
DTSTART:20241103T070000
END:STANDARD
BEGIN:DAYLIGHT
TZOFFSETFROM:-0600
TZOFFSETTO:-0500
TZNAME:CDT
DTSTART:20250309T080000
END:DAYLIGHT
BEGIN:STANDARD
TZOFFSETFROM:-0500
TZOFFSETTO:-0600
TZNAME:CST
DTSTART:20251102T070000
END:STANDARD
BEGIN:DAYLIGHT
TZOFFSETFROM:-0600
TZOFFSETTO:-0500
TZNAME:CDT
DTSTART:20260308T080000
END:DAYLIGHT
BEGIN:STANDARD
TZOFFSETFROM:-0500
TZOFFSETTO:-0600
TZNAME:CST
DTSTART:20261101T070000
END:STANDARD
BEGIN:DAYLIGHT
TZOFFSETFROM:-0600
TZOFFSETTO:-0500
TZNAME:CDT
DTSTART:20270314T080000
END:DAYLIGHT
BEGIN:STANDARD
TZOFFSETFROM:-0500
TZOFFSETTO:-0600
TZNAME:CST
DTSTART:20271107T070000
END:STANDARD
END:VTIMEZONE
BEGIN:VEVENT
DTSTART;TZID=America/Chicago:20260418T080000
DTEND;TZID=America/Chicago:20260418T120000
DTSTAMP:20260420T023442
CREATED:20260204T163023Z
LAST-MODIFIED:20260204T163023Z
UID:10091693-1776499200-1776513600@bhamnow.com
SUMMARY:Steps Against Melanoma 5K walk/fun run
DESCRIPTION:Steps Against Melanoma walks raise awareness\, fund research\, and support patients and caregivers. Join us and help us move closer to a future without melanoma!
URL:https://bhamnow.com/bhamn-event/steps-against-melanoma-5k-walk-fun-run/
LOCATION:Veterans Park – 4800 Valleydale Road   Hoover AL 35216
CATEGORIES:Running,Walk
ATTACH;FMTTYPE=image/jpeg:https://bhamnow.com/wp-content/uploads/2026/01/IMG_6781.jpeg
END:VEVENT
BEGIN:VEVENT
DTSTART;TZID=America/Chicago:20260418T080000
DTEND;TZID=America/Chicago:20260418T110000
DTSTAMP:20260420T023442
CREATED:20260119T154137Z
LAST-MODIFIED:20260119T154137Z
UID:10091533-1776499200-1776510000@bhamnow.com
SUMMARY:5th Annual Birmingham Steps Against Melanoma
DESCRIPTION:Join us for an inspiring morning at the 5th Annual Steps Against Melanoma walk in Birmingham. Take part in a 5K walk or run\, enjoy music from a DJ\, grab giveaways\, and connect with others for some family-friendly fun (dogs welcome too!). This powerful community event brings together survivors\, caregivers\, families\, and friends who have been touched by melanoma\, all united by one goal: ending melanoma. Every step you take supports AIM at Melanoma’s mission and fuels critical research.
URL:https://bhamnow.com/bhamn-event/5th-annual-birmingham-steps-against-melanoma/
LOCATION:Veterans Park – 4800 Valleydale Road   Hoover AL 35216
CATEGORIES:Athletic Event,City Walk Social,City Walkers,Events,Special Event,Volunteer Opportunity,Walk
ATTACH;FMTTYPE=image/jpeg:https://bhamnow.com/wp-content/uploads/2026/01/BirminghamWalk.jpg
END:VEVENT
BEGIN:VEVENT
DTSTART;TZID=America/Chicago:20251205T173000
DTEND;TZID=America/Chicago:20251205T190000
DTSTAMP:20260420T023442
CREATED:20251208T163151Z
LAST-MODIFIED:20251208T163151Z
UID:10088357-1764955800-1764961200@bhamnow.com
SUMMARY:The INDY5K presented by BlueCross BlueShield of Alabama
DESCRIPTION:Have you ever wondered what it’s like to run the racetrack at the world-renowned Barber Motorsports Park? Well\, now you can! Experience the 17-turn road course like never before at The INDY 5K presented by BlueCross BlueShield of Alabama on Friday\, March 27th at the Barber Motorsports Park. Race participation includes Friday General Admission to the Children’s of Alabama Indy Grand Prix.
URL:https://bhamnow.com/bhamn-event/the-indy5k-presented-by-bluecross-blueshield-of-alabama/
LOCATION:Barber Motorsports Park\, 6040 Barber Motorsports Pkwy\, Birmingham\, AL\, 35094\, United States
CATEGORIES:Athletic Event,Health and Wellness,Running,Sports,Walk
ATTACH;FMTTYPE=image/png:https://bhamnow.com/wp-content/uploads/2025/12/INDY5K-Logo.png
GEO:33.5318079;-86.6189146
X-APPLE-STRUCTURED-LOCATION;VALUE=URI;X-ADDRESS=Barber Motorsports Park 6040 Barber Motorsports Pkwy Birmingham AL 35094 United States;X-APPLE-RADIUS=500;X-TITLE=6040 Barber Motorsports Pkwy:geo:-86.6189146,33.5318079
END:VEVENT
BEGIN:VEVENT
DTSTART;TZID=America/Chicago:20251009T173000
DTEND;TZID=America/Chicago:20251009T203000
DTSTAMP:20260420T023442
CREATED:20250923T154205Z
LAST-MODIFIED:20250923T154205Z
UID:10084790-1760031000-1760041800@bhamnow.com
SUMMARY:Birmingham Light The Night
DESCRIPTION:Everyone with blood cancer deserves a longer\, better life. At Light The Night we gather as a community to celebrate\, honor\, and remember those touched by blood cancers. Companies\, community partners\, families\, and sponsors join to bring light to the darkness of cancer. The funds raised by this community fund life-saving blood cancer research around the world\, provide free information and support services\, and are the voice for those seeking access to quality\, affordable\, coordinated care for patients and their families. We are United to End Blood Cancer. By 2040\, Blood Cancer United will enable people with blood cancer to gain more than one million years of life. This means more birthdays\, more graduations\, more cherished moments and memories with family and friends. Join us at one of the 100+ events across the US and Canada\, where we walk to celebrate\, honor and remember those touched by cancer. We are bringing light to the darkness of cancer. WE LIGHT THE NIGHT. \nJoin us as we Light The Night!
URL:https://bhamnow.com/bhamn-event/birmingham-light-the-night/
LOCATION:Railroad Park\, 1600 1st Ave S\, Birmingham\, AL\, 35233\, United States
CATEGORIES:Downtown,Walk
ATTACH;FMTTYPE=image/png:https://bhamnow.com/wp-content/uploads/2025/09/Participant-Resources-Photo.png
GEO:33.5099169;-86.8084382
X-APPLE-STRUCTURED-LOCATION;VALUE=URI;X-ADDRESS=Railroad Park 1600 1st Ave S Birmingham AL 35233 United States;X-APPLE-RADIUS=500;X-TITLE=1600 1st Ave S:geo:-86.8084382,33.5099169
END:VEVENT
BEGIN:VEVENT
DTSTART;TZID=America/Chicago:20251005T123000
DTEND;TZID=America/Chicago:20251005T160000
DTSTAMP:20260420T023442
CREATED:20250725T143436Z
LAST-MODIFIED:20250725T143436Z
UID:10083392-1759667400-1759680000@bhamnow.com
SUMMARY:Step Up for Down Syndrome
DESCRIPTION:Step Up for Down Syndrome is Down Syndrome Alabama’s annual walk\, a high-energy celebration of inclusion\, advocacy\, and community! This event brings together families\, friends\, and supporters from across Alabama to walk in honor of individuals with Down syndrome! \nJoin us for an inspiring walk honoring individuals with Down syndrome and promoting awareness\, inclusion\, and acceptance. Enjoy a festive atmosphere with music\, fun performances\, and interactive entertainment for all ages. Kids will love the fun-filled zone packed with games\, crafts\, and more! Grab some delicious snacks and drinks for the whole family! Explore a variety of vendors\, local businesses\, and community organizations offering services\, resources\, and great company. Capture special memories with your team at photo stations and celebrate your loved ones in a big way! \nWhether you walk in honor of someone you love or come to support the cause\, Step Up for Down Syndrome is a day filled with joy\, connection\, and purpose. All are welcome — come walk with us and be part of something meaningful!
URL:https://bhamnow.com/bhamn-event/step-up-for-down-syndrome/
LOCATION:Wald Park\, 1973 Merryvale Rd\, Vestavia Hills\, AL\, 35216\, United States
CATEGORIES:Fun Outside,Fundraiser,Walk
ATTACH;FMTTYPE=image/png:https://bhamnow.com/wp-content/uploads/2025/07/Invite-Bham-1.png
ORGANIZER;CN="Down Syndrome Alabama":MAILTO:downsyndromealabama@gmail.com
END:VEVENT
BEGIN:VEVENT
DTSTART;TZID=America/Chicago:20251004T080000
DTEND;TZID=America/Chicago:20251004T100000
DTSTAMP:20260420T023442
CREATED:20250507T145000Z
LAST-MODIFIED:20250507T145000Z
UID:10080711-1759564800-1759572000@bhamnow.com
SUMMARY:Impact Road Race 10K / 5K / 1 Mile Fun Run
DESCRIPTION:This is the main fundraiser for Seeds of Impact\, a nonprofit that exists to break the cycle of brokenness in families\, strengthen the family unit\, and positively change the course of future generations. \nSOI’s mission is to equip parents to break generational cycles and foster healthy family relationships through transformative and FREE parenting education and unwavering support. \nJoin us at the beautiful Oak Mountain State Park to break cycles and impact generations! \nimpactroadrace.com
URL:https://bhamnow.com/bhamn-event/impact-road-race-10k-5k-1-mile-fun-run/
LOCATION:200 Terrace Dr\, Pelham\, AL 35124\, Birmingham\, AL\, United States
CATEGORIES:City Walkers,Community,Downtown,Family Days,Family Friendly Programs,Fundraiser,Health and Wellness,Hike,Walk,Youth
ATTACH;FMTTYPE=image/png:https://bhamnow.com/wp-content/uploads/2025/05/Impact-Road-Race-post-image.png
GEO:33.5185892;-86.8103567
END:VEVENT
BEGIN:VEVENT
DTSTART;TZID=America/Chicago:20250927T080000
DTEND;TZID=America/Chicago:20250927T120000
DTSTAMP:20260420T023442
CREATED:20250509T183051Z
LAST-MODIFIED:20250509T183051Z
UID:10080742-1758960000-1758974400@bhamnow.com
SUMMARY:CHildren's Heart Foundation
DESCRIPTION:https://www.childrensheartfoundation.org/get-involved/events.html/event/2025/09/27/birmingham-congenital-heart-walk/519889\nWalk to raise funds for congenital heart research.
URL:https://bhamnow.com/bhamn-event/childrens-heart-foundation/
LOCATION:Oak Mountain State Park
CATEGORIES:Fundraiser,Walk
ATTACH;FMTTYPE=image/jpeg:https://bhamnow.com/wp-content/uploads/2025/05/chf.jpg
GEO:33.3247302;-86.7593249
END:VEVENT
BEGIN:VEVENT
DTSTART;TZID=America/Chicago:20250924T173000
DTEND;TZID=America/Chicago:20250924T203000
DTSTAMP:20260420T023442
CREATED:20250924T184847Z
LAST-MODIFIED:20250924T184847Z
UID:10085199-1758735000-1758745800@bhamnow.com
SUMMARY:Birmingham Light The Night
DESCRIPTION:Everyone with blood cancer deserves a longer\, better life. At Light The Night we gather as a community to celebrate\, honor\, and remember those touched by blood cancers. Companies\, community partners\, families\, and sponsors join to bring light to the darkness of cancer. The funds raised by this community fund life-saving blood cancer research around the world\, provide free information and support services\, and are the voice for those seeking access to quality\, affordable\, coordinated care for patients and their families. We are United to End Blood Cancer. By 2040\, LLS will enable people with blood cancer to gain more than one million years of life. This means more birthdays\, more graduations\, more cherished moments and memories with family and friends. Join us at one of the 100+ events across the US and Canada\, where we walk to celebrate\, honor and remember those touched by cancer. We are bringing light to the darkness of cancer. WE LIGHT THE NIGHT.
URL:https://bhamnow.com/bhamn-event/birmingham-light-the-night-2/
LOCATION:Railroad Park\, 1600 1st Ave S\, Birmingham\, AL\, 35233\, United States
CATEGORIES:Downtown,Walk
ATTACH;FMTTYPE=image/jpeg:https://bhamnow.com/wp-content/uploads/2025/09/DSC0919-1.jpg
GEO:33.5099169;-86.8084382
X-APPLE-STRUCTURED-LOCATION;VALUE=URI;X-ADDRESS=Railroad Park 1600 1st Ave S Birmingham AL 35233 United States;X-APPLE-RADIUS=500;X-TITLE=1600 1st Ave S:geo:-86.8084382,33.5099169
END:VEVENT
BEGIN:VEVENT
DTSTART;TZID=America/Chicago:20250531T100000
DTEND;TZID=America/Chicago:20250531T120000
DTSTAMP:20260420T023442
CREATED:20250522T192354Z
LAST-MODIFIED:20250522T192354Z
UID:10081853-1748685600-1748692800@bhamnow.com
SUMMARY:Red Mountain Park 101
DESCRIPTION:Do you want to learn more about trails and explore Birmingham’s industrial history? Join our Naturalists at Red Mountain Park where we will review the fundamentals of enjoying our greenspaces. \nThis program is designed for our friends and families who want to spend more time outdoors but don’t know where to start. We will review safety in the outdoors\, appropriate attire\, outdoor activities\, and how to make the most of your experience in nature. The program will include a short guided hike and a brief tour of Red Mountain points of interest! Red Mountain 101 is geared towards our community members who are new to outdoor recreation and is appropriate for all ages. \nNote: For the hike\, bring comfortable walking shoes and a water bottle.The hike will be approximately 1.5 miles on uneven terrain with little to no elevation change (fairly flat).
URL:https://bhamnow.com/bhamn-event/red-mountain-park-101/
LOCATION:Red Mountain Park\, 2011 Frankfurt Drive\, Birmingham\, AL\, 35211\, us
CATEGORIES:Fun Outside,Nature,Programs,Walk
ATTACH;FMTTYPE=image/png:https://bhamnow.com/wp-content/uploads/2025/05/RMP-101-for-website-1.png
GEO:33.445049285889;-86.862632751465
X-APPLE-STRUCTURED-LOCATION;VALUE=URI;X-ADDRESS=Red Mountain Park 2011 Frankfurt Drive Birmingham AL 35211 us;X-APPLE-RADIUS=500;X-TITLE=2011 Frankfurt Drive:geo:-86.862632751465,33.445049285889
END:VEVENT
BEGIN:VEVENT
DTSTART;TZID=America/Chicago:20250510T063000
DTEND;TZID=America/Chicago:20250510T213000
DTSTAMP:20260420T023442
CREATED:20250225T234504Z
LAST-MODIFIED:20250225T234504Z
UID:10076968-1746858600-1746912600@bhamnow.com
SUMMARY:22nd Motherwalk 5K and Fun Run for Ovarian Cancer
DESCRIPTION:Please join us on Saturday\, May 10\, 2025\, in Homewood Central Park for the 22nd annual Motherwalk 5K & Fun Run. Held in memory of Norma Livingston and the many women lost each year to ovarian cancer\, Motherwalk is held to celebrate survivors\, encourage woman in their fight\, remember women who have lost their battle\, and raise awareness about the silent signs and symptoms of the disease. Event will have kids zone\, color run\, vendors\, live dove release\, memory mile\, and much\, much more. For more information or to register: www.cureovariancancer.org
URL:https://bhamnow.com/bhamn-event/22nd-motherwalk-5k-and-fun-run-for-ovarian-cancer/
LOCATION:Homewood Central Park\, 1632 Oxmoor Road\, Homewood\, AL\, 35209\, United States
CATEGORIES:Fun Outside,Health and Wellness,Running,Walk
ATTACH;FMTTYPE=image/jpeg:https://bhamnow.com/wp-content/uploads/2025/02/MW25-18x24-yard-sign-scaled.jpg
GEO:33.4762017;-86.7997984
X-APPLE-STRUCTURED-LOCATION;VALUE=URI;X-ADDRESS=Homewood Central Park 1632 Oxmoor Road Homewood AL 35209 United States;X-APPLE-RADIUS=500;X-TITLE=1632 Oxmoor Road:geo:-86.7997984,33.4762017
END:VEVENT
BEGIN:VEVENT
DTSTART;TZID=America/Chicago:20250502T173000
DTEND;TZID=America/Chicago:20250502T193000
DTSTAMP:20260420T023442
CREATED:20250127T203154Z
LAST-MODIFIED:20250127T203211Z
UID:10074686-1746207000-1746214200@bhamnow.com
SUMMARY:INDY 5K Presented by BlueCross BlueShield of Alabama
DESCRIPTION:Have you ever wondered what it’s like to run the racetrack at the world-renowned Barber Motorsports Park? Well\, now you can! Experience the 17-turn road course like never before at The INDY 5K presented by BlueCross BlueShield of Alabama\, on May 2nd at the Barber Motorsports Park. Race participation includes Friday General Admission to the Children’s of Alabama Indy Grand Prix.
URL:https://bhamnow.com/bhamn-event/indy-5k-presented-by-bluecross-blueshield-of-alabama/
LOCATION:Barber Motorsports Park\, 6040 Barber Motorsports Pkwy\, Birmingham\, AL\, 35094\, United States
CATEGORIES:Health,Running,Walk
ATTACH;FMTTYPE=image/jpeg:https://bhamnow.com/wp-content/uploads/2025/01/PSF_Childrens-of-Alabama-GrandPrix-2024_04262024-02669-1-scaled.jpg
GEO:33.5318079;-86.6189146
X-APPLE-STRUCTURED-LOCATION;VALUE=URI;X-ADDRESS=Barber Motorsports Park 6040 Barber Motorsports Pkwy Birmingham AL 35094 United States;X-APPLE-RADIUS=500;X-TITLE=6040 Barber Motorsports Pkwy:geo:-86.6189146,33.5318079
END:VEVENT
BEGIN:VEVENT
DTSTART;TZID=America/Chicago:20250412T080000
DTEND;TZID=America/Chicago:20250412T110000
DTSTAMP:20260420T023442
CREATED:20250210T181712Z
LAST-MODIFIED:20250210T181712Z
UID:10075745-1744444800-1744455600@bhamnow.com
SUMMARY:19th Annual UAB National Alumni Society Scholarship Run presented by Viva Health
DESCRIPTION:Lace up your shoes and join us for the 2025 UAB Alumni Scholarship Run on Saturday\, April 12th! Hosted every spring\, the NAS Scholarship Run brings together alumni\, students\, friends\, and the community to directly support UAB student success. To date\, the run has raised over $1\,000\,000 for UAB student scholarships.\n📆 Saturday\, April 12\, 2025 at 8:00am\n📍 Crestline Village\n👟 5k\, 10k\, 1-mile fun run (chipped and timed on a certified course) & a virtual option\n💻 alumni.uab.edu/5k10k
URL:https://bhamnow.com/bhamn-event/19th-annual-uab-national-alumni-society-scholarship-run-presented-by-viva-health/
LOCATION:Crestline Elementary 3785 W Jackson Blvd Mountain Brook\, AL\, 2 Jackson Rd\, United States
CATEGORIES:Fundraiser,Health and Wellness,Running,Uab,Walk
ATTACH;FMTTYPE=image/png:https://bhamnow.com/wp-content/uploads/2025/02/TRANSPARENT_VIVA_2025_Scholarship_Run_logo.png
GEO:40.139182;-74.341596
X-APPLE-STRUCTURED-LOCATION;VALUE=URI;X-ADDRESS=Crestline Elementary 3785 W Jackson Blvd Mountain Brook AL 2 Jackson Rd United States;X-APPLE-RADIUS=500;X-TITLE=2 Jackson Rd:geo:-74.341596,40.139182
END:VEVENT
BEGIN:VEVENT
DTSTART;TZID=America/Chicago:20250315T090000
DTEND;TZID=America/Chicago:20250315T110000
DTSTAMP:20260420T023442
CREATED:20250225T234258Z
LAST-MODIFIED:20250225T234258Z
UID:10077058-1742029200-1742036400@bhamnow.com
SUMMARY:Portraits of Hope Fun Run
DESCRIPTION:Portraits of Hope is proud to announce the 2nd Annual Stay the Course Fun Run\, taking place on March 15\, 2025\, at 9:00 AM in Homewood Park. Participants are invited to run\, walk\, or scooter their way through the one-mile flat course\, perfect for all ages and skill levels.\nThe fun run benefits recent graduates (within six months) of The Lovelady Center in Birmingham\, with this year’s goal to raise funds to provide 25 women with 25 cars in 2025. In partnership with First Fruits Ministries\, the initiative aims to help women secure reliable transportation\, empowering them and their families toward stability and independence.\nFirst Fruits secures the cars and gets them in reliable condition.  The Lovelady graduates raise $1500 and then Portraits of Hope matches the $1500 in order for the ladies to obtain a car after taking auto maintenance classes.  Several recipients of previous First Fruits cars will be at the fun run with their cars.\n“We believe that transportation is a vital step toward sustainable success for these women and their families\,” said Beverly McNeil. “Our collaboration with First Fruits Ministries exemplifies community-driven support for lasting change.”\nIn order to register for the fun run\, go to portraitsofhope.charity where you can enter your information and have the opportunity to donate.  Participants are encouraged to arrive early for pre-race activities\, including Chance to Win games\, a food truck\, a bouncy house and an opportunity for the community to interact with the Lovelady graduates.\nEvent Details: What: 2nd Annual Stay the Course Fun Run When: March 15\, 2025\, at 9:00 AM Where: Homewood Park\, Birmingham\, AL Course: One-mile flat course suitable for all ages and skill levels Why: Support graduates of The Lovelady Center in achieving reliable transportation through the “25 Women\, 25 Cars in 2025” campaign\nAbout Portraits of Hope:\nPortraits of Hope is dedicated to uplifting and supporting women graduating from The Lovelady Center who might need one extra “hand up” in their continuous journey of recovery through community-focused initiatives that provide tangible solutions and long-term support. Our annual Stay the Course Fun Run is just one of the ways we foster connection and meaningful impact in Birmingham and beyond.
URL:https://bhamnow.com/bhamn-event/portraits-of-hope-fun-run-2/
CATEGORIES:Fun Outside,Fundraiser,Walk
END:VEVENT
BEGIN:VEVENT
DTSTART;TZID=America/Chicago:20250315T090000
DTEND;TZID=America/Chicago:20250315T110000
DTSTAMP:20260420T023442
CREATED:20250225T234256Z
LAST-MODIFIED:20250225T234256Z
UID:10077059-1742029200-1742036400@bhamnow.com
SUMMARY:Portraits of Hope Fun Run
DESCRIPTION:Portraits of Hope is proud to announce the 2nd Annual Stay the Course Fun Run\, taking place on March 15\, 2025\, at 9:00 AM in Homewood Park. Participants are invited to run\, walk\, or scooter their way through the one-mile flat course\, perfect for all ages and skill levels.\nThe fun run benefits recent graduates (within six months) of The Lovelady Center in Birmingham\, with this year’s goal to raise funds to provide 25 women with 25 cars in 2025. In partnership with First Fruits Ministries\, the initiative aims to help women secure reliable transportation\, empowering them and their families toward stability and independence.\nFirst Fruits secures the cars and gets them in reliable condition.  The Lovelady graduates raise $1500 and then Portraits of Hope matches the $1500 in order for the ladies to obtain a car after taking auto maintenance classes.  Several recipients of previous First Fruits cars will be at the fun run with their cars.\n“We believe that transportation is a vital step toward sustainable success for these women and their families\,” said Beverly McNeil. “Our collaboration with First Fruits Ministries exemplifies community-driven support for lasting change.”\nIn order to register for the fun run\, go to portraitsofhope.charity where you can enter your information and have the opportunity to donate.  Participants are encouraged to arrive early for pre-race activities\, including Chance to Win games\, a food truck\, a bouncy house and an opportunity for the community to interact with the Lovelady graduates.\nEvent Details: What: 2nd Annual Stay the Course Fun Run When: March 15\, 2025\, at 9:00 AM Where: Homewood Park\, Birmingham\, AL Course: One-mile flat course suitable for all ages and skill levels Why: Support graduates of The Lovelady Center in achieving reliable transportation through the “25 Women\, 25 Cars in 2025” campaign\nAbout Portraits of Hope:\nPortraits of Hope is dedicated to uplifting and supporting women graduating from The Lovelady Center who might need one extra “hand up” in their continuous journey of recovery through community-focused initiatives that provide tangible solutions and long-term support. Our annual Stay the Course Fun Run is just one of the ways we foster connection and meaningful impact in Birmingham and beyond.
URL:https://bhamnow.com/bhamn-event/portraits-of-hope-fun-run/
CATEGORIES:Fun Outside,Fundraiser,Walk
ATTACH;FMTTYPE=image/jpeg:https://bhamnow.com/wp-content/uploads/2025/02/PortraitsHope_Logo_cmyk.jpeg
END:VEVENT
END:VCALENDAR