BEGIN:VCALENDAR
VERSION:2.0
PRODID:-//Bham Now - ECPv6.15.20//NONSGML v1.0//EN
CALSCALE:GREGORIAN
METHOD:PUBLISH
X-ORIGINAL-URL:https://bhamnow.com
X-WR-CALDESC:Events for Bham Now
REFRESH-INTERVAL;VALUE=DURATION:PT1H
X-Robots-Tag:noindex
X-PUBLISHED-TTL:PT1H
BEGIN:VTIMEZONE
TZID:America/Chicago
BEGIN:DAYLIGHT
TZOFFSETFROM:-0600
TZOFFSETTO:-0500
TZNAME:CDT
DTSTART:20240310T080000
END:DAYLIGHT
BEGIN:STANDARD
TZOFFSETFROM:-0500
TZOFFSETTO:-0600
TZNAME:CST
DTSTART:20241103T070000
END:STANDARD
BEGIN:DAYLIGHT
TZOFFSETFROM:-0600
TZOFFSETTO:-0500
TZNAME:CDT
DTSTART:20250309T080000
END:DAYLIGHT
BEGIN:STANDARD
TZOFFSETFROM:-0500
TZOFFSETTO:-0600
TZNAME:CST
DTSTART:20251102T070000
END:STANDARD
BEGIN:DAYLIGHT
TZOFFSETFROM:-0600
TZOFFSETTO:-0500
TZNAME:CDT
DTSTART:20260308T080000
END:DAYLIGHT
BEGIN:STANDARD
TZOFFSETFROM:-0500
TZOFFSETTO:-0600
TZNAME:CST
DTSTART:20261101T070000
END:STANDARD
END:VTIMEZONE
BEGIN:VEVENT
DTSTART;TZID=America/Chicago:20251112T160000
DTEND;TZID=America/Chicago:20251112T180000
DTSTAMP:20260421T060446
CREATED:20250926T231324Z
LAST-MODIFIED:20251111T024124Z
UID:10085244-1762963200-1762970400@bhamnow.com
SUMMARY:Fall Teacher Workshop
DESCRIPTION:Our first educator professional development opportunity of the year! We’ll take inspiration from our newest Wall to Wall exhibition\, which explores Black neurodiversity\, to discuss how to work with wheatpaste(including getting our hands dirty) and ways to support your students in using art for advocacy.  \nThis free workshop is designed for art teachers in and around the Birmingham area. Please register below to reserve your spot! \n\n\n\n\n                  This event has passed\n              \n \n\nFree \n                    Unavailable
URL:https://bhamnow.com/bhamn-event/fall-teacher-workshop/
LOCATION:Birmingham Museum of Art\, 2000 Rev. Abraham Woods\, Jr. Blvd\, Birmingham\, AL\, 35203\, United States
CATEGORIES:Downtown,Fun,Teacher Workshops And Lectures
ATTACH;FMTTYPE=image/png:https://bhamnow.com/wp-content/uploads/2025/09/Screenshot-2025-07-31-at-10.20.00E280AFAM-PHSqQx.png
GEO:33.5222197;-86.8100693
X-APPLE-STRUCTURED-LOCATION;VALUE=URI;X-ADDRESS=Birmingham Museum of Art 2000 Rev. Abraham Woods Jr. Blvd Birmingham AL 35203 United States;X-APPLE-RADIUS=500;X-TITLE=2000 Rev. Abraham Woods\, Jr. Blvd:geo:-86.8100693,33.5222197
END:VEVENT
END:VCALENDAR