BEGIN:VCALENDAR
VERSION:2.0
PRODID:-//Bham Now - ECPv6.15.20//NONSGML v1.0//EN
CALSCALE:GREGORIAN
METHOD:PUBLISH
X-WR-CALNAME:Bham Now
X-ORIGINAL-URL:https://bhamnow.com
X-WR-CALDESC:Events for Bham Now
REFRESH-INTERVAL;VALUE=DURATION:PT1H
X-Robots-Tag:noindex
X-PUBLISHED-TTL:PT1H
BEGIN:VTIMEZONE
TZID:America/Chicago
BEGIN:DAYLIGHT
TZOFFSETFROM:-0600
TZOFFSETTO:-0500
TZNAME:CDT
DTSTART:20250309T080000
END:DAYLIGHT
BEGIN:STANDARD
TZOFFSETFROM:-0500
TZOFFSETTO:-0600
TZNAME:CST
DTSTART:20251102T070000
END:STANDARD
BEGIN:DAYLIGHT
TZOFFSETFROM:-0600
TZOFFSETTO:-0500
TZNAME:CDT
DTSTART:20260308T080000
END:DAYLIGHT
BEGIN:STANDARD
TZOFFSETFROM:-0500
TZOFFSETTO:-0600
TZNAME:CST
DTSTART:20261101T070000
END:STANDARD
BEGIN:DAYLIGHT
TZOFFSETFROM:-0600
TZOFFSETTO:-0500
TZNAME:CDT
DTSTART:20270314T080000
END:DAYLIGHT
BEGIN:STANDARD
TZOFFSETFROM:-0500
TZOFFSETTO:-0600
TZNAME:CST
DTSTART:20271107T070000
END:STANDARD
END:VTIMEZONE
BEGIN:VEVENT
DTSTART;TZID=America/Chicago:20260510T110000
DTEND;TZID=America/Chicago:20260510T160000
DTSTAMP:20260424T110740
CREATED:20260421T201706Z
LAST-MODIFIED:20260421T201706Z
UID:10098081-1778410800-1778428800@bhamnow.com
SUMMARY:Mother's Day Brunch at Habitat Feed & Social
DESCRIPTION:Celebrate Mom in unforgettable style at Habitat Feed & Social at Grand Bohemian Mountain Brook this Mother’s Day with an indulgent brunch buffet designed to delight. \nEnjoy decadent waffles and omelets\, prime rib and porchetta carving stations\, a fresh seafood display\, and a dessert extravaganza. \n$99 per adult | $49 for children ages 6-12\nReservations are required. Space is limited.
URL:https://bhamnow.com/bhamn-event/mothers-day-brunch-at-habitat-feed-social/
LOCATION:Grand Bohemian Hotel 2655 Lane Parke Road Mountain Brook\, AL 35223\, 2401 Park Ln S\, United States
CATEGORIES:Food,Sunday Brunch
ATTACH;FMTTYPE=image/jpeg:https://bhamnow.com/wp-content/uploads/2026/04/ak-bhmag-brunch-35661-31194-scaled.jpg
GEO:26.0315262;-80.1743223
X-APPLE-STRUCTURED-LOCATION;VALUE=URI;X-ADDRESS=Grand Bohemian Hotel 2655 Lane Parke Road Mountain Brook AL 35223 2401 Park Ln S United States;X-APPLE-RADIUS=500;X-TITLE=2401 Park Ln S:geo:-80.1743223,26.0315262
END:VEVENT
END:VCALENDAR