BEGIN:VCALENDAR
VERSION:2.0
PRODID:-//Bham Now - ECPv6.15.20//NONSGML v1.0//EN
CALSCALE:GREGORIAN
METHOD:PUBLISH
X-ORIGINAL-URL:https://bhamnow.com
X-WR-CALDESC:Events for Bham Now
REFRESH-INTERVAL;VALUE=DURATION:PT1H
X-Robots-Tag:noindex
X-PUBLISHED-TTL:PT1H
BEGIN:VTIMEZONE
TZID:America/Chicago
BEGIN:DAYLIGHT
TZOFFSETFROM:-0600
TZOFFSETTO:-0500
TZNAME:CDT
DTSTART:20240310T080000
END:DAYLIGHT
BEGIN:STANDARD
TZOFFSETFROM:-0500
TZOFFSETTO:-0600
TZNAME:CST
DTSTART:20241103T070000
END:STANDARD
BEGIN:DAYLIGHT
TZOFFSETFROM:-0600
TZOFFSETTO:-0500
TZNAME:CDT
DTSTART:20250309T080000
END:DAYLIGHT
BEGIN:STANDARD
TZOFFSETFROM:-0500
TZOFFSETTO:-0600
TZNAME:CST
DTSTART:20251102T070000
END:STANDARD
BEGIN:DAYLIGHT
TZOFFSETFROM:-0600
TZOFFSETTO:-0500
TZNAME:CDT
DTSTART:20260308T080000
END:DAYLIGHT
BEGIN:STANDARD
TZOFFSETFROM:-0500
TZOFFSETTO:-0600
TZNAME:CST
DTSTART:20261101T070000
END:STANDARD
END:VTIMEZONE
BEGIN:VEVENT
DTSTART;TZID=America/Chicago:20251206T150000
DTEND;TZID=America/Chicago:20251206T170000
DTSTAMP:20260421T035423
CREATED:20251017T132518Z
LAST-MODIFIED:20251103T165403Z
UID:10086467-1765033200-1765040400@bhamnow.com
SUMMARY:Paint your own Nutcracker Class
DESCRIPTION:Join us for a delightful and creative experience at University Pickers with our “Paint Your Own Nutcracker” class\, hosted by the owners of University Pickers\, Cindi and Trish! If you’ve been captivated by the fun TikTok nutcracker videos\, now’s your chance to bring one to life with your own unique flair. In this engaging workshop\, you’ll be provided with an 18-inch wooden nutcracker and all the supplies needed to transform it into a masterpiece. Whether you’re a seasoned artist or a beginner\, Cindi and Trish will guide you through the process\, ensuring a fun and inspiring environment. Unleash your creativity\, enjoy the camaraderie\, and leave with a personalized nutcracker to cherish for years to come. Spaces are limited\, so secure your spot today and get ready to paint\, share laughs\, and make lasting memories!
URL:https://bhamnow.com/bhamn-event/paint-your-own-nutcracker-class/
LOCATION:University Pickers – Huntsville\, 3405 Triana Blvd sw\, Huntsville\, AL\, 35805\, United States
CATEGORIES:Fun,painting workshop,Sign Making Class
ATTACH;FMTTYPE=image/jpeg:https://bhamnow.com/wp-content/uploads/2025/10/nutcracker-class-knlgwg.jpg
GEO:34.7032173;-86.6091403
X-APPLE-STRUCTURED-LOCATION;VALUE=URI;X-ADDRESS=University Pickers – Huntsville 3405 Triana Blvd sw Huntsville AL 35805 United States;X-APPLE-RADIUS=500;X-TITLE=3405 Triana Blvd sw:geo:-86.6091403,34.7032173
END:VEVENT
BEGIN:VEVENT
DTSTART;TZID=America/Chicago:20250322T130000
DTEND;TZID=America/Chicago:20250322T143000
DTSTAMP:20260421T035423
CREATED:20250207T233507Z
LAST-MODIFIED:20250322T014004Z
UID:10075734-1742648400-1742653800@bhamnow.com
SUMMARY:Easy Watercolor Bird Collage Artwork
DESCRIPTION:Anyone can be an artist! Combine the \n\n\nversatility of watercolor and the flexibility of collage to create your \n\n\nown 5 x 7 art piece.  
URL:https://bhamnow.com/bhamn-event/easy-watercolor-bird-collage-artwork/
LOCATION:University Pickers – Huntsville\, 3405 Triana Blvd sw\, Huntsville\, AL\, 35805\, United States
CATEGORIES:Fun,Paint Party,painting workshop
ATTACH;FMTTYPE=image/jpeg:https://bhamnow.com/wp-content/uploads/2025/02/artwork-class-D00nvb.tmp_.jpg
GEO:34.7032173;-86.6091403
X-APPLE-STRUCTURED-LOCATION;VALUE=URI;X-ADDRESS=University Pickers – Huntsville 3405 Triana Blvd sw Huntsville AL 35805 United States;X-APPLE-RADIUS=500;X-TITLE=3405 Triana Blvd sw:geo:-86.6091403,34.7032173
END:VEVENT
BEGIN:VEVENT
DTSTART;TZID=America/Chicago:20250313T170000
DTEND;TZID=America/Chicago:20250313T190000
DTSTAMP:20260421T035423
CREATED:20250305T010637Z
LAST-MODIFIED:20250305T010637Z
UID:10078337-1741885200-1741892400@bhamnow.com
SUMMARY:Two-sided House Shelf-sitter | Grand River Pickers Classroom
DESCRIPTION:Join The Wooden Anchor in the Grand River Pickers Classroom to paint a two-sided house shelf-sitter – spring on one side and ‘everyday’ on the others. One side can be textured.\nCost is $20.00\nSpace is limited | March 10 is the last day to register\nGrand River Pickers is located at The Shops of Grand River outlet mall in Leeds\, AL – exit 140 on I-20 \nFind additional details and a payment link through our Facebook event linked below\nOr contact Leslie with The Wooden Anchor at 404-401-7114 to register.
URL:https://bhamnow.com/bhamn-event/two-sided-house-shelf-sitter-grand-river-pickers-classroom/
LOCATION:Grand River Pickers\, 6200 Grand River Pkwy\, Leeds\, AL\, 35094\, United States
CATEGORIES:Craft Class,Paint Party,painting workshop
ATTACH;FMTTYPE=image/png:https://bhamnow.com/wp-content/uploads/2025/03/25.3.13-RUT-textured-house-600-x-300-px.png
ORGANIZER;CN="Grand River Pickers":MAILTO:grandriverpickers@gmail.com
END:VEVENT
END:VCALENDAR