BEGIN:VCALENDAR
VERSION:2.0
PRODID:-//Bham Now - ECPv6.15.20//NONSGML v1.0//EN
CALSCALE:GREGORIAN
METHOD:PUBLISH
X-ORIGINAL-URL:https://bhamnow.com
X-WR-CALDESC:Events for Bham Now
REFRESH-INTERVAL;VALUE=DURATION:PT1H
X-Robots-Tag:noindex
X-PUBLISHED-TTL:PT1H
BEGIN:VTIMEZONE
TZID:America/Chicago
BEGIN:DAYLIGHT
TZOFFSETFROM:-0600
TZOFFSETTO:-0500
TZNAME:CDT
DTSTART:20250309T080000
END:DAYLIGHT
BEGIN:STANDARD
TZOFFSETFROM:-0500
TZOFFSETTO:-0600
TZNAME:CST
DTSTART:20251102T070000
END:STANDARD
BEGIN:DAYLIGHT
TZOFFSETFROM:-0600
TZOFFSETTO:-0500
TZNAME:CDT
DTSTART:20260308T080000
END:DAYLIGHT
BEGIN:STANDARD
TZOFFSETFROM:-0500
TZOFFSETTO:-0600
TZNAME:CST
DTSTART:20261101T070000
END:STANDARD
BEGIN:DAYLIGHT
TZOFFSETFROM:-0600
TZOFFSETTO:-0500
TZNAME:CDT
DTSTART:20270314T080000
END:DAYLIGHT
BEGIN:STANDARD
TZOFFSETFROM:-0500
TZOFFSETTO:-0600
TZNAME:CST
DTSTART:20271107T070000
END:STANDARD
END:VTIMEZONE
BEGIN:VEVENT
DTSTART;TZID=America/Chicago:20260417T220000
DTEND;TZID=America/Chicago:20260418T020000
DTSTAMP:20260421T075059
CREATED:20260415T161019Z
LAST-MODIFIED:20260415T161019Z
UID:10098032-1776463200-1776477600@bhamnow.com
SUMMARY:Music City Queens LIVE at Tin Roof!
DESCRIPTION:Nashville’s Music City Queens play all of your favorite songs on the Tin Roof Stage! DRINK! DANCE! REPEAT!
URL:https://bhamnow.com/bhamn-event/music-city-queens-live-at-tin-roof/
LOCATION:Tin Roof Birmingham\, 2709 7th Ave S\, Birmingham\, AL\, 35233\, United States
CATEGORIES:Concerts,Downtown,Events,Featured Event,Local Events,Music
ATTACH;FMTTYPE=image/jpeg:https://bhamnow.com/wp-content/uploads/2026/04/DSC8324-2-1-scaled.jpeg
GEO:33.5105806;-86.7894656
X-APPLE-STRUCTURED-LOCATION;VALUE=URI;X-ADDRESS=Tin Roof Birmingham 2709 7th Ave S Birmingham AL 35233 United States;X-APPLE-RADIUS=500;X-TITLE=2709 7th Ave S:geo:-86.7894656,33.5105806
END:VEVENT
BEGIN:VEVENT
DTSTART;TZID=America/Chicago:20260418T080000
DTEND;TZID=America/Chicago:20260418T110000
DTSTAMP:20260421T075059
CREATED:20260119T154137Z
LAST-MODIFIED:20260119T154137Z
UID:10091533-1776499200-1776510000@bhamnow.com
SUMMARY:5th Annual Birmingham Steps Against Melanoma
DESCRIPTION:Join us for an inspiring morning at the 5th Annual Steps Against Melanoma walk in Birmingham. Take part in a 5K walk or run\, enjoy music from a DJ\, grab giveaways\, and connect with others for some family-friendly fun (dogs welcome too!). This powerful community event brings together survivors\, caregivers\, families\, and friends who have been touched by melanoma\, all united by one goal: ending melanoma. Every step you take supports AIM at Melanoma’s mission and fuels critical research.
URL:https://bhamnow.com/bhamn-event/5th-annual-birmingham-steps-against-melanoma/
LOCATION:Veterans Park – 4800 Valleydale Road   Hoover AL 35216
CATEGORIES:Athletic Event,City Walk Social,City Walkers,Events,Special Event,Volunteer Opportunity,Walk
ATTACH;FMTTYPE=image/jpeg:https://bhamnow.com/wp-content/uploads/2026/01/BirminghamWalk.jpg
END:VEVENT
BEGIN:VEVENT
DTSTART;TZID=America/Chicago:20260418T100000
DTEND;TZID=America/Chicago:20260418T120000
DTSTAMP:20260421T075059
CREATED:20260304T213659Z
LAST-MODIFIED:20260304T213659Z
UID:10092829-1776506400-1776513600@bhamnow.com
SUMMARY:Helena Autism Awareness Walk 2026
DESCRIPTION:The Helena Autism Awareness Walk will be held at Joe Tucker Park in Helena on April 18th from 10am-12pm. The walk will help you to learn Support and Build Awareness\, Celebrating Inclusion\, Strengthening Our Community \nThe event includes family friendly activities\, music\, resources\, Parasol Teats Truck\, and the Sensory Trailer from the Helena Police Department
URL:https://bhamnow.com/bhamn-event/helena-autism-awareness-walk-2026/
LOCATION:Helena\, AL\, Helena\, AL\, 35080\, United States
CATEGORIES:City Walk Social,Community,EDUCATIONAL EVENT,Events,Family Friendly Programs
ATTACH;FMTTYPE=image/jpeg:https://bhamnow.com/wp-content/uploads/2026/03/Helena-Autism-Walk-2026.jpg
GEO:33.2543052;-86.9123217
END:VEVENT
BEGIN:VEVENT
DTSTART;TZID=America/Chicago:20260425T180000
DTEND;TZID=America/Chicago:20260425T210000
DTSTAMP:20260421T075059
CREATED:20260304T213719Z
LAST-MODIFIED:20260304T213719Z
UID:10092826-1777140000-1777150800@bhamnow.com
SUMMARY:Books-A-Million Presents: An Evening with with Dog Man and Captain Underpants Creator Dav Pilkey
DESCRIPTION:Books-A-Million Proudly Presents Dav Pilkey\, #1 Worldwide Bestselling Author and Illustrator of Dog Man\, Captain Underpants\, and Cat Kid Comic Club \nSaturday\, April 25 at 6:00 PM CT (Doors open at 5:00 PM) \nJemison Concert Hall at Alys Stephens Center\n1200 10th Avenue South\, Birmingham\, AL 35205 \nJoin us for an epic family fun event! \nTHE EVENT EXPERIENCE: \nThis in-person event will feature a visual presentation and live drawing session featuring author and illustrator Dav Pilkey! Plus trivia with special prizes! The program will run approximately 30 minutes long\, followed by a photo opportunity with Dav Pilkey. \nIn addition to the above\, there will be fun activities including a photo-opportunity with the Captain Underpants and Dog Man costume characters\, exclusive giveaways\, and more. \nAttendees are encouraged to power up and dress up as Captain Underpants\, Dog Man\, Cat Kid\, or your favorite Dav Pilkey book character! \nABOUT THE EVENT + TICKETS: \nEach ticket costs $25.00 (inclusive of all taxes and fees) and includes the event experience plus a pre-signed copy of Captain Underpants: The First Epic Manga\, written and adapted by Dav Pilkey\, with full color illustrations by Japanese manga artist Motojiro — plus a limited edition Captain Underpants hypno ring! \nYour pre-signed copy of Captain Underpants: The First Epic Manga with hypno ring will be available for pick-up as you enter the event. \nInspired by one of the themes in Dav Pilkey’s books about the importance of doing good\, if you wish to give away any of your extra signed books\, we are happy to donate it on your behalf to our literacy organization partner\, Better Basics. \nHELPFUL TIPS/GUIDELINES: \nFor guidelines\, please check with the bookstore/event host. Due to the number of people waiting in line for the photo opportunity with Dav Pilkey\, it is very much appreciated these guidelines are followed. \nParking—Street parking\, UAB Zone lots F1 and F3 (F3 is located behind AEIVA) – are available. Weekday parking varies based on the event. Accessible spaces are in Zone F-3\, and on 10th Avenue South and the lower circle. Patron drop-off areas are in upper and lower circles. The gated lot is for Arts Circle level and above members and corporate sponsors. \nZone F-1\n1091 10th Ave S Birmingham\, Alabama 35233 \nZone F-2 (Reserved for Members and Sponsors)\n1100 12th St S Birmingham\, Alabama 35233 \nZone F-3 (Best Option)\n1245 11th Ave S Birmingham\, Alabama 35233 \nAccessibility Parking // During performances and evening rentals\, the metered spaces between the Center and UAB’s Spencer Honors House will be restricted to those with disability access parking permits. The upper and lower circle driveways may be used as a drop-off for patrons with a disability. \nTo ensure Dav has the opportunity to meet all families in attendance\, he will not be signing or personalizing books during the photo line. \nIf you have any questions about the event\, please contact Books-A-Million at 205-661-9177. \nThank you and we look forward to seeing you at this supa epic event! \nAbout Captain Underpants\nOriginally created by Dav Pilkey when he was alone in his elementary school hallway in second grade\, the Captain Underpants series follows the adventures of fourth graders\, George Beard and Harold Hutchins\, who love to create comics and who hypnotize their school principal and turn him into their comic book creation\, Captain Underpants. Publishers Weekly praised Captain Underpants as “subversively hilarious.” Newsweek called Captain Underpants “a triumph of irreverence\,” Slate.com hailed the series “slyly intelligent…revolutionary\,” and Entertainment Weekly called it “irresistible.” Captain Underpants has won multiple state book awards\, many of which were voted on by children. USA Today called Dav Pilkey “the savior of the reluctant reader.” \nLaunched nearly 30 years ago\, the Captain Underpants series has more than 90 million copies in print to date and translations in 37 languages. DreamWorks Animation released Captain Underpants: The First Epic Movie in theaters worldwide. The film featured the voices of Kevin Hart (George Beard)\, Thomas Middleditch (Harold Hutchins)\, Ed Helms (Captain Underpants)\, Nick Kroll (Professor Poopypants)\, and Jordan Peele (Melvin). \nAbout Dav Pilkey\nDav Pilkey has created over 75 books for children and was awarded a Caldecott Honor for his picture book The Paperboy. When Dav Pilkey was in second grade\, he was diagnosed with dyslexia and what is now widely known as attention deficit hyperactivity disorder (ADHD). Because of his learning and behavioral issues in school\, he was often sent out in the hallway. It was in his elementary school hallway where he created comic books about superheroes that eventually became Captain Underpants and Dog Man. Pilkey’s blockbuster phenomenon Dog Man released in 2016 has more than 70 million copies in print to date\, translations in 50 languages\, and is one of the bestselling graphic novel series of all time. The hit movie adaptation of Dog Man was released by DreamWorks Animation and Universal Pictures featuring the voices of Pete Davidson\, Isla Fisher\, Lil Rel Howery\, and Ricky Gervais. Cat Kid Comic Club series\, a spin-off of Dog Man which highlights how lessons in creativity often reflect lessons in real life\, is also a #1 worldwide bestseller\, translated in 28 languages to date\, and has been adapted to a hit musical from TheaterworksUSA. Dav’s first graphic novel\, The Adventures of Super Diaper Baby\, was published 24 years ago and became an instant national bestseller. For more information about Dav Pilkey and his books\, visit the Mediaroom HERE.
URL:https://bhamnow.com/bhamn-event/books-a-million-presents-an-evening-with-with-dog-man-and-captain-underpants-creator-dav-pilkey/
LOCATION:Alys Stephens Center\, Jemison Concert Hall\, 1200 10th Avenue South\, Birmingham\, AL\, 35294\, United States
CATEGORIES:Downtown,Events,Family Friendly Programs,Local Events,Special Events,Special Speaker,Uab,Youth
ATTACH;FMTTYPE=image/png:https://bhamnow.com/wp-content/uploads/2026/03/DP-Tour_2026_CaptManga_indiv-events_EventBriteheader_BirminghamAL_v2_BAMlogo.png
GEO:33.4971186;-86.8078397
X-APPLE-STRUCTURED-LOCATION;VALUE=URI;X-ADDRESS=Alys Stephens Center Jemison Concert Hall 1200 10th Avenue South Birmingham AL 35294 United States;X-APPLE-RADIUS=500;X-TITLE=1200 10th Avenue South:geo:-86.8078397,33.4971186
END:VEVENT
BEGIN:VEVENT
DTSTART;TZID=America/Chicago:20260426T170000
DTEND;TZID=America/Chicago:20260426T190000
DTSTAMP:20260421T075059
CREATED:20260305T190832Z
LAST-MODIFIED:20260305T190832Z
UID:10092845-1777222800-1777230000@bhamnow.com
SUMMARY:"Swing for Strays" Katdadde Inc. Topgolf Social Event
DESCRIPTION:Topgolf for cats! Katdadde Inc. is a local Birmingham cat rescue. Play golf + learn how to help us save cats. \nThis Topgolf event is a community gathering to rally support for KatDadde Inc.\, by raising awareness and funds for vet care\, Trap-Neuter-Return (TNR)\, and the daily care of 70+ cats while highlighting adoption success stories. If enough items are donated\, we would like to hold a silent auction to raise money for the rescue. Our goal is to grow a base of supporters and volunteers so we can save more cats with sustained local impact. \nA ticket covers one round of golf. \nRescue Information: Katdadde Inc. (katdadde.org) Instagram: @Katdadde | Facebook: Katdadde Inc. \nBuy tickets here: https://www.zeffy.com/en-US/ticketing/katdadde-inc-topgolf-social-event-birmingham
URL:https://bhamnow.com/bhamn-event/swing-for-strays-katdadde-inc-topgolf-social-event/
LOCATION:Top Golf Birmingham\, 1111 24th St. N\, Birmingham\, AL\, 35234\, United States
CATEGORIES:Community,Downtown,Events,Family Days,Family Friendly Programs,Local Events,Play,Sports,Spring Break,Youth
GEO:33.5288041;-86.8080291
X-APPLE-STRUCTURED-LOCATION;VALUE=URI;X-ADDRESS=Top Golf Birmingham 1111 24th St. N Birmingham AL 35234 United States;X-APPLE-RADIUS=500;X-TITLE=1111 24th St. N:geo:-86.8080291,33.5288041
END:VEVENT
BEGIN:VEVENT
DTSTART;TZID=America/Chicago:20260503T110000
DTEND;TZID=America/Chicago:20260503T170000
DTSTAMP:20260421T075059
CREATED:20260317T192917Z
LAST-MODIFIED:20260317T192917Z
UID:10093028-1777806000-1777827600@bhamnow.com
SUMMARY:Birmingham Vegan Fest Spring 2026
DESCRIPTION:Join us for Birmingham Vegan Fest Spring 2026. Our festival is the largest vegan fest in Alabama. This FREE event is open to everyone\, 11am-5pm\, Sunday\, May 3rd\, at Cahaba Brewing Co. \nWe will showcase the booming local vegan scene\, so there will be a heavy emphasis on local food trucks\, popups\, and other vegan-friendly vendors. Also\, there will be plenty of traveling vendors with some great booths and food trucks. \nWe will also have DJ BRX on the beats\, face painting\, and more!. There will be multiple vegan door prizes\, worth hundreds of dollars\, given away each hour\, so stop by the Birmingham Vegan booth at the main entrance of Cahaba Brewing Co. to sign up for a chance to win! \nHere are some of the awesome folks you’ll see at the Birmingham Vegan Fest:\nSometimeatarian\nConscious Living LLC\nSolcial Veg\nFevers Plant Based Foods\nOh My Cod Vegan Seafood\nNew China Town\nImagine Vegan Cafe\nFresh 22 ATL\nAfya Bites\nSlutty Vegan Birmingham\nVujee Vegan\nHappi Pappi Beignets\nUncle G’s Pizza\nDivine Plant-Based Cuisine\nSuperior Vegan\nGageZ Cafe\nGOAP / The Creamy Spot\nSweet Rain Vegan Bakeshop\nJamies Cookie Dough\nVelvet Kake\, LLC\nTasteNCTreats\nAdored Sweets\nAromas from Home\, LLC\nTarez Kitchen\nNaughty But Nice Kettle Corn Co.\nShaejaes Wellness\nEden’s Farmacy\nAquality Farms\nHeyDay Greens\nShe is Candles\, LLC\nKhemistry Kandle\nSOC7ETY Artisan Candle Co.\nKing’s Olive Oil Company\nCantey Foundation Specialist\nBubble Nuggets\nAlexsandra Rose Skin &Wellness\nKissed By The Gods LLC\nYolaine’s Enhancing Skincare Products\nBrianna’s Natural Infusions\nNature’s Butterfly Kisses\nSoulSistah3.0\nThe Veggie Taste\nGuaranteed Comfort\nSheaReneProducts&Gourmettreats\nCurry’s Corner\nStory Time Ink\nGood Karma Eco Shop\nCentral Alabama Pride\nFull Circle Farm Sanctuary\nHappy Cow and Friends Hangout\nGraybloom Farm Sanctuary \nEvent Location: Cahaba Brewing Company \nAlso\, our host Cahaba Brewing Co. is very supportive of the vegan community\, and almost all their beers are vegan (exceptions are any milk stouts or honey beers). All of their cocktails\, mocktails\, non-alcoholic beers\, and THC drinks are vegan\, too! \nBirmingham Vegans started over a decade ago as a group to connect and grow the vegan community and build the vegan movement here and beyond. We have over 4\,800 Facebook followers\, over 1\,500 Meetup members\, and over 2\,900 Instagram followers. Birmingham is a special city with so much energy for progress\, and it has been exciting to see veganism grow alongside all the amazing things happening here. \nBirmingham Vegans has hosted hundreds of gatherings highlighting vegan entrepreneurs\, leaders\, educators\, and creators. We’ve put on festivals (in person and online)\, held regular meetups at restaurants\, invited the public into our homes for potlucks\, organized hiking and kayaking adventures\, held picnics\, conducted canned food drives\, and featured chef demonstrations\, vegan-themed films\, supported local sanctuaries by volunteering and donations\, and talks from authors.\nMessage us on social media if you are interested in volunteer\, vendor\, or sponsorship opportunities with the Birmingham Vegan Fest. \nEveryone is invited to attend—vegan\, veg-curious\, omnivore\, or whatever—so bring your friends who will be amazed at how delicious vegan food can be! This is a kid-friendly event\, and you can bring your animal companions\, too! Veganism is booming in Birmingham\, so come on out and see on May 3rd!\nPlease sign up here and/ or on the Meetup app to let us and our vendors know that you will be there!
URL:https://bhamnow.com/bhamn-event/birmingham-vegan-fest-spring-2026/
LOCATION:Cahaba Brewing Co.\, 4500 5th Ave South\, Birmingham\, AL\, 35222\, United States
CATEGORIES:Arts,Beer,Community,Events,Festival,Festivals,Food Trucks,Health and Wellness,In-Person Events,Local Events,Music,Natural Heritage Event,sip & shop,Sustainability,Volunteer Opportunities,Walk,Wellness
ATTACH;FMTTYPE=image/jpeg:https://bhamnow.com/wp-content/uploads/2026/03/IMG_5653.jpeg
GEO:33.5267234;-86.7648818
X-APPLE-STRUCTURED-LOCATION;VALUE=URI;X-ADDRESS=Cahaba Brewing Co. 4500 5th Ave South Birmingham AL 35222 United States;X-APPLE-RADIUS=500;X-TITLE=4500 5th Ave South:geo:-86.7648818,33.5267234
END:VEVENT
BEGIN:VEVENT
DTSTART;TZID=America/Chicago:20260517T110000
DTEND;TZID=America/Chicago:20260517T190000
DTSTAMP:20260421T075059
CREATED:20260220T163535Z
LAST-MODIFIED:20260220T163535Z
UID:10092693-1779015600-1779044400@bhamnow.com
SUMMARY:Birmingham Folk Festival is Back and Better than Ever!
DESCRIPTION:Join us for the 2026 Birmingham Folk Festival! Bring the whole family to experience an unforgettable day of live music\, local arts and crafts\, fun activities\, and delicious food—all in beautiful historic Avondale Park. The festival takes place from 11 a.m. to 7 p.m. on Saturday\, May 16th\, 2026\, and best of all\, it’s still FREE for everyone. Tune into to BirminghamFolkFest.org for updates on performers\, stages and activities… \nWe’re also looking for enthusiastic volunteers to help make this year’s festival our best yet! To get involved\, visit BirminghamFolkFest.org and select “Volunteer Application” on the main page. \nBirmingham Folk Festival\, Inc. is a nonprofit organization dedicated to promoting unity and strengthening our community through the arts. We believe music has the power to bring people together and celebrate the rich diversity of our city—and we can’t wait to share that spirit with you again this year.
URL:https://bhamnow.com/bhamn-event/birmingham-folk-festival-is-back-and-better-than-ever/
LOCATION:Avondale Park\, Avondale Park\, Birmingham\, AL\, 35222\, United States
CATEGORIES:Amphitheater,Events,Family Festival,Festival,Food Trucks,Fun Outside,Music,Playground
ATTACH;FMTTYPE=image/png:https://bhamnow.com/wp-content/uploads/2026/02/Save-the-Date3-1.png
GEO:33.5217312;-86.7779253
X-APPLE-STRUCTURED-LOCATION;VALUE=URI;X-ADDRESS=Avondale Park Avondale Park Birmingham AL 35222 United States;X-APPLE-RADIUS=500;X-TITLE=Avondale Park:geo:-86.7779253,33.5217312
END:VEVENT
BEGIN:VEVENT
DTSTART;TZID=America/Chicago:20260519T193000
DTEND;TZID=America/Chicago:20260519T223000
DTSTAMP:20260421T075059
CREATED:20250522T181501Z
LAST-MODIFIED:20250522T181501Z
UID:10081828-1779219000-1779229800@bhamnow.com
SUMMARY:& JULIET
DESCRIPTION:Created by the Emmy®-winning writer from “Schitt’s Creek\,” this hilarious new musical flips the script on the greatest love story ever told. & JULIET asks: what would happen next if Juliet didn’t end it all over Romeo? Get whisked away on a fabulous journey as she ditches her famous ending for a fresh beginning and a second chance at life and love—her way. \nJuliet’s new story bursts to life through a playlist of pop anthems as iconic as her name\, including “Since U Been Gone‚” “Roar\,” “Baby One More Time\,” “Larger Than Life‚” “That’s The Way It Is\,“ and “Can’t Stop the Feeling!”—all from the genius songwriter/producer behind more #1 hits than any other artist this century. Break free of the balcony scene and get into this romantic comedy that proves there’s life after Romeo. The only thing tragic would be missing it. \nPerformance Schedule:\nTuesday\, May 19\, 2026 – 7:30 p.m.\nWednesday\, May 20\, 2026 – 7:30 p.m.\nThursday\, May 21\, 2026 – 7:30 p.m.\nFriday\, May 22\, 2026 – 7:30 p.m.\nSaturday\, May 23\, 2026 – 2:00 & 7:30 p.m.\nSunday\, May 24\, 2026 – 1:00 & 6:30 p.m.
URL:https://bhamnow.com/bhamn-event/juliet/2026-05-19/
LOCATION:BJCC Concert Hall\, 2100 Richard Arrington Blvd N\, Birmingham\, AL\, 35203\, United States
CATEGORIES:Events
ATTACH;FMTTYPE=image/jpeg:https://bhamnow.com/wp-content/uploads/2025/05/Teal-Wicks-and-Rachel-Simone-Webb-in-the-North-American-Tour-of-JULIET-Photo-Credit-Matthew-Murphy-scaled.jpg
GEO:33.5249488;-86.8082265
X-APPLE-STRUCTURED-LOCATION;VALUE=URI;X-ADDRESS=BJCC Concert Hall 2100 Richard Arrington Blvd N Birmingham AL 35203 United States;X-APPLE-RADIUS=500;X-TITLE=2100 Richard Arrington Blvd N:geo:-86.8082265,33.5249488
END:VEVENT
BEGIN:VEVENT
DTSTART;TZID=America/Chicago:20260523T130000
DTEND;TZID=America/Chicago:20260523T200000
DTSTAMP:20260421T075059
CREATED:20260327T163718Z
LAST-MODIFIED:20260327T163718Z
UID:10096981-1779541200-1779566400@bhamnow.com
SUMMARY:205 Festival
DESCRIPTION:205 Day Festival is bringing the energy of Birmingham to life this Memorial Day weekend at Sloss Furnaces. This community-driven festival celebrates the culture\, creativity\, and entrepreneurial spirit that makes Birmingham unique. Designed for both families and young adults\, 205 Day blends music\, local business\, and interactive experiences into one unforgettable day. Guests can enjoy live DJs\, hosts\, and curated entertainment throughout the day\, along with a variety of local vendors and food trucks showcasing some of the city’s best small businesses. A dedicated kid-friendly zone will feature games\, face painting\, and activities for all ages\, making it a true all-day experience for the entire community. With an expected attendance of over 1\,500 people\, 205 Day Festival is more than just an event—it’s a celebration of Birmingham’s identity and a platform to support and spotlight local entrepreneurs. Whether you’re coming for the music\, the food\, or the community atmosphere\, 205 Day is all about bringing the city together in a positive\, high-energy environment.
URL:https://bhamnow.com/bhamn-event/205-festival/
LOCATION:Sloss Furnaces National Historic Landmark\, 20 32nd Street North\, Birmingham\, AL\, 35222\, United States
CATEGORIES:Community,Downtown,Events,Family Festival
ATTACH;FMTTYPE=image/jpeg:https://bhamnow.com/wp-content/uploads/2026/03/651009677_2950650891800113_9206776434052231602_n.jpg
GEO:33.520808;-86.7906316
X-APPLE-STRUCTURED-LOCATION;VALUE=URI;X-ADDRESS=Sloss Furnaces National Historic Landmark 20 32nd Street North Birmingham AL 35222 United States;X-APPLE-RADIUS=500;X-TITLE=20 32nd Street North:geo:-86.7906316,33.520808
END:VEVENT
BEGIN:VEVENT
DTSTART;TZID=America/Chicago:20260603T180000
DTEND;TZID=America/Chicago:20260603T200000
DTSTAMP:20260421T075059
CREATED:20260331T191235Z
LAST-MODIFIED:20260331T191235Z
UID:10097450-1780509600-1780516800@bhamnow.com
SUMMARY:The Big Run 5K presented by Brooks - Fleet Feet Birmingham
DESCRIPTION:https://runsignup.com/Race/AL/Hoover/TheBigRunBirmingham \nCelebrate five decades of running with Fleet Feet at The Big Run presented by Brooks. This community 5K on Global Running Day is all about summer vibes\, shared memories and the kind of runner’s high that keeps you coming back. \nThe 2026 race will take place at Veterans Park in Hoover and will start at 6pm. Come early to hang and visit our vendors and stay after for an after party to celebrate your run and enjoy a good time! \nThe 5K is chip timed and the course will be the Spain Park cross country course. All finishers will receive an exclusive Big Run 5k race medal. The top three finishers in each age group will also be awarded courtesy of Fleet Feet Birmingham and Brooks. \nRegister today for The Big Run and let the good miles roll!\nhttps://runsignup.com/Race/AL/Hoover/TheBigRunBirmingham
URL:https://bhamnow.com/bhamn-event/the-big-run-5k-presented-by-brooks-fleet-feet-birmingham/
LOCATION:– Veterans Park on Valleydale 4800 Valleydale Road Hoover AL 35242
CATEGORIES:Community,Events,Family Friendly Programs,Fun Outside,Fundraiser,Health and Wellness,Running,Sports,Walk,Wellness
ATTACH;FMTTYPE=image/jpeg:https://bhamnow.com/wp-content/uploads/2026/03/Big-Run-2026.jpg
END:VEVENT
BEGIN:VEVENT
DTSTART;TZID=America/Chicago:20260620T160000
DTEND;TZID=America/Chicago:20260620T200000
DTSTAMP:20260421T075059
CREATED:20260323T173054Z
LAST-MODIFIED:20260323T173054Z
UID:10093067-1781971200-1781985600@bhamnow.com
SUMMARY:3rd Annual Birmingham Full Figured Fashion Week
DESCRIPTION:It’s back! The 3rd Annual Birmingham Full Figured Fashion Week \, “The HOMECOMING Edition” 👑✨️🎊 \n🎟 Purchase your tickets by clicking the link 👇🏾 \n🔗 https://ticketstripe.com/events/947108534144060\nBecome A Vendor by clicking the link ⬇️\n🔗 https://ticketstripe.com/events/3177108538976708\n📆 When: Saturday\, June 20\, 2026\n🕑 Time: Starting at 4 p.m.\n📍Location: Southern Museum of Flight 4343 73rd St N Birmingham\, AL 35206 \nPurchase your tickets today for one of The Hottest 🔥 events of the year!\nYou will be amazed at what we have in store for you. \n#BirminghamFullFiguredFashionWeek #BFFFW #FashionWeek #Fashion #Birmingham #Alabama #HugeEvent #Event #bodypositivity #inclusion #growthmindset #love
URL:https://bhamnow.com/bhamn-event/3rd-annual-birmingham-full-figured-fashion-week/
CATEGORIES:Dance Performance,Educational,EDUCATIONAL EVENT,Events,Family Friendly Programs,Featured Event,Fundraiser,In-Person Events,Local Events,Meet & Greet,Music at the Museum,Special Events
ATTACH;FMTTYPE=image/png:https://bhamnow.com/wp-content/uploads/2026/03/Red-and-Yellow-Football-Match-Facebook-Post_20260313_185823_0000.png
END:VEVENT
END:VCALENDAR