BEGIN:VCALENDAR
VERSION:2.0
PRODID:-//Bham Now - ECPv6.15.20//NONSGML v1.0//EN
CALSCALE:GREGORIAN
METHOD:PUBLISH
X-WR-CALNAME:Bham Now
X-ORIGINAL-URL:https://bhamnow.com
X-WR-CALDESC:Events for Bham Now
REFRESH-INTERVAL;VALUE=DURATION:PT1H
X-Robots-Tag:noindex
X-PUBLISHED-TTL:PT1H
BEGIN:VTIMEZONE
TZID:America/Chicago
BEGIN:DAYLIGHT
TZOFFSETFROM:-0600
TZOFFSETTO:-0500
TZNAME:CDT
DTSTART:20240310T080000
END:DAYLIGHT
BEGIN:STANDARD
TZOFFSETFROM:-0500
TZOFFSETTO:-0600
TZNAME:CST
DTSTART:20241103T070000
END:STANDARD
BEGIN:DAYLIGHT
TZOFFSETFROM:-0600
TZOFFSETTO:-0500
TZNAME:CDT
DTSTART:20250309T080000
END:DAYLIGHT
BEGIN:STANDARD
TZOFFSETFROM:-0500
TZOFFSETTO:-0600
TZNAME:CST
DTSTART:20251102T070000
END:STANDARD
BEGIN:DAYLIGHT
TZOFFSETFROM:-0600
TZOFFSETTO:-0500
TZNAME:CDT
DTSTART:20260308T080000
END:DAYLIGHT
BEGIN:STANDARD
TZOFFSETFROM:-0500
TZOFFSETTO:-0600
TZNAME:CST
DTSTART:20261101T070000
END:STANDARD
END:VTIMEZONE
BEGIN:VEVENT
DTSTART;TZID=America/Chicago:20250412T140000
DTEND;TZID=America/Chicago:20250412T170000
DTSTAMP:20260421T104732
CREATED:20250318T010016Z
LAST-MODIFIED:20250412T063010Z
UID:10079410-1744466400-1744477200@bhamnow.com
SUMMARY:Hello Spring Cookie Decorating Class
DESCRIPTION:Join us for a delightful Spring cookie decorating party! We will transform 6 plain cookies into colorful spring themed masterpieces! Gather your friends and family and come create. This Class is very beginner friendly\, and we will have door prizes and snacks aswell.
URL:https://bhamnow.com/bhamn-event/hello-spring-cookie-decorating-class/
LOCATION:University Pickers – Huntsville\, 3405 Triana Blvd sw\, Huntsville\, AL\, 35805\, United States
CATEGORIES:Community,Cookie Class,Fun
ATTACH;FMTTYPE=image/jpeg:https://bhamnow.com/wp-content/uploads/2025/03/hello-spring-cookie-class-nnYvL1.tmp_.jpg
GEO:34.7032173;-86.6091403
X-APPLE-STRUCTURED-LOCATION;VALUE=URI;X-ADDRESS=University Pickers – Huntsville 3405 Triana Blvd sw Huntsville AL 35805 United States;X-APPLE-RADIUS=500;X-TITLE=3405 Triana Blvd sw:geo:-86.6091403,34.7032173
END:VEVENT
BEGIN:VEVENT
DTSTART;TZID=America/Chicago:20250323T140000
DTEND;TZID=America/Chicago:20250323T170000
DTSTAMP:20260421T104732
CREATED:20250217T234506Z
LAST-MODIFIED:20250323T014003Z
UID:10076864-1742738400-1742749200@bhamnow.com
SUMMARY:Easter Cookie Decorating Class
DESCRIPTION:Join us for Otter’s Cookie Shack second Class with us! This is a laid-back beginner’s cookie decorating class where she will give you step by step instructions on how to decorate adorable Easter cookies. YOU DO NOT NEED TO HAVE ANY EXPERIENCE. You will leave with 7 cookies decorated all by you with 5 colors! We will be decorating the letters H\,O\,P and 4 bunny peeps. Everything provided including royal icing transfers. \nThe first Class Sold out so don’t hesitate to get a seat.
URL:https://bhamnow.com/bhamn-event/easter-cookie-decorating-class/
LOCATION:University Pickers – Huntsville\, 3405 Triana Blvd sw\, Huntsville\, AL\, 35805\, United States
CATEGORIES:Cookie Class,Fun
ATTACH;FMTTYPE=image/jpeg:https://bhamnow.com/wp-content/uploads/2025/02/easter-cookie-class-GoynnG.tmp_.jpg
GEO:34.7032173;-86.6091403
X-APPLE-STRUCTURED-LOCATION;VALUE=URI;X-ADDRESS=University Pickers – Huntsville 3405 Triana Blvd sw Huntsville AL 35805 United States;X-APPLE-RADIUS=500;X-TITLE=3405 Triana Blvd sw:geo:-86.6091403,34.7032173
END:VEVENT
END:VCALENDAR