BEGIN:VCALENDAR
VERSION:2.0
PRODID:-//Bham Now - ECPv6.15.20//NONSGML v1.0//EN
CALSCALE:GREGORIAN
METHOD:PUBLISH
X-WR-CALNAME:Bham Now
X-ORIGINAL-URL:https://bhamnow.com
X-WR-CALDESC:Events for Bham Now
REFRESH-INTERVAL;VALUE=DURATION:PT1H
X-Robots-Tag:noindex
X-PUBLISHED-TTL:PT1H
BEGIN:VTIMEZONE
TZID:America/Chicago
BEGIN:DAYLIGHT
TZOFFSETFROM:-0600
TZOFFSETTO:-0500
TZNAME:CDT
DTSTART:20240310T080000
END:DAYLIGHT
BEGIN:STANDARD
TZOFFSETFROM:-0500
TZOFFSETTO:-0600
TZNAME:CST
DTSTART:20241103T070000
END:STANDARD
BEGIN:DAYLIGHT
TZOFFSETFROM:-0600
TZOFFSETTO:-0500
TZNAME:CDT
DTSTART:20250309T080000
END:DAYLIGHT
BEGIN:STANDARD
TZOFFSETFROM:-0500
TZOFFSETTO:-0600
TZNAME:CST
DTSTART:20251102T070000
END:STANDARD
BEGIN:DAYLIGHT
TZOFFSETFROM:-0600
TZOFFSETTO:-0500
TZNAME:CDT
DTSTART:20260308T080000
END:DAYLIGHT
BEGIN:STANDARD
TZOFFSETFROM:-0500
TZOFFSETTO:-0600
TZNAME:CST
DTSTART:20261101T070000
END:STANDARD
END:VTIMEZONE
BEGIN:VEVENT
DTSTART;TZID=America/Chicago:20250415T143000
DTEND;TZID=America/Chicago:20250415T143000
DTSTAMP:20260423T065745
CREATED:20250115T192053Z
LAST-MODIFIED:20250415T063521Z
UID:10074529-1744727400-1744727400@bhamnow.com
SUMMARY:Amos Lee Transmissions Spring 2025 Tour with special guest Emily Elbert
DESCRIPTION:Buy Tickets\nPlan Your Visit \n \nDoors open 6:30 p.m.\, show at 7:30 p.m.
URL:https://bhamnow.com/bhamn-event/amos-lee-transmissions-spring-2025-tour/
LOCATION:Alabama Theatre\, 1817 3rd Ave North\, Birmingham\, AL\, 35203\, United States
CATEGORIES:Concerts,Downtown,Fun
ATTACH;FMTTYPE=image/jpeg:https://alabamatheatre.com/wp-content/uploads/Amos-Lee-1024x1024.jpg
GEO:33.5148887;-86.8090934
X-APPLE-STRUCTURED-LOCATION;VALUE=URI;X-ADDRESS=Alabama Theatre 1817 3rd Ave North Birmingham AL 35203 United States;X-APPLE-RADIUS=500;X-TITLE=1817 3rd Ave North:geo:-86.8090934,33.5148887
END:VEVENT
BEGIN:VEVENT
DTSTART;TZID=America/Chicago:20250408T143000
DTEND;TZID=America/Chicago:20250408T143000
DTSTAMP:20260423T065745
CREATED:20250205T210529Z
LAST-MODIFIED:20250408T044529Z
UID:10075492-1744122600-1744122600@bhamnow.com
SUMMARY:My Morning Jacket “is” On Tour presented by Birmingham Mountain Radio
DESCRIPTION:Buy Tickets\nPlan Your Visit \n \nDoors open 6:30 p.m.\, show at 7:30 p.m. \nMy Morning Jacket’s 10th studio album and first full-length new collection in more than three years\, is arrives via ATO Records on Friday\, March 21. Produced by 3x GRAMMY® Award-winner Brendan O’Brien (Bruce Springsteen\, Pearl Jam)\, the album is heralded by the ravishing lead single\, “Time Waited\,” available everywhere now. An official music video\, directed by famed photographer/filmmaker Danny Clinch and featuring new performance footage interspersed with archival photos from throughout the band’s history\, is streaming now on YouTube. \nFor more than 25 years\, My Morning Jacket have achieved an incredibly rare feat in the world of rock ‘n’ roll – upholding a long-established cultural legacy while sustaining all the curiosity and creative hunger of their very earliest days. In a monumental step for the Louisville\, KY-bred five-piece – vocalist/guitarist Jim James\, bassist Tom Blankenship\, guitarist Carl Broemel\, drummer Patrick Hallahan\, keyboardist Bo Koster – is once again expands the limits of their sound and elevates their artistry to unprecedented heights. The result is perhaps the most masterfully realized work yet from a band fully committed to their belief in music as a conduit for revelation of all kinds. \n“I like how the word “is” indicates a sense of presence in the now – there’s no logic or rationale behind this record; it just is\,” says James. “All these songs came into existence out of an attempt to connect with something beyond the human experiment\, which for me is the whole purpose of music – that connection with something larger than us\, yet something we are all equally a part of.” \nis – which arrives as My Morning Jacket celebrates the 20th anniversary of their 2005’s landmark Z\, a lavishly acclaimed collection named by Rolling Stone among “The 500 Greatest Albums of All Time” – represents another milestone in the band’s ever-evolving body of work\, as well as an opportunity to breathe new energy into their historically stunning and hard-driving live performances. James points to the “undeniable force of loving” as the most essential factor in the band’s longevity and unending enchantment with the process of musical creation. \nPlan Your Visit to view the seating chart\, see nearby restaurants and hotels.\n\n\n\nParking Info:\nThe Alabama Theatre is not responsible for parking and does not provide any free parking.\nParking meters are free after 6pm on weekdays and all day on Saturday and Sunday.\nPlease be aware of tow-away zones. Lots marked “permit parking only” are tow-away zones and they will tow your vehicle at your expense.
URL:https://bhamnow.com/bhamn-event/my-morning-jacket-is-on-tour-presented-by-birmingham-mountain-radio/
LOCATION:Alabama Theatre\, 1817 3rd Ave North\, Birmingham\, AL\, 35203\, United States
CATEGORIES:Concerts,Downtown,Fun
ATTACH;FMTTYPE=image/jpeg:https://alabamatheatre.com/wp-content/uploads/MMJ-Press-Photo-1024x683.jpg
GEO:33.5148887;-86.8090934
X-APPLE-STRUCTURED-LOCATION;VALUE=URI;X-ADDRESS=Alabama Theatre 1817 3rd Ave North Birmingham AL 35203 United States;X-APPLE-RADIUS=500;X-TITLE=1817 3rd Ave North:geo:-86.8090934,33.5148887
END:VEVENT
BEGIN:VEVENT
DTSTART;TZID=America/Chicago:20250330T190000
DTEND;TZID=America/Chicago:20250330T213000
DTSTAMP:20260423T065745
CREATED:20241022T210803Z
LAST-MODIFIED:20241022T210803Z
UID:10069677-1743361200-1743370200@bhamnow.com
SUMMARY:The Drifters & Cornell Gunter’s Coasters
DESCRIPTION:It’s not a concert…it’s a party! Spend a nostalgic evening saluting two of the world’s most beloved musical groups who were instrumental in creating the Rock & Roll/Doo Wop sound:  \nCornell Gunter’s Coasters: Known for hits like “Charlie Brown\,” “Yakety Yak\,” and “Poison Ivy\,” this group brings a comedic flair to their performances that will have you reminiscing about the golden age of Rock & Roll.  \nThe Drifters: One of Rock & Roll’s founding vocal groups\, The Drifters are touring the U.S. again under the auspices of their original management team. With a 50-year catalog of hits such as “Under the Boardwalk\,” “Up on the Roof\,” “This Magic Moment\,” and “On Broadway\,” they deliver a timeless sound that continues to resonate with audiences.  \nCombined\, these two Rock & Roll Hall of Fame groups have been associated with well over forty of the top classic songs in Rock & Roll history. From “Under the Boardwalk” to “Yakety Yak\,” very few artists can boast a richer musical resume. With such incredible musical diversity—from the comedy of Cornell Gunter’s Coasters to the Motown magic of The Drifters—this show has songs to please every palate\, delivered just the way you remember them when you first heard them on the radio.
URL:https://bhamnow.com/bhamn-event/the-drifters-cornell-gunters-coasters/
LOCATION:Alys Stephens Center\, Jemison Concert Hall\, 1200 10th Avenue South\, Birmingham\, AL\, 35294\, United States
CATEGORIES:Concert,Concerts,Downtown,Events,Music
ATTACH;FMTTYPE=image/jpeg:https://bhamnow.com/wp-content/uploads/2024/10/Drifters-Coasters_Web-Art-1190x680-1.jpg
GEO:33.4971186;-86.8078397
X-APPLE-STRUCTURED-LOCATION;VALUE=URI;X-ADDRESS=Alys Stephens Center Jemison Concert Hall 1200 10th Avenue South Birmingham AL 35294 United States;X-APPLE-RADIUS=500;X-TITLE=1200 10th Avenue South:geo:-86.8078397,33.4971186
END:VEVENT
BEGIN:VEVENT
DTSTART;TZID=America/Chicago:20250329T190000
DTEND;TZID=America/Chicago:20250329T203000
DTSTAMP:20260423T065745
CREATED:20250124T190113Z
LAST-MODIFIED:20250124T190121Z
UID:10074667-1743274800-1743280200@bhamnow.com
SUMMARY:Newsboys Worldwide Revival Night
DESCRIPTION:Join us in welcoming Newsboys to Samford University’s Wright Center on March 29! Newsboys have released countless hits\, explored the universe of books and film\, and traveled millions of miles to bring their live show to as many corners of the world as possible; all while in constant pursuit of their calling. Hits like “We Believe\,” “Magnetic\,” “Born Again\,” and Platinum-certified mega hit “God’s Not Dead” have defined the group’s career. Get your tickets now before they are gone!
URL:https://bhamnow.com/bhamn-event/newsboys-worldwide-revival-night/
LOCATION:Leslie S. Wright Fine Arts Center\, Birmingham
CATEGORIES:Concert,Concerts,Local Events,Music
END:VEVENT
BEGIN:VEVENT
DTSTART;TZID=America/Chicago:20250322T143000
DTEND;TZID=America/Chicago:20250322T143000
DTSTAMP:20260423T065745
CREATED:20250108T184543Z
LAST-MODIFIED:20250322T013522Z
UID:10074478-1742653800-1742653800@bhamnow.com
SUMMARY:An Acoustic Evening with Trey Anastasio
DESCRIPTION:Buy Tickets\nPlan Your Visit \n \nDoors open at 6:30 p.m.\, show at 7:30 p.m.\n\nPlan Your Visit to view the seating chart\, see nearby restaurants and hotels.\n\n\n\nParking Info:\nThe Alabama Theatre is not responsible for parking and does not provide any free parking.\nParking meters are free after 6pm on weekdays and all day on Saturday and Sunday.\nPlease be aware of tow-away zones. Lots marked “permit parking only” are tow-away zones and they will tow your vehicle at your expense.
URL:https://bhamnow.com/bhamn-event/an-acoustic-evening-with-trey-anastasio/
LOCATION:Alabama Theatre\, 1817 3rd Ave North\, Birmingham\, AL\, 35203\, United States
CATEGORIES:Concerts,Downtown,Fun
ATTACH;FMTTYPE=image/jpeg:https://alabamatheatre.com/wp-content/uploads/Static_SocialPhoto-IGFEED_1080x1080_TreyAnastasio_2025-1024x1024.jpg
GEO:33.5148887;-86.8090934
X-APPLE-STRUCTURED-LOCATION;VALUE=URI;X-ADDRESS=Alabama Theatre 1817 3rd Ave North Birmingham AL 35203 United States;X-APPLE-RADIUS=500;X-TITLE=1817 3rd Ave North:geo:-86.8090934,33.5148887
END:VEVENT
BEGIN:VEVENT
DTSTART;TZID=America/Chicago:20250318T190000
DTEND;TZID=America/Chicago:20250318T200000
DTSTAMP:20260423T065745
CREATED:20240920T153752Z
LAST-MODIFIED:20240920T153752Z
UID:10066212-1742324400-1742328000@bhamnow.com
SUMMARY:Young Concert Artists Series: Michael Yeung
DESCRIPTION:Meet Michael Yeung\, a versatile percussion artist celebrated worldwide for his dynamic performances spanning solo recitals\, chamber music\, and orchestral engagements. From the stages of the United States\, Europe\, to Asia\, Michael’s career showcases a diverse repertoire from Baroque classics to contemporary masterpieces. As a member of the renowned Percussion Collective\, he premiered Alejandro Viñao’s “Poems and Prayers\,” sharing stages with today’s top percussionists. Trained under percussion luminary Robert van Sice at Yale School of Music\, Michael is the second percussionist ever selected for the prestigious Artist Diploma program. Passionate about education\, he nurtures young talent in Hong Kong and curates innovative percussion productions\, including collaborations with TEDx and Emmy Award-winning composer Garth Neustadter’s “Seaborne\,” celebrating our oceans through multimedia concerts.
URL:https://bhamnow.com/bhamn-event/young-concert-artists-series-michael-yeung/
LOCATION:Alys Stephens Center\, Jemison Concert Hall\, 1200 10th Avenue South\, Birmingham\, AL\, 35294\, United States
CATEGORIES:Art,Arts,Concert,Concerts,Downtown,Events,Music,Special Event,Uab
ATTACH;FMTTYPE=image/jpeg:https://bhamnow.com/wp-content/uploads/2024/09/Michael-Yeung_1920x1080-scaled.jpg
GEO:33.4971186;-86.8078397
X-APPLE-STRUCTURED-LOCATION;VALUE=URI;X-ADDRESS=Alys Stephens Center Jemison Concert Hall 1200 10th Avenue South Birmingham AL 35294 United States;X-APPLE-RADIUS=500;X-TITLE=1200 10th Avenue South:geo:-86.8078397,33.4971186
END:VEVENT
END:VCALENDAR