BEGIN:VCALENDAR
VERSION:2.0
PRODID:-//Bham Now - ECPv6.15.20//NONSGML v1.0//EN
CALSCALE:GREGORIAN
METHOD:PUBLISH
X-WR-CALNAME:Bham Now
X-ORIGINAL-URL:https://bhamnow.com
X-WR-CALDESC:Events for Bham Now
REFRESH-INTERVAL;VALUE=DURATION:PT1H
X-Robots-Tag:noindex
X-PUBLISHED-TTL:PT1H
BEGIN:VTIMEZONE
TZID:America/Chicago
BEGIN:DAYLIGHT
TZOFFSETFROM:-0600
TZOFFSETTO:-0500
TZNAME:CDT
DTSTART:20240310T080000
END:DAYLIGHT
BEGIN:STANDARD
TZOFFSETFROM:-0500
TZOFFSETTO:-0600
TZNAME:CST
DTSTART:20241103T070000
END:STANDARD
BEGIN:DAYLIGHT
TZOFFSETFROM:-0600
TZOFFSETTO:-0500
TZNAME:CDT
DTSTART:20250309T080000
END:DAYLIGHT
BEGIN:STANDARD
TZOFFSETFROM:-0500
TZOFFSETTO:-0600
TZNAME:CST
DTSTART:20251102T070000
END:STANDARD
BEGIN:DAYLIGHT
TZOFFSETFROM:-0600
TZOFFSETTO:-0500
TZNAME:CDT
DTSTART:20260308T080000
END:DAYLIGHT
BEGIN:STANDARD
TZOFFSETFROM:-0500
TZOFFSETTO:-0600
TZNAME:CST
DTSTART:20261101T070000
END:STANDARD
BEGIN:DAYLIGHT
TZOFFSETFROM:-0600
TZOFFSETTO:-0500
TZNAME:CDT
DTSTART:20270314T080000
END:DAYLIGHT
BEGIN:STANDARD
TZOFFSETFROM:-0500
TZOFFSETTO:-0600
TZNAME:CST
DTSTART:20271107T070000
END:STANDARD
END:VTIMEZONE
BEGIN:VEVENT
DTSTART;TZID=America/Chicago:20260411T120000
DTEND;TZID=America/Chicago:20260411T210000
DTSTAMP:20260419T211231
CREATED:20260223T165911Z
LAST-MODIFIED:20260223T165911Z
UID:10092715-1775908800-1775941200@bhamnow.com
SUMMARY:Festa Italiana
DESCRIPTION:Experience the vibrant sights\, irresistible flavors\, and rich traditions of Italy in the heart of Birmingham at the third annual Festa Italiana\, hosted by the Italian American Heritage Society. Join us on Saturday\, April 11\, 2026 from 12 to 9 p.m. at the historic Sloss Furnaces (20 32nd St. N.\, Birmingham\, AL 35222) for a full day celebrating Italian culture\, community\, and heritage. After two successful\, sold-out years\, Festa Italiana returns bigger and more flavorful than ever—inviting guests of all ages to eat\, sip\, and stroll their way through an unforgettable Italian experience right here in Birmingham.\nFesta Italiana aims to immerse attendees in all aspects of Italian life\, from traditions and cuisine to language\, music\, and history. Whether Italian by blood or simply Italian at heart\, all are welcome. Guests can enjoy live music\, traditional dancing\, cooking demonstrations\, grape stomping\, bocce ball\, the Sugo Showdown\, an Italian auto display\, roving cannoli makers\, immersive cultural experiences\, and a lively evening procession honoring Italy’s patron saints.\nCompetitions are free and open for advance registration online. The Lakeshore Foundation Bocce Ball Tournament will feature a 32-person\, single-elimination bracket with trophies and prizes awarded to winners\, followed by open play. The crowd-favorite “Spina Stomp” Grape Stomping Competition returns with high-energy\, timed heats as teams compete to extract the most juice using only their bare feet. The Sugo Showdown will once again crown the city’s finest sauce\, with judging beginning at 11:15 a.m. and winners announced at 2:15 p.m. on the main stage. A new People’s Choice Sugo will allow attendees to join in the fun.\nThe Bruno Rumore Foundation Food Village will fill the air with the aromas of sausage-and-pepper sandwiches\, fried dough\, pizza\, savory Italian dishes\, cannoli\, and gelato. Authentic vendors including Molay Brothers\, Tre Luna\, Graffeo Brothers Italian Sausage\, Villaggio Colafrancesco\, Slice Pizza & Brew\, Joe’s Italian\, Da Big Italian\, Uncle G’s Pizza\, Carrabba’s Italian Grill\, Arnone’s Italian Sausage\, Pazzo Big Slice Pizza\, and Feast Catering & Culinary Kitchen will deliver a true taste of Italy. Cooking demonstrations and the Sugo Cook-Off will take place under the big tent at the Galbani Cooking Stage.\nIn the Festa Italiana Villaggio Culturale\, guests can explore a charming replica of an Italian village featuring a fountain\, church\, bakery\, museum\, and twinkling lights. Resources on ancestry research and dual citizenship will be available\, along with the Spina “Vineria” wine bar and the Italian American Heritage Society booth. The Festa Mercato Marketplace will offer Italian cookies\, olive oils\, fashion\, jewelry\, art\, home décor\, and specialty gifts.\nLa Musica d’Italia\, presented by Coca-Cola\, will showcase Italian favorites and traditional dances on the main stage. Performances will include the Montevallo Jazz Band\, The Suteras\, Crooner Matt Scalici\, headliner Joe Scalissi’s “Dean Martin Happy Hour” tribute\, and the Very Ranelli Dance Band. As the evening concludes\, festivalgoers will gather to dance the traditional Che La Luna.\nFamilies can visit the Festa Villaggio dei Bambini\, featuring games\, bouncy houses\, and hands-on activities designed especially for children. Scholarship winners will be recognized on the main stage\, and one lucky attendee will have the opportunity to win an eight- or nine-night trip for two to Italy\, valued at $13\,800\, through a donation raffle. Raffle tickets are $50 and may be purchased online or at the Italian American Heritage Society booth inside the Cultural Village.\nAdvanced general admission tickets are $10 and may be purchased at www.festaitalianabham.com. Day-of-event tickets are $15. Children 10 and under receive free admission. General admission includes entry only and does not include food or beverages. Attendees are encouraged to purchase tickets and register for competitions in advance.
URL:https://bhamnow.com/bhamn-event/festa-italiana-3/
LOCATION:Sloss Furnaces\, 20 32nd St N\, Birmingham\, AL\, United States
CATEGORIES:Coming Soon,Downtown,Family Days,Family Friendly Programs,Fun Outside,Local Events,Mini-festivals,Soothing Saturday,Special Events
ATTACH;FMTTYPE=image/png:https://bhamnow.com/wp-content/uploads/2026/02/Screen-Shot-2026-02-18-at-2.57.50-PM.png
GEO:33.520808;-86.7906316
X-APPLE-STRUCTURED-LOCATION;VALUE=URI;X-ADDRESS=Sloss Furnaces 20 32nd St N Birmingham AL United States;X-APPLE-RADIUS=500;X-TITLE=20 32nd St N:geo:-86.7906316,33.520808
END:VEVENT
BEGIN:VEVENT
DTSTART;TZID=America/Chicago:20260214T180000
DTEND;TZID=America/Chicago:20260214T200000
DTSTAMP:20260419T211231
CREATED:20260120T191421Z
LAST-MODIFIED:20260126T181953Z
UID:10091570-1771092000-1771099200@bhamnow.com
SUMMARY:Valentine with Vulcan
DESCRIPTION:Fall in Love Under the Stars with Vulcan! Celebrate Valentine’s Day with an unforgettable evening atop Red Mountain at Vulcan Park & Museum! Treat your sweetheart to Valentine with Vulcan\, a romantic indoor celebration held in the Electra Room\, featuring dinner\, drinks\, dancing\, and live music. Join us Saturday\, February 14\, 2026\, from 6 PM to 8 PM\, for a night designed to delight. \nHere’s what’s in store for you and your Valentine:\n+Savor a delicious dinner provided by The Happy Catering Company\n+Two drink tickets per couple for wine or beer\n+Live music performed by the band The Twin Heart Trap\n+Curated Giveaways & Prizes\n+A complimentary champagne toast served in a keepsake Vulcan glass\n+Access to the Museum\, Park Grounds\, and stunning views from the Observation Tower \nTIME\n6 PM – 8 PM \nAdmission Prices\n+Non-members: $85 per couple\n+Members: $70 per couple \nImportant Notes:\n+*This event is for adults only\, ages 21 and older.\n+One (1) ticket is valid for two (2) guests.\n+Guests must present a valid photo ID to be served alcoholic beverages.\n+Tickets must be pre-purchased online by 6:00 PM on Thursday\, February 12\, 2026.\n+No onsite/in-person tickets will be sold.
URL:https://bhamnow.com/bhamn-event/valentine-with-vulcan/
LOCATION:Vulcan Park and Museum\, 1701 Valley View Drive\, Birmingham\, 35209\, United States
CATEGORIES:Coming Soon,Music at the Museum,Speaking Event
ATTACH;FMTTYPE=image/jpeg:https://bhamnow.com/wp-content/uploads/2026/01/VALENTINE-_-1920X1080.jpg
GEO:33.49169921875;-86.795539855957
X-APPLE-STRUCTURED-LOCATION;VALUE=URI;X-ADDRESS=Vulcan Park and Museum 1701 Valley View Drive Birmingham 35209 United States;X-APPLE-RADIUS=500;X-TITLE=1701 Valley View Drive:geo:-86.795539855957,33.49169921875
END:VEVENT
BEGIN:VEVENT
DTSTART;TZID=America/Chicago:20260128T110000
DTEND;TZID=America/Chicago:20260128T133000
DTSTAMP:20260419T211231
CREATED:20260116T160026Z
LAST-MODIFIED:20260116T160026Z
UID:10089909-1769598000-1769607000@bhamnow.com
SUMMARY:Free APAC Adoption Info. Session - Lunch Included
DESCRIPTION:Free In-Person Event | Lunch Provided \nInterested in adoption but don’t know where to start? This informal adoption info session is designed for individuals and families who want to learn more about adopting from foster care in Alabama. \nDrop in\, grab a free lunch\, and talk with adoption professionals who can answer your questions and explain the free services APAC offers before\, during\, and after adoption. \n📅 January 28 | 11:00 AM–1:30 PM\n📍 Birmingham\, AL\n🆓 Free to attend | 🍴 Lunch included
URL:https://bhamnow.com/bhamn-event/free-apac-adoption-info-session-lunch-included/
LOCATION:AL
CATEGORIES:Coming Soon,Community,Featured Event
ATTACH;FMTTYPE=image/png:https://bhamnow.com/wp-content/uploads/2026/01/APAC-Adoption-Info-Session-Event-Cover-1.png
END:VEVENT
BEGIN:VEVENT
DTSTART;TZID=America/Chicago:20251220T193000
DTEND;TZID=America/Chicago:20251220T220000
DTSTAMP:20260419T211231
CREATED:20260102T170347Z
LAST-MODIFIED:20260102T170347Z
UID:10088734-1766259000-1766268000@bhamnow.com
SUMMARY:Camp Creator: A New Musical
DESCRIPTION:Joe Kendrick presents “Camp Creator” at Homewood Theatre – a staged reading of a new musical featuring talented local artists!\nCamp Creator follows the story of a teen girl who gets the opportunity to attend “Camp Creator”\, a summer camp all about honing students artistic creations.\nThis show is family friendly and open to all ages!
URL:https://bhamnow.com/bhamn-event/camp-creator-a-new-musical/2025-12-20/
LOCATION:AL
CATEGORIES:Arts,Coming Soon,Concert,Events,Music
ATTACH;FMTTYPE=image/png:https://bhamnow.com/wp-content/uploads/2025/12/Landscape-Edit.png
END:VEVENT
BEGIN:VEVENT
DTSTART;TZID=America/Chicago:20250315T080000
DTEND;TZID=America/Chicago:20250315T120000
DTSTAMP:20260419T211231
CREATED:20250226T195548Z
LAST-MODIFIED:20250226T195548Z
UID:10077108-1742025600-1742040000@bhamnow.com
SUMMARY:The Bell Center 5K & Children's Run
DESCRIPTION:Lace up your running shoes to make a difference in the lives of infants and toddlers with disabilities! The 2025 Bell Center 5K is a community-oriented race benefiting The Bell Center\, which provides vital early intervention therapy for hundreds of children across Alabama. This family-friendly event is not just about the thrill of crossing the finish line; it’s about creating lasting impacts and fostering a more inclusive and supportive community. \nRegister at: https://runsignup.com/2025bellcenter5k
URL:https://bhamnow.com/bhamn-event/the-bell-center-5k-childrens-run/
LOCATION:The Bell Center\, 1700 29th Ct S\, Birmingham\, United States
CATEGORIES:Coming Soon,Community,Early Childhood,Events,Family Days,Featured Event,Fun Outside,Fundraiser
ATTACH;FMTTYPE=image/jpeg:https://bhamnow.com/wp-content/uploads/2025/02/IMG_8104-scaled.jpg
END:VEVENT
END:VCALENDAR