BEGIN:VCALENDAR
VERSION:2.0
PRODID:-//Bham Now - ECPv6.15.20//NONSGML v1.0//EN
CALSCALE:GREGORIAN
METHOD:PUBLISH
X-ORIGINAL-URL:https://bhamnow.com
X-WR-CALDESC:Events for Bham Now
REFRESH-INTERVAL;VALUE=DURATION:PT1H
X-Robots-Tag:noindex
X-PUBLISHED-TTL:PT1H
BEGIN:VTIMEZONE
TZID:America/Chicago
BEGIN:DAYLIGHT
TZOFFSETFROM:-0600
TZOFFSETTO:-0500
TZNAME:CDT
DTSTART:20250309T080000
END:DAYLIGHT
BEGIN:STANDARD
TZOFFSETFROM:-0500
TZOFFSETTO:-0600
TZNAME:CST
DTSTART:20251102T070000
END:STANDARD
BEGIN:DAYLIGHT
TZOFFSETFROM:-0600
TZOFFSETTO:-0500
TZNAME:CDT
DTSTART:20260308T080000
END:DAYLIGHT
BEGIN:STANDARD
TZOFFSETFROM:-0500
TZOFFSETTO:-0600
TZNAME:CST
DTSTART:20261101T070000
END:STANDARD
BEGIN:DAYLIGHT
TZOFFSETFROM:-0600
TZOFFSETTO:-0500
TZNAME:CDT
DTSTART:20270314T080000
END:DAYLIGHT
BEGIN:STANDARD
TZOFFSETFROM:-0500
TZOFFSETTO:-0600
TZNAME:CST
DTSTART:20271107T070000
END:STANDARD
END:VTIMEZONE
BEGIN:VEVENT
DTSTART;TZID=America/Chicago:20260606T173000
DTEND;TZID=America/Chicago:20260606T210000
DTSTAMP:20260424T150212
CREATED:20260424T153341Z
LAST-MODIFIED:20260424T153341Z
UID:10098091-1780767000-1780779600@bhamnow.com
SUMMARY:Mike Eskridge Legacy 5K
DESCRIPTION:Join the community for a fun-filled evening of food and drink\, music and dancing\, facepainting and balloons\, and\, of course\, a charity 5k. 100% of profits benefit the Mike Eskridge Foundation\, providing scholarships to local high school athletes in the Homewood/Birmingham and surrounding areas. Last year’s event had over 250 participants and raised nearly $60\,000 for the Foundation.\nJune 6th at 6PM\, Kid’s Dash begins at 5:30\nPurchasing a ticket grants entry to the race\, a t-shirt\, and a food and beer voucher\nStart and finish line is at the TrakShak in Downtown\, Homewood
URL:https://bhamnow.com/bhamn-event/mike-eskridge-legacy-5k/
LOCATION:The Trak Shak\, 2839 18th St S\, Birmingham\, AL\, 35209\, United States
CATEGORIES:Athletic Event,Beer,Community,Family,Fun Outside,Fundraiser,Health and Wellness,In-Person Events,Running,Volunteer Opportunities,Walk,Youth Support
ATTACH;FMTTYPE=image/png:https://bhamnow.com/wp-content/uploads/2026/04/Skridge26_EmailBanner600x200px.png
GEO:33.4799309;-86.791517
X-APPLE-STRUCTURED-LOCATION;VALUE=URI;X-ADDRESS=The Trak Shak 2839 18th St S Birmingham AL 35209 United States;X-APPLE-RADIUS=500;X-TITLE=2839 18th St S:geo:-86.791517,33.4799309
END:VEVENT
END:VCALENDAR